BEGIN:VCALENDAR
VERSION:2.0
PRODID:-//Future Faculty and Academic Careers - ECPv6.15.20//NONSGML v1.0//EN
CALSCALE:GREGORIAN
METHOD:PUBLISH
X-WR-CALNAME:Future Faculty and Academic Careers
X-ORIGINAL-URL:https://futurefaculty.cornell.edu
X-WR-CALDESC:Events for Future Faculty and Academic Careers
REFRESH-INTERVAL;VALUE=DURATION:PT1H
X-Robots-Tag:noindex
X-PUBLISHED-TTL:PT1H
BEGIN:VTIMEZONE
TZID:America/New_York
BEGIN:DAYLIGHT
TZOFFSETFROM:-0500
TZOFFSETTO:-0400
TZNAME:EDT
DTSTART:20170312T070000
END:DAYLIGHT
BEGIN:STANDARD
TZOFFSETFROM:-0400
TZOFFSETTO:-0500
TZNAME:EST
DTSTART:20171105T060000
END:STANDARD
BEGIN:DAYLIGHT
TZOFFSETFROM:-0500
TZOFFSETTO:-0400
TZNAME:EDT
DTSTART:20180311T070000
END:DAYLIGHT
BEGIN:STANDARD
TZOFFSETFROM:-0400
TZOFFSETTO:-0500
TZNAME:EST
DTSTART:20181104T060000
END:STANDARD
BEGIN:DAYLIGHT
TZOFFSETFROM:-0500
TZOFFSETTO:-0400
TZNAME:EDT
DTSTART:20190310T070000
END:DAYLIGHT
BEGIN:STANDARD
TZOFFSETFROM:-0400
TZOFFSETTO:-0500
TZNAME:EST
DTSTART:20191103T060000
END:STANDARD
END:VTIMEZONE
BEGIN:VEVENT
DTSTART;TZID=America/New_York:20181107T120000
DTEND;TZID=America/New_York:20181107T133000
DTSTAMP:20260423T001413
CREATED:20180809T010658Z
LAST-MODIFIED:20221003T200317Z
UID:10001720-1541592000-1541597400@futurefaculty.cornell.edu
SUMMARY:Interviewing and Negotiation for Academic Positions
DESCRIPTION:An important part of the job search is interviewing and then negotiating the offer. Come learn about the art of interviewing! Presenters: Yael Levitte\, Associate Vice Provost for Faculty Development and Diversity\, and Christine Holmes\, Director of Postdoctoral Studies. \nThis is a brown bag event – bring your own lunch\, and we will provide drinks and dessert. Co-sponsored by the Center for the Integration of Research\, Teaching\, and Learning (CIRTL at Cornell) and the Office of Postdoctoral Studies\, as part of the Academic Job Search Series. RSVPs requested.
URL:https://futurefaculty.cornell.edu/event/interviewing-and-negotiation-for-academic-positions/
LOCATION:Biotechnology Building\, 526 Campus Road\, Ithaca\, NY\, 14853\, United States
CATEGORIES:Future Faculty and Academic Careers
ATTACH;FMTTYPE=image/jpeg:https://futurefaculty.cornell.edu/wp-content/uploads/2018/08/36316644_905869322926807_8709859433343090688_o.jpg
GEO:42.4465542;-76.4783618
X-APPLE-STRUCTURED-LOCATION;VALUE=URI;X-ADDRESS=Biotechnology Building 526 Campus Road Ithaca NY 14853 United States;X-APPLE-RADIUS=500;X-TITLE=526 Campus Road:geo:-76.4783618,42.4465542
END:VEVENT
END:VCALENDAR