BEGIN:VCALENDAR
VERSION:2.0
PRODID:-//Future Faculty and Academic Careers - ECPv6.15.20//NONSGML v1.0//EN
CALSCALE:GREGORIAN
METHOD:PUBLISH
X-ORIGINAL-URL:https://futurefaculty.cornell.edu
X-WR-CALDESC:Events for Future Faculty and Academic Careers
REFRESH-INTERVAL;VALUE=DURATION:PT1H
X-Robots-Tag:noindex
X-PUBLISHED-TTL:PT1H
BEGIN:VTIMEZONE
TZID:America/New_York
BEGIN:DAYLIGHT
TZOFFSETFROM:-0500
TZOFFSETTO:-0400
TZNAME:EDT
DTSTART:20170312T070000
END:DAYLIGHT
BEGIN:STANDARD
TZOFFSETFROM:-0400
TZOFFSETTO:-0500
TZNAME:EST
DTSTART:20171105T060000
END:STANDARD
BEGIN:DAYLIGHT
TZOFFSETFROM:-0500
TZOFFSETTO:-0400
TZNAME:EDT
DTSTART:20180311T070000
END:DAYLIGHT
BEGIN:STANDARD
TZOFFSETFROM:-0400
TZOFFSETTO:-0500
TZNAME:EST
DTSTART:20181104T060000
END:STANDARD
BEGIN:DAYLIGHT
TZOFFSETFROM:-0500
TZOFFSETTO:-0400
TZNAME:EDT
DTSTART:20190310T070000
END:DAYLIGHT
BEGIN:STANDARD
TZOFFSETFROM:-0400
TZOFFSETTO:-0500
TZNAME:EST
DTSTART:20191103T060000
END:STANDARD
END:VTIMEZONE
BEGIN:VEVENT
DTSTART;TZID=America/New_York:20181130T084500
DTEND;TZID=America/New_York:20181130T100000
DTSTAMP:20260422T224117
CREATED:20181116T200924Z
LAST-MODIFIED:20221003T200315Z
UID:10002041-1543567500-1543572000@futurefaculty.cornell.edu
SUMMARY:Toward Inclusive Excellence in Graduate Education
DESCRIPTION:The Graduate School invites you to join us on Friday\, November 30 for a breakfast discussion with Julie R. Posselt\, Assistant Professor of Higher Education at the University of Southern California\, on holistic review practices and advancing diversity in graduate admissions. \nDr. Posselt is a national recognized expert in graduate education. Her current scholarship\, funded by three grants from the National Science Foundation and one from the Mellon Foundation\, examines movements for equity and inclusion in graduate education and the humanistic and physical science disciplines. \nDate: Friday\, November 30\nTime: 8:45-10:00am (Continental breakfast available at 8:30am)\nLocation: 225 ILR Conference Center\, King-Shaw Hall\nAudience: While aimed primarily at faculty and staff who come into contact with graduate admissions\, other Cornell community members are also welcome to register for this event. \nRSVP requested at: http://tiny.cc/HolisticAdmissions \nThis event is hosted by the Graduate School Office of Inclusion & Student Engagement and the Center for the Integration of Research\, Teaching and Learning (CIRTL) at Cornell and supported by the NSF AGEP Transformation Alliance: Improved Academic Climate for STEM Dissertators and Postdocs to Increase Interest in Faculty Careers (NSF Grant No. 1647094). Any opinions\, findings\, and conclusions or recommendations expressed during this event are those of the speakers and do not necessarily reflect the views of the National Science Foundation.
URL:https://futurefaculty.cornell.edu/event/toward-inclusive-excellence-in-graduate-education/
LOCATION:ILR Conference Center\, King-Shaw Hall\, Ithaca\, NY\, 14853\, United States
CATEGORIES:Future Faculty and Academic Careers
ATTACH;FMTTYPE=image/jpeg:https://futurefaculty.cornell.edu/wp-content/uploads/2018/11/Julie-Posselt-USC-Pullias-Center-1.jpg
GEO:42.4469974;-76.480085
X-APPLE-STRUCTURED-LOCATION;VALUE=URI;X-ADDRESS=ILR Conference Center King-Shaw Hall Ithaca NY 14853 United States;X-APPLE-RADIUS=500;X-TITLE=King-Shaw Hall:geo:-76.480085,42.4469974
END:VEVENT
END:VCALENDAR