BEGIN:VCALENDAR
VERSION:2.0
PRODID:-//Future Faculty and Academic Careers - ECPv6.15.20//NONSGML v1.0//EN
CALSCALE:GREGORIAN
METHOD:PUBLISH
X-ORIGINAL-URL:https://futurefaculty.cornell.edu
X-WR-CALDESC:Events for Future Faculty and Academic Careers
REFRESH-INTERVAL;VALUE=DURATION:PT1H
X-Robots-Tag:noindex
X-PUBLISHED-TTL:PT1H
BEGIN:VTIMEZONE
TZID:America/New_York
BEGIN:DAYLIGHT
TZOFFSETFROM:-0500
TZOFFSETTO:-0400
TZNAME:EDT
DTSTART:20180311T070000
END:DAYLIGHT
BEGIN:STANDARD
TZOFFSETFROM:-0400
TZOFFSETTO:-0500
TZNAME:EST
DTSTART:20181104T060000
END:STANDARD
BEGIN:DAYLIGHT
TZOFFSETFROM:-0500
TZOFFSETTO:-0400
TZNAME:EDT
DTSTART:20190310T070000
END:DAYLIGHT
BEGIN:STANDARD
TZOFFSETFROM:-0400
TZOFFSETTO:-0500
TZNAME:EST
DTSTART:20191103T060000
END:STANDARD
BEGIN:DAYLIGHT
TZOFFSETFROM:-0500
TZOFFSETTO:-0400
TZNAME:EDT
DTSTART:20200308T070000
END:DAYLIGHT
BEGIN:STANDARD
TZOFFSETFROM:-0400
TZOFFSETTO:-0500
TZNAME:EST
DTSTART:20201101T060000
END:STANDARD
END:VTIMEZONE
BEGIN:VEVENT
DTSTART;TZID=America/New_York:20190128T114500
DTEND;TZID=America/New_York:20190128T130000
DTSTAMP:20260422T194051
CREATED:20190118T182527Z
LAST-MODIFIED:20221003T200315Z
UID:10002050-1548675900-1548680400@futurefaculty.cornell.edu
SUMMARY:Information Session for a CIRTL Massive Open Online Course on STEM Teaching
DESCRIPTION:Advancing Learning through Evidence-Based STEM Teaching prepares science\, technology\, engineering\, and mathematics (STEM) instructors to develop and implement teaching practices that advance the learning experiences and outcomes of both students and teachers. Participants will learn about effective teaching strategies and the research that supports them\, including active learning and flipped classroom approaches. \nThis eight-week course draws on the expertise of STEM faculty\, educational researchers\, and staff from university teaching centers\, many of them affiliated with the Center for the Integration of Research\, Teaching\, and Learning (CIRTL)\, a network of 40 research universities collaborating in the preparation of STEM graduate students and postdocs as future faculty members. There are opportunities for peer-to-peer learning\, both online and within Cornell\, as we also offer local discussion groups around the MOOC activities (contact Colleen McLinn at cirtl@cornell.edu for information). \nWe will have an information session with refreshments on Monday\, January 28 at 11:45 am in 341 Caldwell Hall. \nThis course will be offered via EdX from February 4\, 2019 – March 29\, 2019. Learn more at: https://futurefaculty.cornell.edu/courses/massive-open-online-courses/
URL:https://futurefaculty.cornell.edu/event/information-session-for-a-cirtl-massive-open-online-course-on-stem-teaching-2/
LOCATION:Caldwell Hall\, 121 Reservoir Ave\, Ithaca\, NY\, 14853\, United States
CATEGORIES:Future Faculty and Academic Careers
ATTACH;FMTTYPE=image/png:https://futurefaculty.cornell.edu/wp-content/uploads/2019/01/MOOC-2-Images-Module-3-copy.png
ORGANIZER;CN="CIRTL at Cornell":MAILTO:cirtl@cornell.edu
GEO:42.4492103;-76.4782721
X-APPLE-STRUCTURED-LOCATION;VALUE=URI;X-ADDRESS=Caldwell Hall 121 Reservoir Ave Ithaca NY 14853 United States;X-APPLE-RADIUS=500;X-TITLE=121 Reservoir Ave:geo:-76.4782721,42.4492103
END:VEVENT
END:VCALENDAR