BEGIN:VCALENDAR
VERSION:2.0
PRODID:-//Future Faculty and Academic Careers - ECPv6.15.20//NONSGML v1.0//EN
CALSCALE:GREGORIAN
METHOD:PUBLISH
X-ORIGINAL-URL:https://futurefaculty.cornell.edu
X-WR-CALDESC:Events for Future Faculty and Academic Careers
REFRESH-INTERVAL;VALUE=DURATION:PT1H
X-Robots-Tag:noindex
X-PUBLISHED-TTL:PT1H
BEGIN:VTIMEZONE
TZID:America/New_York
BEGIN:DAYLIGHT
TZOFFSETFROM:-0500
TZOFFSETTO:-0400
TZNAME:EDT
DTSTART:20180311T070000
END:DAYLIGHT
BEGIN:STANDARD
TZOFFSETFROM:-0400
TZOFFSETTO:-0500
TZNAME:EST
DTSTART:20181104T060000
END:STANDARD
BEGIN:DAYLIGHT
TZOFFSETFROM:-0500
TZOFFSETTO:-0400
TZNAME:EDT
DTSTART:20190310T070000
END:DAYLIGHT
BEGIN:STANDARD
TZOFFSETFROM:-0400
TZOFFSETTO:-0500
TZNAME:EST
DTSTART:20191103T060000
END:STANDARD
BEGIN:DAYLIGHT
TZOFFSETFROM:-0500
TZOFFSETTO:-0400
TZNAME:EDT
DTSTART:20200308T070000
END:DAYLIGHT
BEGIN:STANDARD
TZOFFSETFROM:-0400
TZOFFSETTO:-0500
TZNAME:EST
DTSTART:20201101T060000
END:STANDARD
END:VTIMEZONE
BEGIN:VEVENT
DTSTART;TZID=America/New_York:20190222T120000
DTEND;TZID=America/New_York:20190222T133000
DTSTAMP:20260422T194043
CREATED:20181206T224802Z
LAST-MODIFIED:20221003T200315Z
UID:10002048-1550836800-1550842200@futurefaculty.cornell.edu
SUMMARY:Job Search Discussion
DESCRIPTION:Are you a postdoc or graduate student going on the academic job market? Come join a monthly lunch discussion with others in the same boat\, facilitated by the Office of Postdoctoral Studies and CIRTL at Cornell. We’re gathering a community of peers to help find advice\, support\, and feedback. Lunch served! RSVP required. Location: 102 Mann Library \nPart of the Academic Job Search Series sponsored by CIRTL at Cornell and the Office of Postdoctoral Studies.
URL:https://futurefaculty.cornell.edu/event/job-search-discussion-4/
LOCATION:Mann Library\, 237 Mann Drive\, Ithaca\, NY\, 14853\, United States
CATEGORIES:Future Faculty and Academic Careers
ATTACH;FMTTYPE=image/jpeg:https://futurefaculty.cornell.edu/wp-content/uploads/2018/08/IMG_9868-1000x400-2.jpg
GEO:42.4487952;-76.476316
X-APPLE-STRUCTURED-LOCATION;VALUE=URI;X-ADDRESS=Mann Library 237 Mann Drive Ithaca NY 14853 United States;X-APPLE-RADIUS=500;X-TITLE=237 Mann Drive:geo:-76.476316,42.4487952
END:VEVENT
END:VCALENDAR