BEGIN:VCALENDAR
VERSION:2.0
PRODID:-//Future Faculty and Academic Careers - ECPv6.15.20//NONSGML v1.0//EN
CALSCALE:GREGORIAN
METHOD:PUBLISH
X-ORIGINAL-URL:https://futurefaculty.cornell.edu
X-WR-CALDESC:Events for Future Faculty and Academic Careers
REFRESH-INTERVAL;VALUE=DURATION:PT1H
X-Robots-Tag:noindex
X-PUBLISHED-TTL:PT1H
BEGIN:VTIMEZONE
TZID:America/New_York
BEGIN:DAYLIGHT
TZOFFSETFROM:-0500
TZOFFSETTO:-0400
TZNAME:EDT
DTSTART:20180311T070000
END:DAYLIGHT
BEGIN:STANDARD
TZOFFSETFROM:-0400
TZOFFSETTO:-0500
TZNAME:EST
DTSTART:20181104T060000
END:STANDARD
BEGIN:DAYLIGHT
TZOFFSETFROM:-0500
TZOFFSETTO:-0400
TZNAME:EDT
DTSTART:20190310T070000
END:DAYLIGHT
BEGIN:STANDARD
TZOFFSETFROM:-0400
TZOFFSETTO:-0500
TZNAME:EST
DTSTART:20191103T060000
END:STANDARD
BEGIN:DAYLIGHT
TZOFFSETFROM:-0500
TZOFFSETTO:-0400
TZNAME:EDT
DTSTART:20200308T070000
END:DAYLIGHT
BEGIN:STANDARD
TZOFFSETFROM:-0400
TZOFFSETTO:-0500
TZNAME:EST
DTSTART:20201101T060000
END:STANDARD
END:VTIMEZONE
BEGIN:VEVENT
DTSTART;TZID=America/New_York:20190308T133000
DTEND;TZID=America/New_York:20190308T183000
DTSTAMP:20260422T180247
CREATED:20190118T182606Z
LAST-MODIFIED:20221003T200314Z
UID:10001741-1552051800-1552069800@futurefaculty.cornell.edu
SUMMARY:Inclusive Teaching Institute for Graduate Students and Postdocs
DESCRIPTION:(This is an invitation-only event for participants who have applied and been accepted to the program.) The Inclusive Teaching Institute for Graduate Students and Postdocs is a two-day retreat for graduate students and postdoctoral scholars to explore diversity and inclusion in teaching and learning. As a participant\, you will identify strategies to increase inclusion and accessibility\, boost student engagement\, foster belongingness\, and design an action plan for future teaching. \nMeets: Friday\, March 8\, 1:30-6:30 pm and Saturday\, March 9\, 9:30 am – 3:00 pm \nApply to participate by March 1\, 2019. Must be available for both dates. \nCo-sponsored by the Center for Teaching Innovation and the Center for the Integration of Research\, Teaching\, and Learning
URL:https://futurefaculty.cornell.edu/event/graduate-inclusive-teaching-institute/
LOCATION:ILR Conference Center\, King-Shaw Hall\, Ithaca\, NY\, 14853\, United States
CATEGORIES:Future Faculty and Academic Careers
ATTACH;FMTTYPE=image/jpeg:https://futurefaculty.cornell.edu/wp-content/uploads/2019/01/2018-04-23_026-e1548029679201.jpeg
ORGANIZER;CN="Center for Teaching Innovation":MAILTO:cornellcti@cornell.edu
GEO:42.4469974;-76.480085
X-APPLE-STRUCTURED-LOCATION;VALUE=URI;X-ADDRESS=ILR Conference Center King-Shaw Hall Ithaca NY 14853 United States;X-APPLE-RADIUS=500;X-TITLE=King-Shaw Hall:geo:-76.480085,42.4469974
END:VEVENT
END:VCALENDAR