BEGIN:VCALENDAR
VERSION:2.0
PRODID:-//Future Faculty and Academic Careers - ECPv6.15.20//NONSGML v1.0//EN
CALSCALE:GREGORIAN
METHOD:PUBLISH
X-ORIGINAL-URL:https://futurefaculty.cornell.edu
X-WR-CALDESC:Events for Future Faculty and Academic Careers
REFRESH-INTERVAL;VALUE=DURATION:PT1H
X-Robots-Tag:noindex
X-PUBLISHED-TTL:PT1H
BEGIN:VTIMEZONE
TZID:America/New_York
BEGIN:DAYLIGHT
TZOFFSETFROM:-0500
TZOFFSETTO:-0400
TZNAME:EDT
DTSTART:20180311T070000
END:DAYLIGHT
BEGIN:STANDARD
TZOFFSETFROM:-0400
TZOFFSETTO:-0500
TZNAME:EST
DTSTART:20181104T060000
END:STANDARD
BEGIN:DAYLIGHT
TZOFFSETFROM:-0500
TZOFFSETTO:-0400
TZNAME:EDT
DTSTART:20190310T070000
END:DAYLIGHT
BEGIN:STANDARD
TZOFFSETFROM:-0400
TZOFFSETTO:-0500
TZNAME:EST
DTSTART:20191103T060000
END:STANDARD
BEGIN:DAYLIGHT
TZOFFSETFROM:-0500
TZOFFSETTO:-0400
TZNAME:EDT
DTSTART:20200308T070000
END:DAYLIGHT
BEGIN:STANDARD
TZOFFSETFROM:-0400
TZOFFSETTO:-0500
TZNAME:EST
DTSTART:20201101T060000
END:STANDARD
END:VTIMEZONE
BEGIN:VEVENT
DTSTART;TZID=America/New_York:20190326T133000
DTEND;TZID=America/New_York:20190326T143000
DTSTAMP:20260422T180341
CREATED:20190128T200943Z
LAST-MODIFIED:20221003T200313Z
UID:10001750-1553607000-1553610600@futurefaculty.cornell.edu
SUMMARY:Weekly Discussion about CIRTL Online Course
DESCRIPTION:This is a local discussion group meeting for the online course Advancing Learning through Evidence-Based STEM Teaching offered through EdX by the CIRTL Network and starting February 4\, 2019. We will meet in person to discuss the prior week’s online content. \nAdvancing Learning through Evidence-Based STEM Teaching prepares science\, technology\, engineering\, and mathematics (STEM) instructors to develop and implement teaching practices that advance the learning experiences and outcomes of both students and teachers. Participants will learn about effective teaching strategies and the research that supports them\, including active learning and flipped classroom approaches. \nThis eight-week course draws on the expertise of STEM faculty\, educational researchers\, and staff from university teaching centers\, many of them affiliated with the Center for the Integration of Research\, Teaching\, and Learning (CIRTL)\, a network of 40 research universities collaborating in the preparation of STEM graduate students and postdocs as future faculty members. There are opportunities for peer-to-peer learning\, both online and within Cornell\, as we also offer local discussion groups around the course content (contact Colleen McLinn at cirtl@cornell.edu for information). \nThis course will be offered via EdX from February 4\, 2019 – March 29\, 2019. Learn more at: https://futurefaculty.cornell.edu/courses/massive-open-online-courses/
URL:https://futurefaculty.cornell.edu/event/weekly-discussion-about-cirtl-online-course/
LOCATION:341 Caldwell Hall\, 121 Reservoir Avenue\, Ithaca\, NY\, 14853\, United States
CATEGORIES:Future Faculty and Academic Careers
ATTACH;FMTTYPE=image/png:https://futurefaculty.cornell.edu/wp-content/uploads/2019/01/MOOC-2-Images-Module-3-copy.png
ORGANIZER;CN="CIRTL at Cornell":MAILTO:cirtl@cornell.edu
GEO:42.4492103;-76.4782721
X-APPLE-STRUCTURED-LOCATION;VALUE=URI;X-ADDRESS=341 Caldwell Hall 121 Reservoir Avenue Ithaca NY 14853 United States;X-APPLE-RADIUS=500;X-TITLE=121 Reservoir Avenue:geo:-76.4782721,42.4492103
END:VEVENT
BEGIN:VEVENT
DTSTART;TZID=America/New_York:20190326T133000
DTEND;TZID=America/New_York:20190326T143000
DTSTAMP:20260422T180341
CREATED:20190326T175725Z
LAST-MODIFIED:20221003T200312Z
UID:10002076-1553607000-1553610600@futurefaculty.cornell.edu
SUMMARY:Weekly Discussion about CIRTL Online Course
DESCRIPTION:This is a local discussion group meeting for the online course Advancing Learning through Evidence-Based STEM Teaching offered through EdX by the CIRTL Network and starting February 4\, 2019. We will meet in person to discuss the prior week’s online content. \nAdvancing Learning through Evidence-Based STEM Teaching prepares science\, technology\, engineering\, and mathematics (STEM) instructors to develop and implement teaching practices that advance the learning experiences and outcomes of both students and teachers. Participants will learn about effective teaching strategies and the research that supports them\, including active learning and flipped classroom approaches. \nThis eight-week course draws on the expertise of STEM faculty\, educational researchers\, and staff from university teaching centers\, many of them affiliated with the Center for the Integration of Research\, Teaching\, and Learning (CIRTL)\, a network of 40 research universities collaborating in the preparation of STEM graduate students and postdocs as future faculty members. There are opportunities for peer-to-peer learning\, both online and within Cornell\, as we also offer local discussion groups around the course content (contact Colleen McLinn at cirtl@cornell.edu for information). \nThis course will be offered via EdX from February 4\, 2019 – March 29\, 2019. Learn more at: https://futurefaculty.cornell.edu/courses/massive-open-online-courses/
URL:https://futurefaculty.cornell.edu/event/weekly-discussion-about-cirtl-online-course-8/
LOCATION:341 Caldwell Hall\, 121 Reservoir Avenue\, Ithaca\, NY\, 14853\, United States
CATEGORIES:Future Faculty and Academic Careers
ATTACH;FMTTYPE=image/png:https://futurefaculty.cornell.edu/wp-content/uploads/2019/01/MOOC-2-Images-Module-3-copy.png
ORGANIZER;CN="CIRTL at Cornell":MAILTO:cirtl@cornell.edu
GEO:42.4492103;-76.4782721
X-APPLE-STRUCTURED-LOCATION;VALUE=URI;X-ADDRESS=341 Caldwell Hall 121 Reservoir Avenue Ithaca NY 14853 United States;X-APPLE-RADIUS=500;X-TITLE=121 Reservoir Avenue:geo:-76.4782721,42.4492103
END:VEVENT
END:VCALENDAR