BEGIN:VCALENDAR
VERSION:2.0
PRODID:-//Future Faculty and Academic Careers - ECPv6.15.20//NONSGML v1.0//EN
CALSCALE:GREGORIAN
METHOD:PUBLISH
X-WR-CALNAME:Future Faculty and Academic Careers
X-ORIGINAL-URL:https://futurefaculty.cornell.edu
X-WR-CALDESC:Events for Future Faculty and Academic Careers
REFRESH-INTERVAL;VALUE=DURATION:PT1H
X-Robots-Tag:noindex
X-PUBLISHED-TTL:PT1H
BEGIN:VTIMEZONE
TZID:America/New_York
BEGIN:DAYLIGHT
TZOFFSETFROM:-0500
TZOFFSETTO:-0400
TZNAME:EDT
DTSTART:20190310T070000
END:DAYLIGHT
BEGIN:STANDARD
TZOFFSETFROM:-0400
TZOFFSETTO:-0500
TZNAME:EST
DTSTART:20191103T060000
END:STANDARD
BEGIN:DAYLIGHT
TZOFFSETFROM:-0500
TZOFFSETTO:-0400
TZNAME:EDT
DTSTART:20200308T070000
END:DAYLIGHT
BEGIN:STANDARD
TZOFFSETFROM:-0400
TZOFFSETTO:-0500
TZNAME:EST
DTSTART:20201101T060000
END:STANDARD
BEGIN:DAYLIGHT
TZOFFSETFROM:-0500
TZOFFSETTO:-0400
TZNAME:EDT
DTSTART:20210314T070000
END:DAYLIGHT
BEGIN:STANDARD
TZOFFSETFROM:-0400
TZOFFSETTO:-0500
TZNAME:EST
DTSTART:20211107T060000
END:STANDARD
END:VTIMEZONE
BEGIN:VEVENT
DTSTART;TZID=America/New_York:20200312T140000
DTEND;TZID=America/New_York:20200312T153000
DTSTAMP:20260421T225254
CREATED:20200124T212927Z
LAST-MODIFIED:20221003T200309Z
UID:10001808-1584021600-1584027000@futurefaculty.cornell.edu
SUMMARY:NCFDD: How to Develop a Daily Writing Practice
DESCRIPTION:Are you sick of working all the time without making progress on your writing projects?\nAre you tired of your deadline-driven\, binge-and-bust writing routine?\nDo you wish you could develop a healthy\, consistent\, daily writing routine that would allow you to meet your department’s expectations for tenure and promotion?\n\nIn this webinar you’ll learn: \n\nThe three biggest myths about writing that hobble new faculty productivity\nThe surprising difference between struggling new faculty members and those who are designated as “rising stars”\nThe 30-minute strategy that will increase your writing productivity AND decrease your stress\, anxiety and guilt\n\n\n\n\n\n  \n\n\n\nFree Individual Memberships for the National Center for Faculty Development & Diversity (NCFDD)\nAvailable to all Cornell students\, postdocs\, faculty\, and staff \n \nCornell is an institutional member of the National Center for Faculty Development & Diversity (NCFDD)\, a nationally recognized\, independent organization providing online career development and mentoring resources. The NCFDD provides members with access to tools to increase research and writing productivity and improve work-life balance. \nActivate your account by following the steps below: \n\nGo to the NCFDD website\nUnder “Select Your Institution\,” choose “Cornell University”\nSelect “Activate my Membership”\nComplete the registration form using your Cornell email address\nCheck your Cornell email account to find a confirmation/welcome email. Click “Activate Account” in the email
URL:https://futurefaculty.cornell.edu/event/ncfdd-how-to-develop-a-daily-writing-practice/
LOCATION:Webinar
CATEGORIES:Future Faculty and Academic Careers
ATTACH;FMTTYPE=image/jpeg:https://futurefaculty.cornell.edu/wp-content/uploads/2020/02/ncfdd_200x.jpg
END:VEVENT
END:VCALENDAR