BEGIN:VCALENDAR
VERSION:2.0
PRODID:-//Future Faculty and Academic Careers - ECPv6.15.20//NONSGML v1.0//EN
CALSCALE:GREGORIAN
METHOD:PUBLISH
X-ORIGINAL-URL:https://futurefaculty.cornell.edu
X-WR-CALDESC:Events for Future Faculty and Academic Careers
REFRESH-INTERVAL;VALUE=DURATION:PT1H
X-Robots-Tag:noindex
X-PUBLISHED-TTL:PT1H
BEGIN:VTIMEZONE
TZID:America/New_York
BEGIN:DAYLIGHT
TZOFFSETFROM:-0500
TZOFFSETTO:-0400
TZNAME:EDT
DTSTART:20190310T070000
END:DAYLIGHT
BEGIN:STANDARD
TZOFFSETFROM:-0400
TZOFFSETTO:-0500
TZNAME:EST
DTSTART:20191103T060000
END:STANDARD
BEGIN:DAYLIGHT
TZOFFSETFROM:-0500
TZOFFSETTO:-0400
TZNAME:EDT
DTSTART:20200308T070000
END:DAYLIGHT
BEGIN:STANDARD
TZOFFSETFROM:-0400
TZOFFSETTO:-0500
TZNAME:EST
DTSTART:20201101T060000
END:STANDARD
BEGIN:DAYLIGHT
TZOFFSETFROM:-0500
TZOFFSETTO:-0400
TZNAME:EDT
DTSTART:20210314T070000
END:DAYLIGHT
BEGIN:STANDARD
TZOFFSETFROM:-0400
TZOFFSETTO:-0500
TZNAME:EST
DTSTART:20211107T060000
END:STANDARD
END:VTIMEZONE
BEGIN:VEVENT
DTSTART;TZID=America/New_York:20200529T093000
DTEND;TZID=America/New_York:20200529T133000
DTSTAMP:20260421T194128
CREATED:20200208T191019Z
LAST-MODIFIED:20221003T200309Z
UID:10002148-1590744600-1590759000@futurefaculty.cornell.edu
SUMMARY:Online Mini-Symposium on Connecting Research and Teaching
DESCRIPTION:This annual one-day conference highlights and supports the research of graduate students and postdocs\, faculty and staff into effective teaching and learning practices\, and the ways this work shapes professional and career development. Events will include an invited keynote presentation by a Cornell alumnus\, 8 research talks by graduate students and postdocs about teaching projects they have recently completed\, and opportunities for interactive discussion on how to use research skills to inform and improve teaching and professional development for early career scholars. \nCornell faculty\, staff\, graduate students and postdocs\, and those from interested other CIRTL Network institutions are encouraged to register to receive the Zoom link to attend as many sessions as they are able. \nThe 2020 event will be held online as a digital conference\, with speaker and break times throughout the 9:30-1:30 time block available on the conference web page. \nLearn more about the Connecting Research and Teaching Conference \nAccessibility: We strive to make our events accessible to all community members. Individuals who would like to request accessibility accommodations should contact futurefaculty@cornell.edu. We ask that requests be made at least one week in advance of an event to help ensure they can be met.
URL:https://futurefaculty.cornell.edu/event/connecting-research-and-teaching-conference-2/
LOCATION:Online
CATEGORIES:Future Faculty and Academic Careers
ATTACH;FMTTYPE=image/jpeg:https://futurefaculty.cornell.edu/wp-content/uploads/2020/02/CIRTL-20190519-Connecting-Research-and-Teaching-Conference-042_select.jpg
END:VEVENT
END:VCALENDAR