BEGIN:VCALENDAR
VERSION:2.0
PRODID:-//Future Faculty and Academic Careers - ECPv6.15.17.1//NONSGML v1.0//EN
CALSCALE:GREGORIAN
METHOD:PUBLISH
X-ORIGINAL-URL:https://futurefaculty.cornell.edu
X-WR-CALDESC:Events for Future Faculty and Academic Careers
REFRESH-INTERVAL;VALUE=DURATION:PT1H
X-Robots-Tag:noindex
X-PUBLISHED-TTL:PT1H
BEGIN:VTIMEZONE
TZID:America/New_York
BEGIN:DAYLIGHT
TZOFFSETFROM:-0500
TZOFFSETTO:-0400
TZNAME:EDT
DTSTART:20190310T070000
END:DAYLIGHT
BEGIN:STANDARD
TZOFFSETFROM:-0400
TZOFFSETTO:-0500
TZNAME:EST
DTSTART:20191103T060000
END:STANDARD
BEGIN:DAYLIGHT
TZOFFSETFROM:-0500
TZOFFSETTO:-0400
TZNAME:EDT
DTSTART:20200308T070000
END:DAYLIGHT
BEGIN:STANDARD
TZOFFSETFROM:-0400
TZOFFSETTO:-0500
TZNAME:EST
DTSTART:20201101T060000
END:STANDARD
BEGIN:DAYLIGHT
TZOFFSETFROM:-0500
TZOFFSETTO:-0400
TZNAME:EDT
DTSTART:20210314T070000
END:DAYLIGHT
BEGIN:STANDARD
TZOFFSETFROM:-0400
TZOFFSETTO:-0500
TZNAME:EST
DTSTART:20211107T060000
END:STANDARD
END:VTIMEZONE
BEGIN:VEVENT
DTSTART;TZID=America/New_York:20200819T123000
DTEND;TZID=America/New_York:20200819T140000
DTSTAMP:20260421T144237
CREATED:20200709T235001Z
LAST-MODIFIED:20221003T200301Z
UID:10001829-1597840200-1597845600@futurefaculty.cornell.edu
SUMMARY:Summer Success Symposium: Long Term Negotiations For (Professional) Relationships
DESCRIPTION:The Summer Success Symposium is a professional and community development event for new and continuing M.S./Ph.D. and Ph.D. students from across all graduate fields who identify as belonging to groups historically underrepresented in graduate education. The symposium has a particular focus on bringing together recipients of graduate fellowships in support of diversity as well as all other doctoral scholars who identify as BIPOC (Black\, Indigenous\, and other People of Color)\, first generation college (FGC) students\, and/or who identify with other historically underrepresented groups such as LGBTQQ+ identified students\, Veterans\, students with disabilities\, women in STEM\, students with DACA status\,and others. Research master’s degree students and other master’s degree students interested in pursuing doctoral studies are also welcome to this event. \nThrough this symposium\, participants have the opportunity to form connections and establish community. This symposium also provides participants with the opportunity to engage with successful Cornell alumni\, faculty\, and professionals with shared experiences as diverse scholars. Summer Success Symposium keynote and workshop content focuses on providing participants with access to knowledge and insights that will help them navigate their successful transition to and progression in their graduate studies. \n  \nLong Term Negotiations For (Professional) Relationships\nThis workshop will focus on negotiating with colleagues\, as well as those responsible for your current & future career trajectory.  We will use a case study approach and practice at least two different negotiating scenarios.  We will discuss best practices as well as discuss our hesitancies in negotiating.  Further we will point out our lack of ability to identify and engage in a negotiating opportunities. \nPresenter: Marcus Brooks\, M.B.A.\n \n\nEvent Sponsors\nGraduate School Office of Inclusion & Student Engagement\, Diversity Programs in Engineering\, and the Cornell Chapter of the Bouchet Graduate Honor Society \nThis event is also supported by the National Science Foundation under Grant No.1647094 (AGEP CIRTL) and a subcontract under Grant No. 1231286 (Cornell AGEP). Any opinions\, findings\, and conclusions or recommendations expressed in this material are those of the authors and do not necessarily reflect the views of the National Science Foundation. \nThis program was modeled in part after PROMISE: Maryland’s AGEP Summer Success Institute.
URL:https://futurefaculty.cornell.edu/event/summer-success-series-long-term-negotiations-for-professional-relationships/
LOCATION:Zoom
CATEGORIES:Future Faculty and Academic Careers
ATTACH;FMTTYPE=image/jpeg:https://futurefaculty.cornell.edu/wp-content/uploads/2020/08/Marcus-Opening-e1594759469804-drUVDd.tmp_.jpg
END:VEVENT
END:VCALENDAR