BEGIN:VCALENDAR
VERSION:2.0
PRODID:-//Future Faculty and Academic Careers - ECPv6.15.17.1//NONSGML v1.0//EN
CALSCALE:GREGORIAN
METHOD:PUBLISH
X-WR-CALNAME:Future Faculty and Academic Careers
X-ORIGINAL-URL:https://futurefaculty.cornell.edu
X-WR-CALDESC:Events for Future Faculty and Academic Careers
REFRESH-INTERVAL;VALUE=DURATION:PT1H
X-Robots-Tag:noindex
X-PUBLISHED-TTL:PT1H
BEGIN:VTIMEZONE
TZID:America/New_York
BEGIN:DAYLIGHT
TZOFFSETFROM:-0500
TZOFFSETTO:-0400
TZNAME:EDT
DTSTART:20190310T070000
END:DAYLIGHT
BEGIN:STANDARD
TZOFFSETFROM:-0400
TZOFFSETTO:-0500
TZNAME:EST
DTSTART:20191103T060000
END:STANDARD
BEGIN:DAYLIGHT
TZOFFSETFROM:-0500
TZOFFSETTO:-0400
TZNAME:EDT
DTSTART:20200308T070000
END:DAYLIGHT
BEGIN:STANDARD
TZOFFSETFROM:-0400
TZOFFSETTO:-0500
TZNAME:EST
DTSTART:20201101T060000
END:STANDARD
BEGIN:DAYLIGHT
TZOFFSETFROM:-0500
TZOFFSETTO:-0400
TZNAME:EDT
DTSTART:20210314T070000
END:DAYLIGHT
BEGIN:STANDARD
TZOFFSETFROM:-0400
TZOFFSETTO:-0500
TZNAME:EST
DTSTART:20211107T060000
END:STANDARD
END:VTIMEZONE
BEGIN:VEVENT
DTSTART;TZID=America/New_York:20201123T133000
DTEND;TZID=America/New_York:20201123T153000
DTSTAMP:20260421T111311
CREATED:20200916T192404Z
LAST-MODIFIED:20221003T200255Z
UID:10002207-1606138200-1606145400@futurefaculty.cornell.edu
SUMMARY:NIH: Academic Job Interviews
DESCRIPTION:Speaker(s): Sharon Milgram\, PhD\, Director\, OITE\nThis event is recommended for: Graduate Students; Postdocs/Fellows. \nAfter you submit your academic job package\, the job interview is the next major hurdle to securing a position. In this workshop\, learn the “do’s and don’ts” of academic job interviewing and hear what interview committees like to see. In addition\, the workshop will address job talks\, chalk talks and teaching talks – important elements of many academic job interviews. \nThe session will be on the gotowebinar platform: https://attendee.gotowebinar.com/register/6150471642269595662 \nA recording of the presentation will be posted on the OITE YouTube page approximately one week post the event: https://www.youtube.com/c/NIHOITE
URL:https://futurefaculty.cornell.edu/event/nih-academic-job-interviews/
LOCATION:GoToWebinar
CATEGORIES:Future Faculty and Academic Careers
END:VEVENT
END:VCALENDAR