BEGIN:VCALENDAR
VERSION:2.0
PRODID:-//Future Faculty and Academic Careers - ECPv6.15.17.1//NONSGML v1.0//EN
CALSCALE:GREGORIAN
METHOD:PUBLISH
X-ORIGINAL-URL:https://futurefaculty.cornell.edu
X-WR-CALDESC:Events for Future Faculty and Academic Careers
REFRESH-INTERVAL;VALUE=DURATION:PT1H
X-Robots-Tag:noindex
X-PUBLISHED-TTL:PT1H
BEGIN:VTIMEZONE
TZID:America/New_York
BEGIN:DAYLIGHT
TZOFFSETFROM:-0500
TZOFFSETTO:-0400
TZNAME:EDT
DTSTART:20190310T070000
END:DAYLIGHT
BEGIN:STANDARD
TZOFFSETFROM:-0400
TZOFFSETTO:-0500
TZNAME:EST
DTSTART:20191103T060000
END:STANDARD
BEGIN:DAYLIGHT
TZOFFSETFROM:-0500
TZOFFSETTO:-0400
TZNAME:EDT
DTSTART:20200308T070000
END:DAYLIGHT
BEGIN:STANDARD
TZOFFSETFROM:-0400
TZOFFSETTO:-0500
TZNAME:EST
DTSTART:20201101T060000
END:STANDARD
BEGIN:DAYLIGHT
TZOFFSETFROM:-0500
TZOFFSETTO:-0400
TZNAME:EDT
DTSTART:20210314T070000
END:DAYLIGHT
BEGIN:STANDARD
TZOFFSETFROM:-0400
TZOFFSETTO:-0500
TZNAME:EST
DTSTART:20211107T060000
END:STANDARD
END:VTIMEZONE
BEGIN:VEVENT
DTSTART;TZID=America/New_York:20201209T100000
DTEND;TZID=America/New_York:20201209T110000
DTSTAMP:20260421T093615
CREATED:20201124T205722Z
LAST-MODIFIED:20221010T224558Z
UID:10001851-1607508000-1607511600@futurefaculty.cornell.edu
SUMMARY:International Student / Postdoc Job Search Discussion
DESCRIPTION:The International Students/Postdocs Job Search Virtual Chat is designed to get international students/postdocs who are seeking for jobs together to talk about questions and concerns that all share\, and strategize about how to move forward. During this session\, we will first have a brief introduction of all the career and immigration staff present\, and then open it up for all participants to ask questions and have a facilitated discussion. \n\n \nOur experts in careers and/or immigration include:  \n\nDenise DiRienzo\, Experiential Program Director for Careers Beyond Academia\nChristine Holmes\, Director of Postdoctoral Studies\nColleen McLinn\, Executive Director for Future Faculty and Academic Careers\nElizabeth Shedd\, Senior Immigration Advisor\, Office of Global Learning\nSusi Varvayanis\, Executive Director of Careers Beyond Academia\nCaleb Yu\, Graduate and International Student Career Advisor\n\nAccommodations: We strive to make our events accessible to all community members. Individuals who would like to request accessibility accommodations should contact ry274@cornell.edu. We ask that requests be made at least four days in advance to help ensure they can be met.\n \nMeets by Zoom (link to be sent when registered)
URL:https://futurefaculty.cornell.edu/event/international-student-postdoc-job-search-discussion-5/
LOCATION:Zoom
CATEGORIES:Careers Beyond Academia,Future Faculty and Academic Careers
ATTACH;FMTTYPE=image/jpeg:https://futurefaculty.cornell.edu/wp-content/uploads/2020/05/0410_globe_TND-87jKzD.tmp_.jpg
END:VEVENT
END:VCALENDAR