BEGIN:VCALENDAR
VERSION:2.0
PRODID:-//Future Faculty and Academic Careers - ECPv6.15.17.1//NONSGML v1.0//EN
CALSCALE:GREGORIAN
METHOD:PUBLISH
X-ORIGINAL-URL:https://futurefaculty.cornell.edu
X-WR-CALDESC:Events for Future Faculty and Academic Careers
REFRESH-INTERVAL;VALUE=DURATION:PT1H
X-Robots-Tag:noindex
X-PUBLISHED-TTL:PT1H
BEGIN:VTIMEZONE
TZID:America/New_York
BEGIN:DAYLIGHT
TZOFFSETFROM:-0500
TZOFFSETTO:-0400
TZNAME:EDT
DTSTART:20200308T070000
END:DAYLIGHT
BEGIN:STANDARD
TZOFFSETFROM:-0400
TZOFFSETTO:-0500
TZNAME:EST
DTSTART:20201101T060000
END:STANDARD
BEGIN:DAYLIGHT
TZOFFSETFROM:-0500
TZOFFSETTO:-0400
TZNAME:EDT
DTSTART:20210314T070000
END:DAYLIGHT
BEGIN:STANDARD
TZOFFSETFROM:-0400
TZOFFSETTO:-0500
TZNAME:EST
DTSTART:20211107T060000
END:STANDARD
BEGIN:DAYLIGHT
TZOFFSETFROM:-0500
TZOFFSETTO:-0400
TZNAME:EDT
DTSTART:20220313T070000
END:DAYLIGHT
BEGIN:STANDARD
TZOFFSETFROM:-0400
TZOFFSETTO:-0500
TZNAME:EST
DTSTART:20221106T060000
END:STANDARD
END:VTIMEZONE
BEGIN:VEVENT
DTSTART;TZID=America/New_York:20210415T150000
DTEND;TZID=America/New_York:20210415T163000
DTSTAMP:20260421T003210
CREATED:20210412T235623Z
LAST-MODIFIED:20221003T200240Z
UID:10002244-1618498800-1618504200@futurefaculty.cornell.edu
SUMMARY:CIRTL Network Teaching as Research Presentations
DESCRIPTION:Hear graduate students and postdocs from across the CIRTL Network share the results of their Teaching as Research (TAR) projects in this online presentation session. TAR projects investigate questions about teaching and learning\, including assessing the effectiveness of specific learning activities and tools\, examining the learning process about a specific topic\, or characterizing the student experience in the classroom. \nCornell TA Janani Hariharan from Soil and Crop Sciences will present during panel 1\, and Dr. Colleen McLinn from the Graduate School’s Future Faculty and Academic Careers office will moderate this panel. Additionally\, there will be four total concurrent panels after the event introduction.  \nThis online event takes place on Thursday\, April 15 at 3-4:30PM ET. This year’s presentations feature 17 students from 11 institutions presenting across 4 concurrent panels: \nPanel 1: Online learning & flipped classrooms\n\nMonika Filipovska\, Northwestern: Fostering Student Motivation in a Blended Remote Learning Setting\nJanani Hariharan\, Cornell University: Impact of Modality and Camera Usage on Student Performance in a Microbiology Classroom \nSheeraz Akram\, Pittsburgh: Impact of Video Resources on Student Learning\nMi Sun An\, TAMU: Improving Visualization Capability in Construction Education (Plan Reading)\nShawn Schwartz\, UCLA: College Students’ Anxiety\, Preparedness\, and Perceptions of Remote Learning Effectiveness During COVID-19: A Classroom Study\n\nPanel 2: Student attitudes & active learning\nPanel 3: Teaching key skills and concepts\nPanel 4: Student motivation\, engagement & retention\nSee full agenda and register
URL:https://futurefaculty.cornell.edu/event/cirtl-network-teaching-as-research-presentations/
CATEGORIES:Future Faculty and Academic Careers
ORGANIZER;CN="Future Faculty and Academic Careers":MAILTO:futurefaculty@cornell.edu
END:VEVENT
END:VCALENDAR