BEGIN:VCALENDAR
VERSION:2.0
PRODID:-//Future Faculty and Academic Careers - ECPv6.15.17.1//NONSGML v1.0//EN
CALSCALE:GREGORIAN
METHOD:PUBLISH
X-WR-CALNAME:Future Faculty and Academic Careers
X-ORIGINAL-URL:https://futurefaculty.cornell.edu
X-WR-CALDESC:Events for Future Faculty and Academic Careers
REFRESH-INTERVAL;VALUE=DURATION:PT1H
X-Robots-Tag:noindex
X-PUBLISHED-TTL:PT1H
BEGIN:VTIMEZONE
TZID:America/New_York
BEGIN:DAYLIGHT
TZOFFSETFROM:-0500
TZOFFSETTO:-0400
TZNAME:EDT
DTSTART:20200308T070000
END:DAYLIGHT
BEGIN:STANDARD
TZOFFSETFROM:-0400
TZOFFSETTO:-0500
TZNAME:EST
DTSTART:20201101T060000
END:STANDARD
BEGIN:DAYLIGHT
TZOFFSETFROM:-0500
TZOFFSETTO:-0400
TZNAME:EDT
DTSTART:20210314T070000
END:DAYLIGHT
BEGIN:STANDARD
TZOFFSETFROM:-0400
TZOFFSETTO:-0500
TZNAME:EST
DTSTART:20211107T060000
END:STANDARD
BEGIN:DAYLIGHT
TZOFFSETFROM:-0500
TZOFFSETTO:-0400
TZNAME:EDT
DTSTART:20220313T070000
END:DAYLIGHT
BEGIN:STANDARD
TZOFFSETFROM:-0400
TZOFFSETTO:-0500
TZNAME:EST
DTSTART:20221106T060000
END:STANDARD
END:VTIMEZONE
BEGIN:VEVENT
DTSTART;TZID=America/New_York:20210729T120000
DTEND;TZID=America/New_York:20210729T133000
DTSTAMP:20260420T194705
CREATED:20210706T211044Z
LAST-MODIFIED:20221003T200238Z
UID:10001882-1627560000-1627565400@futurefaculty.cornell.edu
SUMMARY:Writing a Diversity Statement for an Academic Job Application
DESCRIPTION:Come discuss how to approach writing the diversity statement sometimes requested as part of faculty or postdoctoral job applications. We will share examples and guidance from Cornell and other colleges and universities. \nDiscussion Moderators: Christine Holmes\, Director of Postdoctoral Studies\, and Colleen McLinn\, Executive Director\, Future Faculty and Academic Careers\, Cornell Graduate School\, and Derina Samuel\, Associate Director for Graduate Student Programs\, Center for Teaching Innovation \nPre-registration is required in order to receive the link to participate via Zoom. Register for July 29 \nCo-sponsored by the Office of Postdoctoral Studies and Future Faculty and Academic Careers\, as part of the Graduate School’s Academic Job Search Series. \nAccommodations: We strive to make our events accessible to all community members. Individuals who would like to request accessibility accommodations should contact  futurefaculty@cornell.edu. We ask that requests be made at least one week in advance to help ensure they can be met.
URL:https://futurefaculty.cornell.edu/event/writing-a-diversity-statement-for-an-academic-job-application/
LOCATION:Zoom
CATEGORIES:Future Faculty and Academic Careers
ATTACH;FMTTYPE=image/jpeg:https://futurefaculty.cornell.edu/wp-content/uploads/2020/07/Photo_2016_0831_012_select-BOZjEN.tmp_.jpg
END:VEVENT
BEGIN:VEVENT
DTSTART;TZID=America/New_York:20210729T150000
DTEND;TZID=America/New_York:20210729T160000
DTSTAMP:20260420T194705
CREATED:20210713T220951Z
LAST-MODIFIED:20221003T200237Z
UID:10001886-1627570800-1627574400@futurefaculty.cornell.edu
SUMMARY:CIRTL Network: Designing a Course Based on Your Research Expertise
DESCRIPTION:Are you interested in learning more about course design? Have you ever wanted to turn your research topic into a course? Join us to hear a panel of grad students and postdocs share their own experiences building a course based on their fields of research! In this online panel\, past participants in the CIRTL Network course “Transforming Your Research Into Teaching” (TYRIT) will share the courses they developed as TYRIT participants\, reflect on what their course design process was like and how TYRIT influenced their work\, and discuss how they’ve been able to – or will be able to – put their designs into practice. Two current TYRIT instructors\, Katie Kearns (Indiana University Bloomington) and Bailey Szustak (University of Illinois Chicago) will moderate. \n“Transforming Your Research Into Teaching” grew out of a course developed nearly 10 years ago at the University of Iowa\, and is now a multi-institutional class bringing together students from more than a dozen universities (all either current or former CIRTL members). Each university runs its own local section of the course\, and CIRTL runs a multi-institutional section for students whose universities don’t have their own local section. Students work through course content on their own each week\, attend their university’s weekly discussion sections\, and collaborate with each other in disciplinary-based peer review groups to develop\, refine\, and revise their course design projects. TYRIT will be offered again in Summer 2022. \nEvent Schedule: This online event takes place on Thursday\, July 29 at 3-4PM ET \nRegistration: This drop-in\, online event is open to the public. Anyone is welcome to attend\, but you must register in order to attend. Once you register\, you will have access to the online meeting room where this event will take place. \nAccessibility: We strive to be inclusive of anyone interested in participating in our activities. If you have specific accessibility needs\, please contact us at info@cirtl.net in advance so that we may make the necessary accommodations. \nLearning Outcomes \nAssociate Level: Learning Community \n\n\n\n\n\nRecognize the value of and participate in local professionally-focused learning communities associated with teaching and learning.
URL:https://futurefaculty.cornell.edu/event/cirtl-network-designing-a-course-based-on-your-research-expertise/
LOCATION:Online
CATEGORIES:Future Faculty and Academic Careers
ATTACH;FMTTYPE=image/png:https://futurefaculty.cornell.edu/wp-content/uploads/2021/07/teaching-assistant-cMDlru.tmp_.png
ORGANIZER;CN="CIRTL Network":MAILTO:info@cirtl.net
END:VEVENT
END:VCALENDAR