BEGIN:VCALENDAR
VERSION:2.0
PRODID:-//Future Faculty and Academic Careers - ECPv6.15.17.1//NONSGML v1.0//EN
CALSCALE:GREGORIAN
METHOD:PUBLISH
X-WR-CALNAME:Future Faculty and Academic Careers
X-ORIGINAL-URL:https://futurefaculty.cornell.edu
X-WR-CALDESC:Events for Future Faculty and Academic Careers
REFRESH-INTERVAL;VALUE=DURATION:PT1H
X-Robots-Tag:noindex
X-PUBLISHED-TTL:PT1H
BEGIN:VTIMEZONE
TZID:America/New_York
BEGIN:DAYLIGHT
TZOFFSETFROM:-0500
TZOFFSETTO:-0400
TZNAME:EDT
DTSTART:20200308T070000
END:DAYLIGHT
BEGIN:STANDARD
TZOFFSETFROM:-0400
TZOFFSETTO:-0500
TZNAME:EST
DTSTART:20201101T060000
END:STANDARD
BEGIN:DAYLIGHT
TZOFFSETFROM:-0500
TZOFFSETTO:-0400
TZNAME:EDT
DTSTART:20210314T070000
END:DAYLIGHT
BEGIN:STANDARD
TZOFFSETFROM:-0400
TZOFFSETTO:-0500
TZNAME:EST
DTSTART:20211107T060000
END:STANDARD
BEGIN:DAYLIGHT
TZOFFSETFROM:-0500
TZOFFSETTO:-0400
TZNAME:EDT
DTSTART:20220313T070000
END:DAYLIGHT
BEGIN:STANDARD
TZOFFSETFROM:-0400
TZOFFSETTO:-0500
TZNAME:EST
DTSTART:20221106T060000
END:STANDARD
END:VTIMEZONE
BEGIN:VEVENT
DTSTART;TZID=America/New_York:20210909T140000
DTEND;TZID=America/New_York:20210909T153000
DTSTAMP:20260420T165532
CREATED:20210827T235538Z
LAST-MODIFIED:20221003T200236Z
UID:10001898-1631196000-1631201400@futurefaculty.cornell.edu
SUMMARY:NCFDD Webinar: Overcoming Academic Perfectionism
DESCRIPTION:Do you struggle to share your writing at early stages because it’s not perfect?\nDo you find yourself devastated by criticism of your work?\nDo you beat yourself up every time the tiniest thing goes wrong?\nIs it difficult for you to celebrate other people’s success because it reminds you of your own shortcomings?\n\nIf any of these things sound familiar\, CONGRATULATIONS! You’re a perfectly normal perfectionist! The only problem is that the nature of the Academy is likely to exacerbate your perfectionist tendencies\, as opposed to minimize them. In this webinar\, perfectionists will unite to get clear about: \n\nThe causes and consequences of excessive perfectionism.\nThe features of academic life that intensify perfectionism\nStrategies to identify when your perfectionism is at work\, assess whether it is useful or debilitating\, and adjust your standards and behavior accordingly\nThe secret to finding real satisfaction in every step of the writing process\n\nFacilitator Information\nRosemarie A. Roberts\, PhD\, social scientist\, artist\, and interdisciplinary scholar\, is the Dayton Professor of Dance at Connecticut College. Her scholarship spans the areas of dance\, social inequality\, social group and power relations\, epistemology\, pedagogy\, qualitative research methods\, and performance. Dr. Roberts has published more than twenty articles and book chapters in peer-reviewed journals and books\, co-authored a book\, and authored a second book project about the relationship among hip hop dance\, racialized bodies\, knowledge\, and power. A leader in curricular innovation\, Dr. Roberts co-created an Integrative Pathway\, “Bodies/Embodiment.” \nIn 2013\, Roberts joined NCFDD as an FSP Group Coach and Individual Coach after her transformative experience in the Faculty Success Program in 2011. Passionate about having a life of mind and body\, inside and outside of the academy\, Dr. Roberts loves to travel\, cook\, dance\, stay fit and hang out with her awesome kid when he’s home from college. \nRegister for September 9 NCFDD session \n\nFree Individual Memberships for the National Center for Faculty Development & Diversity (NCFDD)\nAvailable to all Cornell students\, postdocs\, faculty\, and staff \nCornell is an institutional member of the National Center for Faculty Development & Diversity (NCFDD)\, a nationally recognized\, independent organization providing online career development and mentoring resources. The NCFDD provides members with access to tools to increase research and writing productivity and improve work-life balance.   \nActivate your account by following the steps below: \n\nGo to the NCFDD website\nUnder “Select Your Institution\,” choose “Cornell University”\nSelect “Activate my Membership”\nComplete the registration form using your Cornell email address\nCheck your Cornell email account to find a confirmation/welcome email. Click “Activate Account” in the email
URL:https://futurefaculty.cornell.edu/event/ncfdd-webinar-overcoming-academic-perfectionism/
LOCATION:Webinar
CATEGORIES:Future Faculty and Academic Careers
ATTACH;FMTTYPE=image/jpeg:https://futurefaculty.cornell.edu/wp-content/uploads/2021/09/NCFDD-3-2-f4wnT7.tmp_.jpg
END:VEVENT
BEGIN:VEVENT
DTSTART;TZID=America/New_York:20210909T153000
DTEND;TZID=America/New_York:20210909T170000
DTSTAMP:20260420T165532
CREATED:20210823T232412Z
LAST-MODIFIED:20221010T224553Z
UID:10001890-1631201400-1631206800@futurefaculty.cornell.edu
SUMMARY:Building a Better Graduate Education
DESCRIPTION:The CNY Humanities Corridor “Humanities Beyond the Academy” working group hosts a series of mini-residencies for publicly engaged humanistic scholars\, bringing together those interested in public humanities and careers outside the academy. Current mini-resident Leonard Cassuto\, author of The Graduate School Mess: What Caused It and How We Can Fix It and (with Robert Weisbuch) The New PhD: How to Build a Better Graduate Education\, offers a discussion focused on this topic.  \nScholars and authors Leonard Cassuto and Robert Weisbuch argue that universities need to undergo major reforms to their graduate training programs to improve career outcomes for humanities doctoral students. In this discussion\, they focus in particular on how proponents of change can find allies and overcome resistance to reform. \nCornell University\, Syracuse University and University of Rochester are collaborating to bring these mini-residencies together for Humanities PhDs and Postdocs. Register for Building a Better Graduate Education
URL:https://futurefaculty.cornell.edu/event/building-a-better-graduate-education/
LOCATION:Zoom
CATEGORIES:Careers Beyond Academia,Future Faculty and Academic Careers
ATTACH;FMTTYPE=image/png:https://futurefaculty.cornell.edu/wp-content/uploads/2021/09/Logo_CNY-humanities-Uu58Eo.tmp_.png
END:VEVENT
END:VCALENDAR