BEGIN:VCALENDAR
VERSION:2.0
PRODID:-//Future Faculty and Academic Careers - ECPv6.15.17.1//NONSGML v1.0//EN
CALSCALE:GREGORIAN
METHOD:PUBLISH
X-WR-CALNAME:Future Faculty and Academic Careers
X-ORIGINAL-URL:https://futurefaculty.cornell.edu
X-WR-CALDESC:Events for Future Faculty and Academic Careers
REFRESH-INTERVAL;VALUE=DURATION:PT1H
X-Robots-Tag:noindex
X-PUBLISHED-TTL:PT1H
BEGIN:VTIMEZONE
TZID:America/New_York
BEGIN:DAYLIGHT
TZOFFSETFROM:-0500
TZOFFSETTO:-0400
TZNAME:EDT
DTSTART:20200308T070000
END:DAYLIGHT
BEGIN:STANDARD
TZOFFSETFROM:-0400
TZOFFSETTO:-0500
TZNAME:EST
DTSTART:20201101T060000
END:STANDARD
BEGIN:DAYLIGHT
TZOFFSETFROM:-0500
TZOFFSETTO:-0400
TZNAME:EDT
DTSTART:20210314T070000
END:DAYLIGHT
BEGIN:STANDARD
TZOFFSETFROM:-0400
TZOFFSETTO:-0500
TZNAME:EST
DTSTART:20211107T060000
END:STANDARD
BEGIN:DAYLIGHT
TZOFFSETFROM:-0500
TZOFFSETTO:-0400
TZNAME:EDT
DTSTART:20220313T070000
END:DAYLIGHT
BEGIN:STANDARD
TZOFFSETFROM:-0400
TZOFFSETTO:-0500
TZNAME:EST
DTSTART:20221106T060000
END:STANDARD
END:VTIMEZONE
BEGIN:VEVENT
DTSTART;TZID=America/New_York:20210921T140000
DTEND;TZID=America/New_York:20210921T150000
DTSTAMP:20260420T165445
CREATED:20210827T235539Z
LAST-MODIFIED:20221003T200236Z
UID:10002264-1632232800-1632236400@futurefaculty.cornell.edu
SUMMARY:NCFDD Webinar: Teaching with Empathy and for Equity at the Graduate Level
DESCRIPTION:The incentive structures of academia discourage faculty from investing time and energy in being good teachers and good mentors for their graduate students. Meanwhile\, the power dynamics in academia discourage graduate students from seeking the support they need. In this webinar\, we will discuss how faculty can effectively\, efficiently\, and inclusively advise\, mentor\, teach\, and support their graduate students. We will discuss strategies for building a foundation of trust in graduate teaching and mentoring relationships\, providing constructive feedback on student work\, and being advocates for students’ needs.  \nFacilitator Information\nJessica Calarco is an associate professor of sociology at Indiana University. She is the author of two books\, A Field Guide to Grad School: Uncovering the Hidden Curriculum\, and Negotiating Opportunities: How the Middle Class Secures Advantages in School. Her research examines inequalities in education and family life. \n\nFree Individual Memberships for the National Center for Faculty Development & Diversity (NCFDD)\nAvailable to all Cornell students\, postdocs\, faculty\, and staff \nCornell is an institutional member of the National Center for Faculty Development & Diversity (NCFDD)\, a nationally recognized\, independent organization providing online career development and mentoring resources. The NCFDD provides members with access to tools to increase research and writing productivity and improve work-life balance.  \nActivate your account by following the steps below: \n\nGo to the NCFDD website\nUnder “Select Your Institution\,” choose “Cornell University”\nSelect “Activate my Membership”\nComplete the registration form using your Cornell email address\nCheck your Cornell email account to find a confirmation/welcome email. Click “Activate Account” in the email
URL:https://futurefaculty.cornell.edu/event/ncfdd-webinar-teaching-with-empathy-and-for-equity-at-the-graduate-level/
LOCATION:Online
CATEGORIES:Future Faculty and Academic Careers
ATTACH;FMTTYPE=image/jpeg:https://futurefaculty.cornell.edu/wp-content/uploads/2021/09/NCFDD-3-2-e1631742695205-a1FwYW.tmp_.jpg
END:VEVENT
BEGIN:VEVENT
DTSTART;TZID=America/New_York:20210921T140000
DTEND;TZID=America/New_York:20210921T150000
DTSTAMP:20260420T165445
CREATED:20210908T200931Z
LAST-MODIFIED:20221010T224552Z
UID:10002265-1632232800-1632236400@futurefaculty.cornell.edu
SUMMARY:NPA Webinar: Connecting for Career Success
DESCRIPTION:Looking for tips to find and secure a job you will enjoy and thrive in after your postdoc? Want to learn about careers where you can apply the skills and knowledge gained through your postdoc training? Then join us to meet former postdocs who have found success in their chosen professions and learn about their career journeys! \nRegister for the September 21 NPA session \n\nCornell University is a sustaining member of the National Postdoctoral Association (NPA). Founded in 2003\, the NPA’s mission is “to advance the U.S. research enterprise by maximizing the effectiveness of the research community and enhancing the quality of the postdoctoral experience for all participants.” As a postdoc\, faculty member or employee of a sustaining member institution\, you are eligible for a free Affiliate Membership to the NPA\, including newsletters and members-only web content. To join\, visit the NPA website and choose member type “Affiliate Individual Member\, Postdoc” (or the appropriate affiliate category describing you). \nThe 12th annual National Postdoc Appreciation Week (NPAW) is September 20 – 24\, 2021 with NPA volunteers and steering committee members planning three national events around the theme\, “I am a Postdoc.” This effort is intended to give definition to the role of the postdoc “at the bench and beyond\,” uniting postdocs and recognizing their successes.
URL:https://futurefaculty.cornell.edu/event/npa-webinar-connecting-for-career-success/
LOCATION:Zoom
CATEGORIES:Careers Beyond Academia,Future Faculty and Academic Careers
ATTACH;FMTTYPE=image/png:https://futurefaculty.cornell.edu/wp-content/uploads/2021/09/NPA_295_LOGO_-aK1w8t.tmp_.png
END:VEVENT
END:VCALENDAR