BEGIN:VCALENDAR
VERSION:2.0
PRODID:-//Future Faculty and Academic Careers - ECPv6.15.17.1//NONSGML v1.0//EN
CALSCALE:GREGORIAN
METHOD:PUBLISH
X-WR-CALNAME:Future Faculty and Academic Careers
X-ORIGINAL-URL:https://futurefaculty.cornell.edu
X-WR-CALDESC:Events for Future Faculty and Academic Careers
REFRESH-INTERVAL;VALUE=DURATION:PT1H
X-Robots-Tag:noindex
X-PUBLISHED-TTL:PT1H
BEGIN:VTIMEZONE
TZID:America/New_York
BEGIN:DAYLIGHT
TZOFFSETFROM:-0500
TZOFFSETTO:-0400
TZNAME:EDT
DTSTART:20210314T070000
END:DAYLIGHT
BEGIN:STANDARD
TZOFFSETFROM:-0400
TZOFFSETTO:-0500
TZNAME:EST
DTSTART:20211107T060000
END:STANDARD
BEGIN:DAYLIGHT
TZOFFSETFROM:-0500
TZOFFSETTO:-0400
TZNAME:EDT
DTSTART:20220313T070000
END:DAYLIGHT
BEGIN:STANDARD
TZOFFSETFROM:-0400
TZOFFSETTO:-0500
TZNAME:EST
DTSTART:20221106T060000
END:STANDARD
BEGIN:DAYLIGHT
TZOFFSETFROM:-0500
TZOFFSETTO:-0400
TZNAME:EDT
DTSTART:20230312T070000
END:DAYLIGHT
BEGIN:STANDARD
TZOFFSETFROM:-0400
TZOFFSETTO:-0500
TZNAME:EST
DTSTART:20231105T060000
END:STANDARD
END:VTIMEZONE
BEGIN:VEVENT
DTSTART;TZID=America/New_York:20220211T130000
DTEND;TZID=America/New_York:20220211T170000
DTSTAMP:20260420T055426
CREATED:20220121T214023Z
LAST-MODIFIED:20221003T200232Z
UID:10001920-1644584400-1644598800@futurefaculty.cornell.edu
SUMMARY:Inclusive Teaching Institute for Graduate Students and Postdocs
DESCRIPTION:The Inclusive Teaching Institute for Graduate Students and Postdocs is a two-day workshop offered every spring for graduate students and postdoctoral scholars to explore strategies for engaging diversity and fostering inclusion in teaching and learning. As a participant\, you will identify ways to increase accessibility and boost student engagement and belongingness; discuss inclusive course design; and create an action plan for future teaching. Learn more about the institute. \nMeets: \n\nFriday February 11\, 2022\, 1:00 – 5:00 p.m. ET\nSaturday February 12\, 2022\, 10:00 a.m. – 3:00 p.m. ET\n\nThis is a 2-day online event\, so applicants should be prepared to attend both days. As space in the institute is limited\, please register early to save a place. As of February 3\, the Institute is at capacity\, with a waiting list. \nThis event is sponsored by the Center for Teaching Innovation and the Graduate School’s Future Faculty and Academic Careers office. If you have any questions please contact Melina Ivanchikova at the Center for Teaching Innovation or Colleen McLinn at the Graduate School’s Future Faculty and Academic Careers office.
URL:https://futurefaculty.cornell.edu/event/inclusive-teaching-institute-for-graduate-students-and-postdocs-3/
LOCATION:Zoom
CATEGORIES:Future Faculty and Academic Careers
ATTACH;FMTTYPE=image/jpeg:https://futurefaculty.cornell.edu/wp-content/uploads/2019/01/2018-04-23_026-e1548029679201.jpeg
ORGANIZER;CN="Center for Teaching Innovation":MAILTO:cornellcti@cornell.edu
END:VEVENT
BEGIN:VEVENT
DTSTART;TZID=America/New_York:20220211T163000
DTEND;TZID=America/New_York:20220211T173000
DTSTAMP:20260420T055426
CREATED:20220202T233923Z
LAST-MODIFIED:20221010T224548Z
UID:10001924-1644597000-1644600600@futurefaculty.cornell.edu
SUMMARY:Information Session on the Three Minute Thesis (3MT)
DESCRIPTION:Learn about the Three-Minute Thesis competition: history\, format\, judging\, prizes\, and how Cornell offers the chance to participate. Organizers will field your questions about competing in an all-virtual competition in Spring 2022. \nRegister online to attend an information session.
URL:https://futurefaculty.cornell.edu/event/information-session-on-the-three-minute-thesis-3mt-4/
LOCATION:Zoom
CATEGORIES:Careers Beyond Academia,Future Faculty and Academic Careers
ATTACH;FMTTYPE=image/png:https://futurefaculty.cornell.edu/wp-content/uploads/2020/08/3MT-video-screen-grab-GKslux.tmp_.png
END:VEVENT
BEGIN:VEVENT
DTSTART;TZID=America/New_York:20220211T163000
DTEND;TZID=America/New_York:20220211T173000
DTSTAMP:20260420T055426
CREATED:20220207T235424Z
LAST-MODIFIED:20221010T224548Z
UID:10001928-1644597000-1644600600@futurefaculty.cornell.edu
SUMMARY:Information Session on the Three Minute Thesis (3MT)
DESCRIPTION:Learn about the Three-Minute Thesis competition: history\, format\, judging\, prizes\, and how Cornell offers the chance to participate. Organizers will field your questions about competing in an all-virtual competition in Spring 2022. \nRegister online to attend an information session.
URL:https://futurefaculty.cornell.edu/event/information-session-on-the-three-minute-thesis-3mt-6/
LOCATION:Zoom
CATEGORIES:Careers Beyond Academia,Future Faculty and Academic Careers
ATTACH;FMTTYPE=image/png:https://futurefaculty.cornell.edu/wp-content/uploads/2020/08/3MT-video-screen-grab-GKslux.tmp_.png
END:VEVENT
END:VCALENDAR