BEGIN:VCALENDAR
VERSION:2.0
PRODID:-//Future Faculty and Academic Careers - ECPv6.15.20//NONSGML v1.0//EN
CALSCALE:GREGORIAN
METHOD:PUBLISH
X-ORIGINAL-URL:https://futurefaculty.cornell.edu
X-WR-CALDESC:Events for Future Faculty and Academic Careers
REFRESH-INTERVAL;VALUE=DURATION:PT1H
X-Robots-Tag:noindex
X-PUBLISHED-TTL:PT1H
BEGIN:VTIMEZONE
TZID:America/New_York
BEGIN:DAYLIGHT
TZOFFSETFROM:-0500
TZOFFSETTO:-0400
TZNAME:EDT
DTSTART:20190310T070000
END:DAYLIGHT
BEGIN:STANDARD
TZOFFSETFROM:-0400
TZOFFSETTO:-0500
TZNAME:EST
DTSTART:20191103T060000
END:STANDARD
BEGIN:DAYLIGHT
TZOFFSETFROM:-0500
TZOFFSETTO:-0400
TZNAME:EDT
DTSTART:20200308T070000
END:DAYLIGHT
BEGIN:STANDARD
TZOFFSETFROM:-0400
TZOFFSETTO:-0500
TZNAME:EST
DTSTART:20201101T060000
END:STANDARD
BEGIN:DAYLIGHT
TZOFFSETFROM:-0500
TZOFFSETTO:-0400
TZNAME:EDT
DTSTART:20210314T070000
END:DAYLIGHT
BEGIN:STANDARD
TZOFFSETFROM:-0400
TZOFFSETTO:-0500
TZNAME:EST
DTSTART:20211107T060000
END:STANDARD
END:VTIMEZONE
BEGIN:VEVENT
DTSTART;TZID=America/New_York:20200423T090000
DTEND;TZID=America/New_York:20200423T100000
DTSTAMP:20260422T182935
CREATED:20200410T175246Z
LAST-MODIFIED:20221010T224603Z
UID:10002161-1587632400-1587636000@futurefaculty.cornell.edu
SUMMARY:Job Search Virtual Discussion Group
DESCRIPTION:Let’s face it\, finding a job can be a difficult process that is often full of stress.  Add that we are in the midst of a pandemic with many uncertainties\, and you may be experiencing even greater stress and worry.  The Job Search Virtual Discussion Group is designed to get job searchers together to talk about concerns that graduate students and postdocs share\, and strategize about how to move forward. \nEach session will begin with a brief introduction that includes tips\, perspectives\, and thoughts from staff who support career exploration.  After this information is shared\, participants will be assigned small-groups to be able to continue the facilitated discussion.  Come to any or all sessions.  Representatives of other offices such as Careers Beyond Academia and CIRTL at Cornell future faculty and academic careers program may also be present. \nFacilitators:  Christine Holmes\, Postdoctoral Studies Director\, Caleb Yu\, Graduate and International Student Career Advisor\, and Janna Lamey\, Assistant Dean for Graduate Student Life. \nRegister to receive the meeting link. \nAccommodations:  We strive to make our events accessible to all community members.  Individuals who would like to request accessibility accommodations should contact al546@cornell.edu.  We ask that requests be made at least one week in advance to help ensure they can be met.
URL:https://futurefaculty.cornell.edu/event/job-search-virtual-discussion-group-5/
LOCATION:Zoom
CATEGORIES:Careers Beyond Academia,Future Faculty and Academic Careers
ATTACH;FMTTYPE=image/png:https://futurefaculty.cornell.edu/wp-content/uploads/2020/04/GS-Staff-Zoom-ix02sc.tmp_.png
END:VEVENT
END:VCALENDAR