BEGIN:VCALENDAR
VERSION:2.0
PRODID:-//Future Faculty and Academic Careers - ECPv6.15.17.1//NONSGML v1.0//EN
CALSCALE:GREGORIAN
METHOD:PUBLISH
X-WR-CALNAME:Future Faculty and Academic Careers
X-ORIGINAL-URL:https://futurefaculty.cornell.edu
X-WR-CALDESC:Events for Future Faculty and Academic Careers
REFRESH-INTERVAL;VALUE=DURATION:PT1H
X-Robots-Tag:noindex
X-PUBLISHED-TTL:PT1H
BEGIN:VTIMEZONE
TZID:America/New_York
BEGIN:DAYLIGHT
TZOFFSETFROM:-0500
TZOFFSETTO:-0400
TZNAME:EDT
DTSTART:20210314T070000
END:DAYLIGHT
BEGIN:STANDARD
TZOFFSETFROM:-0400
TZOFFSETTO:-0500
TZNAME:EST
DTSTART:20211107T060000
END:STANDARD
BEGIN:DAYLIGHT
TZOFFSETFROM:-0500
TZOFFSETTO:-0400
TZNAME:EDT
DTSTART:20220313T070000
END:DAYLIGHT
BEGIN:STANDARD
TZOFFSETFROM:-0400
TZOFFSETTO:-0500
TZNAME:EST
DTSTART:20221106T060000
END:STANDARD
BEGIN:DAYLIGHT
TZOFFSETFROM:-0500
TZOFFSETTO:-0400
TZNAME:EDT
DTSTART:20230312T070000
END:DAYLIGHT
BEGIN:STANDARD
TZOFFSETFROM:-0400
TZOFFSETTO:-0500
TZNAME:EST
DTSTART:20231105T060000
END:STANDARD
END:VTIMEZONE
BEGIN:VEVENT
DTSTART;TZID=America/New_York:20220322T160000
DTEND;TZID=America/New_York:20220322T173000
DTSTAMP:20260420T232013
CREATED:20220119T212634Z
LAST-MODIFIED:20221010T224547Z
UID:10001918-1647964800-1647970200@futurefaculty.cornell.edu
SUMMARY:2022 Three Minute Thesis (3MT) Competition
DESCRIPTION:Three Minute Thesis (3MT) is a competition for doctoral students to develop and showcase their research communication skills. \nThe 2022 final round competition will be held on Tuesday\, March 22\, 2022. Register to attend and vote for the people’s choice award. \n3MT challenges research degree students to present a compelling story on their dissertation or thesis and its significance in just three minutes\, in language appropriate to a non-specialist audience. In addition to the first place and second place winners from among the finalists\, audience members on March 22 will be asked to select a People’s Choice Award Winner. \n  \n 
URL:https://futurefaculty.cornell.edu/event/2022-three-minute-thesis-3mt-competition/
LOCATION:Zoom
CATEGORIES:Careers Beyond Academia,Future Faculty and Academic Careers
ATTACH;FMTTYPE=image/png:https://futurefaculty.cornell.edu/wp-content/uploads/2020/08/3MT-video-screen-grab-GKslux.tmp_.png
END:VEVENT
END:VCALENDAR