BEGIN:VCALENDAR
VERSION:2.0
PRODID:-//Future Faculty and Academic Careers - ECPv6.15.20//NONSGML v1.0//EN
CALSCALE:GREGORIAN
METHOD:PUBLISH
X-ORIGINAL-URL:https://futurefaculty.cornell.edu
X-WR-CALDESC:Events for Future Faculty and Academic Careers
REFRESH-INTERVAL;VALUE=DURATION:PT1H
X-Robots-Tag:noindex
X-PUBLISHED-TTL:PT1H
BEGIN:VTIMEZONE
TZID:America/New_York
BEGIN:DAYLIGHT
TZOFFSETFROM:-0500
TZOFFSETTO:-0400
TZNAME:EDT
DTSTART:20180311T070000
END:DAYLIGHT
BEGIN:STANDARD
TZOFFSETFROM:-0400
TZOFFSETTO:-0500
TZNAME:EST
DTSTART:20181104T060000
END:STANDARD
BEGIN:DAYLIGHT
TZOFFSETFROM:-0500
TZOFFSETTO:-0400
TZNAME:EDT
DTSTART:20190310T070000
END:DAYLIGHT
BEGIN:STANDARD
TZOFFSETFROM:-0400
TZOFFSETTO:-0500
TZNAME:EST
DTSTART:20191103T060000
END:STANDARD
BEGIN:DAYLIGHT
TZOFFSETFROM:-0500
TZOFFSETTO:-0400
TZNAME:EDT
DTSTART:20200308T070000
END:DAYLIGHT
BEGIN:STANDARD
TZOFFSETFROM:-0400
TZOFFSETTO:-0500
TZNAME:EST
DTSTART:20201101T060000
END:STANDARD
END:VTIMEZONE
BEGIN:VEVENT
DTSTART;TZID=America/New_York:20190409T120000
DTEND;TZID=America/New_York:20190409T140000
DTSTAMP:20260423T054839
CREATED:20190118T182607Z
LAST-MODIFIED:20221003T200314Z
UID:10001746-1554811200-1554818400@futurefaculty.cornell.edu
SUMMARY:Building Mentoring Skills for an Academic Career
DESCRIPTION:In this series of lunchtime workshops for graduate students and postdocs offered by CIRTL at Cornell\, you will develop essential research mentoring skills\, particularly in disciplines where research is conducted collaboratively in a laboratory or field setting. Effective mentoring of students is a key skill influencing everything from research productivity to personal satisfaction. Learn best practices for mentoring undergraduate\, graduate\, and postdoctoral researchers\, and develop planning and communication skills needed to lead a research team. \nAll sessions will be practical in nature and feature short pre-readings or videos\, case studies or discussion with panelists\, and self-assessments to help identify your strengths and desired areas for improvement. \nInterested participants should apply prior to the start of the series with the expectation of attending all workshops. Program completion certificates will be provided for fully participating in at least 4 of 5 sessions. \nAll sessions are on Tuesdays from 12:00-2:00 pm and include catered lunch. Registered participants will receive location details for each session. \nSchedule of Topics for Spring 2019\nFebruary 5\, 2019 – What Makes a Good Mentor and Mentee? Exploring Learning\, Motivation\, and Values\nUnderstand key principles of learning and theories of motivation that can help you build a strong research group\, and even learn more about yourself and values you wish to communicate to mentees. \nFebruary 19\, 2019 – Aligning Expectations and Guiding Doable Projects\nHow do you design a doable project with a defined timespan for a relative novice in your discipline? Learn how to set expectations for mentor and mentee to make sure the project and relationship stay on track. \nMarch 5\, 2019 – Creating Inclusive Research Settings\nCreate and sustain a research group and academic climate in which each individual feels safe and supported. We will discuss how to create a welcoming environment for groups typically underrepresented in higher education\, while reflecting on our own identities and experiences and how they may be strengths or blind spots in our mentoring. \nMarch 19\, 2019 – Handling Tricky Mentoring Situations\nLearn how to address some of the trickiest situations you might encounter when mentoring undergraduate researchers or graduate students\, from modeling appropriate research ethics to sharing co-advised students. We will also discuss how you might solicit feedback and turn around projects that aren’t going as planned (from the mentor’s perspective). \nApril 9\, 2019 – Supporting Mentees’ Professional Development: Helping them Present and Publish\, and Writing Fair Letters of Recommendation\nRevisit some key ideas about effective communication to introduce your students to writing about and presenting their work. Learn how to write a fair letter of recommendation\, and what not to say. \nQuestions? \nContact Colleen McLinn\, CIRTL at Cornell Director\, cirtl@cornell.edu or 607-255-2030. \nSponsored by the Center for the Integration of Research\, Teaching\, and Learning (CIRTL at Cornell)
URL:https://futurefaculty.cornell.edu/event/building-mentoring-skills-for-an-academic-career-5/
LOCATION:ILR Conference Center\, King-Shaw Hall\, Ithaca\, NY\, 14853\, United States
CATEGORIES:Future Faculty and Academic Careers
ATTACH;FMTTYPE=image/jpeg:https://futurefaculty.cornell.edu/wp-content/uploads/2019/01/2015_0115_006_select.jpg
ORGANIZER;CN="CIRTL at Cornell":MAILTO:cirtl@cornell.edu
GEO:42.4469974;-76.480085
X-APPLE-STRUCTURED-LOCATION;VALUE=URI;X-ADDRESS=ILR Conference Center King-Shaw Hall Ithaca NY 14853 United States;X-APPLE-RADIUS=500;X-TITLE=King-Shaw Hall:geo:-76.480085,42.4469974
END:VEVENT
BEGIN:VEVENT
DTSTART;TZID=America/New_York:20190409T140000
DTEND;TZID=America/New_York:20190409T153000
DTSTAMP:20260423T054839
CREATED:20190123T194101Z
LAST-MODIFIED:20221003T200313Z
UID:10001748-1554818400-1554823800@futurefaculty.cornell.edu
SUMMARY:NCFDD Webinar: How to Craft and Submit a Winning Book Proposal in 4 Weeks
DESCRIPTION:As you make plans to engage in future faculty development programming this semester\, please make sure to check out the set of upcoming webinars being offered by the National Center for Faculty Development and Diversity (NCFDD). To access these webinars\, first activate your free\, Cornell-sponsored NCFDD membership via the following link: https://www.facultydiversity.org/institutions/cornell-university \nSession Description:\nYou may have a completed dissertation\, a few rough book chapters\, or even journal articles you’d like to transform into a coherent book project—but where do you start? The path to getting your book published begins with a good proposal. In this multi-week course\, you will be guided through a step-by-step process to complete your book proposal within four weeks\, learn how to translate your research projects for a broader market\, and receive invaluable advice about how to approach acquisition editors at academic presses. \nWhat faculty members are saying about this course: \n“Last summer I participated in Badia’s multi-week course on writing book proposals. This week\, I am negotiating with two university presses\, each of which offered a contract to my co-editor and I for our edited volume. (One press even offered an advance—for an edited volume!!) I could not have reached this point in the process so readily (and to be honest\, following your advice\, it felt easy) without your guidance. Thank you so much!” \nNOTE: This is a four week course\, meeting: March 19\, March 26\, April 2\, and April 9 \nMore information on free resources for Cornell graduate students
URL:https://futurefaculty.cornell.edu/event/ncfdd-webinar-how-to-craft-and-submit-a-winning-book-proposal-in-4-weeks-4/
LOCATION:Online
CATEGORIES:Future Faculty and Academic Careers
ATTACH;FMTTYPE=image/png:https://futurefaculty.cornell.edu/wp-content/uploads/2019/04/Screen-Shot-2019-04-05-at-12.18.37-PM.png
END:VEVENT
BEGIN:VEVENT
DTSTART;TZID=America/New_York:20190416T160000
DTEND;TZID=America/New_York:20190416T173000
DTSTAMP:20260423T054839
CREATED:20190118T182555Z
LAST-MODIFIED:20221003T200314Z
UID:10002055-1555430400-1555435800@futurefaculty.cornell.edu
SUMMARY:NextGen Professors: April Cohort Meeting
DESCRIPTION:This is an invitation-only event for applicants who have been select to participate in this year’s NextGen Professors Cohort. \nNextGen Professors is a career-development program focused on preparing Cornell doctoral students and postdocs for faculty careers across institutional types. The primary audience for this program is doctoral students (in year 3 or beyond) and postdocs from backgrounds historically underrepresented in the professoriate\, and/or those with a demonstrated commitment to advancing diversity\, inclusion\, access and equity in the academy. Participants are members of a cohort who together engage in series of professional and career development activities including monthly NextGen Professors cohort meetings\, Power Mentoring Sessions with faculty\, and the Future Professors Institute. Participants also engage in the future faculty development program offerings of CIRTL at Cornell. \nApril Meeting Topic: Refining your Application Package \nLocation: 102 Mann Library
URL:https://futurefaculty.cornell.edu/event/nextgen-professors-april-cohort-meeting/
LOCATION:102 Mann Library\, 237 Mann Drive\, Ithaca\, NY\, 14853\, United States
CATEGORIES:Future Faculty and Academic Careers
ATTACH;FMTTYPE=image/jpeg:https://futurefaculty.cornell.edu/wp-content/uploads/2019/01/IMG_1046.jpeg
GEO:42.4487952;-76.476316
X-APPLE-STRUCTURED-LOCATION;VALUE=URI;X-ADDRESS=102 Mann Library 237 Mann Drive Ithaca NY 14853 United States;X-APPLE-RADIUS=500;X-TITLE=237 Mann Drive:geo:-76.476316,42.4487952
END:VEVENT
BEGIN:VEVENT
DTSTART;TZID=America/New_York:20190417T170000
DTEND;TZID=America/New_York:20190417T183000
DTSTAMP:20260423T054839
CREATED:20190405T194024Z
LAST-MODIFIED:20221003T200312Z
UID:10002077-1555520400-1555525800@futurefaculty.cornell.edu
SUMMARY:CIRTL Network Teaching as Research Presentations: Group Viewing
DESCRIPTION:Graduate students and postdocs from around the country will be presenting 5-minute overviews of their Teaching as Research projects\, including Andrew St. James\, Microbiology from Cornell University. Teaching as Research (TAR) projects investigate questions about teaching and learning\, including assessing the effectiveness of specific learning activities and tools\, examining the learning process about a specific topic\, or characterizing the student experience in the classroom. Join a group viewing or participate from your own device! Please arrive a few minutes early. \nThese Teaching as Research presentations have been designed and carried out by participants in Center for the Integration of Research\, Teaching\, and Learning (CIRTL) Network programs at U.S. and Canadian universities. \nLink to TAR Series website \n  \n  \n  \n\nRegister for group viewing\nWatch Spring 2019 All-Network Presentations online\nSign up to present
URL:https://futurefaculty.cornell.edu/event/cirtl-network-teaching-as-research-presentations-group-viewing/
LOCATION:341 Caldwell Hall\, 121 Reservoir Avenue\, Ithaca\, NY\, 14853\, United States
CATEGORIES:Future Faculty and Academic Careers
ATTACH;FMTTYPE=image/jpeg:https://futurefaculty.cornell.edu/wp-content/uploads/2019/04/UP_2018_0199_019.jpg
ORGANIZER;CN="CIRTL at Cornell":MAILTO:cirtl@cornell.edu
GEO:42.4492103;-76.4782721
X-APPLE-STRUCTURED-LOCATION;VALUE=URI;X-ADDRESS=341 Caldwell Hall 121 Reservoir Avenue Ithaca NY 14853 United States;X-APPLE-RADIUS=500;X-TITLE=121 Reservoir Avenue:geo:-76.4782721,42.4492103
END:VEVENT
BEGIN:VEVENT
DTSTART;TZID=America/New_York:20190419T090000
DTEND;TZID=America/New_York:20190419T110000
DTSTAMP:20260423T054839
CREATED:20190419T150431Z
LAST-MODIFIED:20221003T200312Z
UID:10002080-1555664400-1555671600@futurefaculty.cornell.edu
SUMMARY:Scholarship of Teaching and Learning Practitioner Workshop
DESCRIPTION:An invited workshop for participants who have been accepted to the Scholarship of Teaching and Learning Practitioner Program for 2018-2019. \nThis will be a special discussion with CIRTL Network Exchange Program visiting scholar Lance K. Bennett from University of Iowa\, as well as a chance to touch base about presentation plans for the May Connecting Research and Teaching Conference. \nLearn more about the SoTL Program
URL:https://futurefaculty.cornell.edu/event/scholarship-of-teaching-and-learning-practitioner-workshop-2/
LOCATION:341 Caldwell Hall\, 121 Reservoir Avenue\, Ithaca\, NY\, 14853\, United States
CATEGORIES:Future Faculty and Academic Careers
ATTACH;FMTTYPE=image/jpeg:https://futurefaculty.cornell.edu/wp-content/uploads/2018/10/UP_2018_0200_025.jpg
ORGANIZER;CN="CIRTL at Cornell":MAILTO:cirtl@cornell.edu
GEO:42.4492103;-76.4782721
X-APPLE-STRUCTURED-LOCATION;VALUE=URI;X-ADDRESS=341 Caldwell Hall 121 Reservoir Avenue Ithaca NY 14853 United States;X-APPLE-RADIUS=500;X-TITLE=121 Reservoir Avenue:geo:-76.4782721,42.4492103
END:VEVENT
END:VCALENDAR