BEGIN:VCALENDAR
VERSION:2.0
PRODID:-//Future Faculty and Academic Careers - ECPv6.15.20//NONSGML v1.0//EN
CALSCALE:GREGORIAN
METHOD:PUBLISH
X-WR-CALNAME:Future Faculty and Academic Careers
X-ORIGINAL-URL:https://futurefaculty.cornell.edu
X-WR-CALDESC:Events for Future Faculty and Academic Careers
REFRESH-INTERVAL;VALUE=DURATION:PT1H
X-Robots-Tag:noindex
X-PUBLISHED-TTL:PT1H
BEGIN:VTIMEZONE
TZID:America/New_York
BEGIN:DAYLIGHT
TZOFFSETFROM:-0500
TZOFFSETTO:-0400
TZNAME:EDT
DTSTART:20180311T070000
END:DAYLIGHT
BEGIN:STANDARD
TZOFFSETFROM:-0400
TZOFFSETTO:-0500
TZNAME:EST
DTSTART:20181104T060000
END:STANDARD
BEGIN:DAYLIGHT
TZOFFSETFROM:-0500
TZOFFSETTO:-0400
TZNAME:EDT
DTSTART:20190310T070000
END:DAYLIGHT
BEGIN:STANDARD
TZOFFSETFROM:-0400
TZOFFSETTO:-0500
TZNAME:EST
DTSTART:20191103T060000
END:STANDARD
BEGIN:DAYLIGHT
TZOFFSETFROM:-0500
TZOFFSETTO:-0400
TZNAME:EDT
DTSTART:20200308T070000
END:DAYLIGHT
BEGIN:STANDARD
TZOFFSETFROM:-0400
TZOFFSETTO:-0500
TZNAME:EST
DTSTART:20201101T060000
END:STANDARD
END:VTIMEZONE
BEGIN:VEVENT
DTSTART;TZID=America/New_York:20190604T083000
DTEND;TZID=America/New_York:20190604T154500
DTSTAMP:20260423T040345
CREATED:20190413T204248Z
LAST-MODIFIED:20221003T200312Z
UID:10002078-1559637000-1559663100@futurefaculty.cornell.edu
SUMMARY:2019 Summer Pathways to Success Symposium
DESCRIPTION:Pathways to Success (P2S) is the Graduate School’s framework for helping graduate and professional students and postdoctoral scholars be successful in their research and scholarship\, and establish the necessary skills for their future careers. \nThe Summer P2S Symposia is a one-day professional development and career exploration opportunities for graduate students and postdoctoral scholars. The event provide participants with information and tools useful for their time at Cornell and beyond. \nSponsored by the Graduate School\, English Language Support Office (ELSO)\, Career Services\, and Office of Postdoctoral Studies. \n 
URL:https://futurefaculty.cornell.edu/event/2019-summer-pathways-to-success-symposium/
LOCATION:G10 Biotechnology Building\, 526 Campus Road\, Ithaca\, NY\, 14853\, United States
CATEGORIES:Future Faculty and Academic Careers
ATTACH;FMTTYPE=image/jpeg:https://futurefaculty.cornell.edu/wp-content/uploads/2019/05/IMG_0212.jpg
GEO:42.4465542;-76.4783618
X-APPLE-STRUCTURED-LOCATION;VALUE=URI;X-ADDRESS=G10 Biotechnology Building 526 Campus Road Ithaca NY 14853 United States;X-APPLE-RADIUS=500;X-TITLE=526 Campus Road:geo:-76.4783618,42.4465542
END:VEVENT
BEGIN:VEVENT
DTSTART;TZID=America/New_York:20190611T070000
DTEND;TZID=America/New_York:20190614T190000
DTSTAMP:20260423T040345
CREATED:20190413T204248Z
LAST-MODIFIED:20221003T200312Z
UID:10002079-1560236400-1560538800@futurefaculty.cornell.edu
SUMMARY:Colman Leadership Program for PhDs
DESCRIPTION:Invitation to Apply to the Colman Leadership Program for PhD Students \nThe Colman Leadership Program seeks to enroll 20-24 students every January and June for an intensive four-day immersion program focused on providing PhD* students with skills and knowledge that will support their development as leaders in graduate school and beyond. \nThe program has the capacity to serve a broader base of students. Consequently\, consideration will be given to applications from PhD* students from all graduate fields and backgrounds (domestic and international). However\, Graduate School Deans Scholars with the following fellowships and affiliations will receive priority consideration for enrollment in the program: \n\nCornell Colman Fellowship\nCornell Sloan Fellowship\nCornell GEM Fellowship\nDeans Excellence Fellowship\nSUNY Diversity Fellowship\nMcNair Graduate Fellowship\nMellon Mays Graduate Fellowship\nCornell IMSD Fellowship\nCornell GEM PhD Fellowship\nProvost Diversity Fellowship\nBouchet Honor Society\n\n(*MFA students are also invited to apply\, given that the MFA is a terminal degree and the degree commonly held by some faculty in fields granting this degree.)
URL:https://futurefaculty.cornell.edu/event/colman-leadership-program-for-phds/
CATEGORIES:Future Faculty and Academic Careers
END:VEVENT
BEGIN:VEVENT
DTSTART;TZID=America/New_York:20190612T120000
DTEND;TZID=America/New_York:20190612T133000
DTSTAMP:20260423T040345
CREATED:20190502T220939Z
LAST-MODIFIED:20221003T200312Z
UID:10002085-1560340800-1560346200@futurefaculty.cornell.edu
SUMMARY:The Application Process for an Academic Job
DESCRIPTION:To kick off our 2019-2020 Academic Job Search Series\, come learn about when to apply for positions\, what documents are required\, and how long the process takes. \nThis is a brown bag event – bring your own lunch\, and we will provide drinks and dessert. Remote participation may be possible via Zoom – please inquire with the organizers. \nCo-sponsored by the Office of Postdoctoral Studies and Center for the Integration of Research\, Teaching\, and Learning (CIRTL at Cornell)\, as part of the Academic Job Search Series. \nRSVPs requested at: https://conta.cc/2H5oIL1
URL:https://futurefaculty.cornell.edu/event/the-application-process-for-an-academic-job/
LOCATION:102 Mann Library\, 237 Mann Drive\, Ithaca\, NY\, 14853\, United States
CATEGORIES:Future Faculty and Academic Careers
ATTACH;FMTTYPE=image/jpeg:https://futurefaculty.cornell.edu/wp-content/uploads/2019/01/IMG_9767.jpg
ORGANIZER;CN="CIRTL at Cornell":MAILTO:cirtl@cornell.edu
GEO:42.4487952;-76.476316
X-APPLE-STRUCTURED-LOCATION;VALUE=URI;X-ADDRESS=102 Mann Library 237 Mann Drive Ithaca NY 14853 United States;X-APPLE-RADIUS=500;X-TITLE=237 Mann Drive:geo:-76.476316,42.4487952
END:VEVENT
BEGIN:VEVENT
DTSTART;TZID=America/New_York:20190620T083000
DTEND;TZID=America/New_York:20190620T163000
DTSTAMP:20260423T040345
CREATED:20190425T152746Z
LAST-MODIFIED:20221003T200312Z
UID:10002083-1561019400-1561048200@futurefaculty.cornell.edu
SUMMARY:Future Professors Institute
DESCRIPTION:The Future Professors Institute is a one-day event featuring workshops and guest speakers from multiple institutions discussing the topic of preparing for successful faculty careers. The focus audience for the full institute is doctoral students\, postdocs\, JD or JSD\, MFA and other terminal degree students who are interested in academic careers\, with the primary audience being Cornell University students and postdocs who identify with backgrounds historically underrepresented in the academy (students of color\, first-generation college students\, and/or students who identify with other historically underrepresented groups such as individuals with disabilities\, Veterans\, and LGBTQQ). Special Invites will also go out to faculty for the Luncheon Keynote Talk and Afternoon Plenary Session. This event is based in part upon work supported by the National Science Foundation under Grant No. 1647094 (AGEP CIRTL). \nOrganized by the Cornell University Center for the Integration of Research\, Teaching\, and Learning (CIRTL at Cornell)\, the Graduate School Office of Inclusion & Student Engagement (OISE)\, and the Office of Postdoctoral Studies \nFor more information\, please visit the Future Professors Institute website.
URL:https://futurefaculty.cornell.edu/event/future-professors-institute/
LOCATION:G10 Biotechnology Building\, 526 Campus Road\, Ithaca\, NY\, 14853\, United States
CATEGORIES:Future Faculty and Academic Careers
ATTACH;FMTTYPE=image/jpeg:https://futurefaculty.cornell.edu/wp-content/uploads/2019/04/FPI-2018-speakers.jpg
ORGANIZER;CN="CIRTL at Cornell":MAILTO:cirtl@cornell.edu
GEO:42.4465542;-76.4783618
X-APPLE-STRUCTURED-LOCATION;VALUE=URI;X-ADDRESS=G10 Biotechnology Building 526 Campus Road Ithaca NY 14853 United States;X-APPLE-RADIUS=500;X-TITLE=526 Campus Road:geo:-76.4783618,42.4465542
END:VEVENT
BEGIN:VEVENT
DTSTART;TZID=America/New_York:20190620T163000
DTEND;TZID=America/New_York:20190620T180000
DTSTAMP:20260423T040345
CREATED:20190607T002951Z
LAST-MODIFIED:20221003T200312Z
UID:10002100-1561048200-1561053600@futurefaculty.cornell.edu
SUMMARY:Power Mentoring Dinner with Dr. Sweeney Windchief
DESCRIPTION:Members of the NextGen Professors Program\, Dean’s Scholars\, Bouchet Society Fellows\, and other invited graduate students and postdocs are encouraged to join the Office of Inclusion and Student Engagement and CIRTL at Cornell for a special dinner with Dr. Sweeney Windchief (Fort Peck Assiniboine Tribe)\, Assistant Professor of Adult and Higher Education at Montana State University after the Future Professors Institute. \nDate: Thursday\, June 20\, 2019\nTime: 4:30-6:00 pm\nLocation: G01 Biotechnology Building\nNote: Space is limited \nRSVP by June 13: Register for Power Mentoring Dinner on June 20 \n  \nAbout Professor Sweeney Windchief\nDr. Sweeney Windchief (Fort Peck Assiniboine Tribe) is Assistant Professor of Adult and Higher Education at Montana State University.  Dr. Windchief earned an Ed.D. in educational leadership and policy with an emphasis on higher education administration\, an M.A. in counselor education from the University of Montana and a B.S. from the University of Central Oklahoma. He is part of the PNW-COSMOS team for the Pacific Northwest AGEP\, which seeks to increase the representation of Native American graduate students in STEM. His research interests include critical race theory\, indigenous epistemologies\, indigenous peoples and higher education\, indigenous intellectualism\, American Indian student success and higher education\, and mentorship.  Dr. Windchief teaches Critical Race Theory\, Indigenous Methodologies in Research\, Law\, and Policy in Higher Education\, and Institutional Research.  His outreach and community engagement include Montana’s American Indian and Minority Achievement Council (AIMA)\, MSU’s American Indian Student Center Executive Committee. \nDr. Windchief’s articles include: 21st Century Indigenous Identity Location: Remembrance\, Reclamation\, and Regeneration; Silences in stewardship: Some American Indian college students examples; Red Pedagogy: Reflections From the Field; and The History of the Assiniboine and Sioux Tribes of the Fort Peck Indian Reservation; 1600-2012. Prior to moving to Montana State University\, Dr. Windchief held various positions in higher education institutions\, including serving as the coordinator of graduate fellowships and special projects at the American Indian Graduate Center in Albuquerque\, N.M.; directing a W. K. Kellogg-funded Native men’s wellness initiative\, the Bureau of Indian Education Fellowship and Loan for Service; facilitating the All Native American High School Academic Team; and presenting at the Western Association of Graduate Schools. Previously\, he advised and recruited historically underrepresented students at both the University of Montana and Idaho State University\, and he served as assistant dean for diversity in the Graduate School at The University of Utah. \nAbout Power Mentoring Dinners\nPower Mentoring Dinners are space-limited sessions hosted by OISE and CIRTL at Cornell that provide invited graduate students and postdocs with the opportunity to engage in candid\, closed door conversations on various topics with faculty from backgrounds historically underrepresented and minoritized within the academy.
URL:https://futurefaculty.cornell.edu/event/power-mentoring-dinner-with-dr-sweeney-windchief-space-limited/
LOCATION:Biotechnology Building\, G01\, Ithaca\, NY\, 14853\, United States
CATEGORIES:Future Faculty and Academic Careers
ATTACH;FMTTYPE=image/jpeg:https://futurefaculty.cornell.edu/wp-content/uploads/2019/06/windchief2.jpeg
ORGANIZER;CN="CIRTL at Cornell":MAILTO:cirtl@cornell.edu
END:VEVENT
END:VCALENDAR