BEGIN:VCALENDAR
VERSION:2.0
PRODID:-//Future Faculty and Academic Careers - ECPv6.15.20//NONSGML v1.0//EN
CALSCALE:GREGORIAN
METHOD:PUBLISH
X-ORIGINAL-URL:https://futurefaculty.cornell.edu
X-WR-CALDESC:Events for Future Faculty and Academic Careers
REFRESH-INTERVAL;VALUE=DURATION:PT1H
X-Robots-Tag:noindex
X-PUBLISHED-TTL:PT1H
BEGIN:VTIMEZONE
TZID:America/New_York
BEGIN:DAYLIGHT
TZOFFSETFROM:-0500
TZOFFSETTO:-0400
TZNAME:EDT
DTSTART:20180311T070000
END:DAYLIGHT
BEGIN:STANDARD
TZOFFSETFROM:-0400
TZOFFSETTO:-0500
TZNAME:EST
DTSTART:20181104T060000
END:STANDARD
BEGIN:DAYLIGHT
TZOFFSETFROM:-0500
TZOFFSETTO:-0400
TZNAME:EDT
DTSTART:20190310T070000
END:DAYLIGHT
BEGIN:STANDARD
TZOFFSETFROM:-0400
TZOFFSETTO:-0500
TZNAME:EST
DTSTART:20191103T060000
END:STANDARD
BEGIN:DAYLIGHT
TZOFFSETFROM:-0500
TZOFFSETTO:-0400
TZNAME:EDT
DTSTART:20200308T070000
END:DAYLIGHT
BEGIN:STANDARD
TZOFFSETFROM:-0400
TZOFFSETTO:-0500
TZNAME:EST
DTSTART:20201101T060000
END:STANDARD
END:VTIMEZONE
BEGIN:VEVENT
DTSTART;TZID=America/New_York:20191105T113000
DTEND;TZID=America/New_York:20191105T133000
DTSTAMP:20260422T181633
CREATED:20190928T174249Z
LAST-MODIFIED:20221003T200310Z
UID:10002106-1572953400-1572960600@futurefaculty.cornell.edu
SUMMARY:My Voice\, My Story: Understanding the Untold Lived Experiences of Graduate & Professional Students – Workshop for Graduate Students & Postdocs
DESCRIPTION:Workshop for Graduate Students & Postdocs\nAbout My Voice\, My Story\nNote: This workshop is nearly full. Contact cirtl@cornell.edu for more information on future sessions. \nMy Voice\, My Story sessions pair video monologues constructed from real experiences of graduate students with facilitated discussions. The primary objectives of My Voice\, My Story are to utilize the power of narratives to achieve greater understanding of the stories on the lived of experiences of graduate and professional students that frequently go untold\, and to develop and share strategies on how to create more inclusive and supportive research and learning environments. \nListening to the stories of the characters portrayed in the My Voice\, My Story monologues provides participants with opportunities for learning through: \n\nListening for understanding\, especially when we think we are different from one another\nDeveloping awareness and understanding of experiences of exclusion and inclusion in the learning and research environment\nEstablishing respect for our mutual similarities and differences\nExperiencing empathy for and identification with all of the characters portrayed in the video monologues\nSeeing the commonality of our human experience that flows underneath all the stories\nRecognizing instances of unconscious bias\nContributing to the development of strategies on how one can contribute to improving the organizational climate for all its members\n\nLunch provided.
URL:https://futurefaculty.cornell.edu/event/my-voice-my-story-understanding-the-untold-lived-experiences-of-graduate-professional-students-workshop-for-graduate-students-postdocs/
LOCATION:ILR Conference Center\, King-Shaw Hall\, Ithaca\, NY\, 14853\, United States
CATEGORIES:Future Faculty and Academic Careers
ATTACH;FMTTYPE=image/png:https://futurefaculty.cornell.edu/wp-content/uploads/2018/12/MVMS-with-text-e1544043691771.png
GEO:42.4469974;-76.480085
X-APPLE-STRUCTURED-LOCATION;VALUE=URI;X-ADDRESS=ILR Conference Center King-Shaw Hall Ithaca NY 14853 United States;X-APPLE-RADIUS=500;X-TITLE=King-Shaw Hall:geo:-76.480085,42.4469974
END:VEVENT
BEGIN:VEVENT
DTSTART;TZID=America/New_York:20191113T120000
DTEND;TZID=America/New_York:20191113T133000
DTSTAMP:20260422T181633
CREATED:20190815T135912Z
LAST-MODIFIED:20221003T200311Z
UID:10001768-1573646400-1573651800@futurefaculty.cornell.edu
SUMMARY:Interviewing and Negotiation for Academic Positions
DESCRIPTION:An important part of the academic job search is interviewing and then negotiating the offer. Come learn about the art of interviewing! Presented by Yael Levitte\, Associate Vice Provost for Faculty Development and Diversity and Christine Holmes\, Director of Postdoctoral Studies. \nThis is a brown bag event – bring your own lunch\, and we will provide drinks and dessert. Co-sponsored by the Center for the Integration of Research\, Teaching\, and Learning (CIRTL at Cornell) and the Office of Postdoctoral Studies\, as part of the Academic Job Search Series.
URL:https://futurefaculty.cornell.edu/event/interviewing-and-negotiation-for-academic-positions-3/
LOCATION:ILR Conference Center\, King-Shaw Hall\, Ithaca\, NY\, 14853\, United States
CATEGORIES:Future Faculty and Academic Careers
ATTACH;FMTTYPE=image/jpeg:https://futurefaculty.cornell.edu/wp-content/uploads/2018/08/36316644_905869322926807_8709859433343090688_o.jpg
GEO:42.4469974;-76.480085
X-APPLE-STRUCTURED-LOCATION;VALUE=URI;X-ADDRESS=ILR Conference Center King-Shaw Hall Ithaca NY 14853 United States;X-APPLE-RADIUS=500;X-TITLE=King-Shaw Hall:geo:-76.480085,42.4469974
END:VEVENT
BEGIN:VEVENT
DTSTART;TZID=America/New_York:20191114T140000
DTEND;TZID=America/New_York:20191114T153000
DTSTAMP:20260422T181633
CREATED:20190904T152706Z
LAST-MODIFIED:20221003T200311Z
UID:10001772-1573740000-1573745400@futurefaculty.cornell.edu
SUMMARY:NCFDD: How to Manage Stress\, Rejection and the Haters in Your Midst
DESCRIPTION:Are you stressed?\nDo you feel devastated when your articles and/or grant proposals get rejected?\nIs the pressure of publishing/funding your work making you sick?\n\nIf any of this sounds familiar and you have difficulty managing the negative energy and rejection in your environment\, please join us to learn: \n\nThe impact that stress and negativity can have if they are not managed\nIdentify the most common areas of stress in academic life\nConcrete strategies for managing the physical\, emotional\, and attitudinal effects of stress\n\nFree Individual Memberships for the National Center for Faculty Development & Diversity (NCFDD)\nAvailable to all Cornell students\, postdocs\, faculty\, and staff \nCornell is an institutional member of the National Center for Faculty Development & Diversity (NCFDD)\, a nationally recognized\, independent organization providing online career development and mentoring resources. The NCFDD provides members with access to tools to increase research and writing productivity and improve work-life balance.   \nActivate your account by following the steps below: \n\nGo to the NCFDD website\nUnder “Select Your Institution\,” choose “Cornell University”\nSelect “Activate my Membership”\nComplete the registration form using your Cornell email address\nCheck your Cornell email account to find a confirmation/welcome email. Click “Activate Account” in the email
URL:https://futurefaculty.cornell.edu/event/ncfdd-how-to-manage-stress-rejection-and-the-haters-in-your-midst-2/
LOCATION:Webinar
CATEGORIES:Future Faculty and Academic Careers
END:VEVENT
BEGIN:VEVENT
DTSTART;TZID=America/New_York:20191119T113000
DTEND;TZID=America/New_York:20191119T133000
DTSTAMP:20260422T181633
CREATED:20190928T174251Z
LAST-MODIFIED:20221003T200310Z
UID:10002107-1574163000-1574170200@futurefaculty.cornell.edu
SUMMARY:My Voice\, My Story: Understanding the Untold Lived Experiences of Graduate and Professional Students - Workshop for Faculty and Staff
DESCRIPTION:Workshop for Faculty & Staff\nAbout My Voice\, My Story\nNote: This workshop is at capacity. Contact cirtl@cornell.edu for more information on future sessions. \nMy Voice\, My Story sessions pair video monologues constructed from real experiences of graduate students with facilitated discussions. The primary objectives of My Voice\, My Story are to utilize the power of narratives to achieve greater understanding of the stories on the lived of experiences of graduate and professional students that frequently go untold\, and to develop and share strategies on how to create more inclusive and supportive research and learning environments. \nListening to the stories of the characters portrayed in the My Voice\, My Story monologues provides participants with opportunities for learning through: \n\nListening for understanding\, especially when we think we are different from one another\nDeveloping awareness and understanding of experiences of exclusion and inclusion in the learning and research environment\nEstablishing respect for our mutual similarities and differences\nExperiencing empathy for and identification with all of the characters portrayed in the video monologues\nSeeing the commonality of our human experience that flows underneath all the stories\nRecognizing instances of unconscious bias\nContributing to the development of strategies on how one can contribute to improving the organizational climate for all its members\n\nLunch provided.
URL:https://futurefaculty.cornell.edu/event/my-voice-my-story-understanding-the-untold-lived-experiences-of-graduate-professional-students-workshop-for-faculty-staff/
LOCATION:401 Warren Hall\, 137 Reservoir Ave\, Ithaca\, NY\, 14853\, United States
CATEGORIES:Future Faculty and Academic Careers
ATTACH;FMTTYPE=image/png:https://futurefaculty.cornell.edu/wp-content/uploads/2018/12/MVMS-with-text-e1544043691771.png
GEO:42.4491983;-76.4771093
X-APPLE-STRUCTURED-LOCATION;VALUE=URI;X-ADDRESS=401 Warren Hall 137 Reservoir Ave Ithaca NY 14853 United States;X-APPLE-RADIUS=500;X-TITLE=137 Reservoir Ave:geo:-76.4771093,42.4491983
END:VEVENT
BEGIN:VEVENT
DTSTART;TZID=America/New_York:20191120T160000
DTEND;TZID=America/New_York:20191120T173000
DTSTAMP:20260422T181633
CREATED:20190822T144231Z
LAST-MODIFIED:20221003T200311Z
UID:10001770-1574265600-1574271000@futurefaculty.cornell.edu
SUMMARY:NextGen Professors: November Cohort Meeting
DESCRIPTION:This is an invitation-only event for applicants who have been select to participate in this year’s NextGen Professors cohort. \nNextGen Professors is a career-development program focused on preparing Cornell doctoral students and postdocs for faculty careers across institutional types. The primary audience for this program is doctoral students (in year 3 or beyond) and postdocs from backgrounds historically underrepresented in the professoriate\, and/or those with a demonstrated commitment to advancing diversity\, inclusion\, access and equity in the academy. Participants are members of a cohort who together engage in series of professional and career development activities including monthly NextGen Professors cohort meetings\, Power Mentoring Sessions with faculty\, and the Future Professors Institute. Participants also engage in the future faculty development program offerings of CIRTL at Cornell. \nNovember Meeting Topic: Creating & Leveraging Colleague Network Groups – Lessons from Faculty \nLocation: 102 Mann Library
URL:https://futurefaculty.cornell.edu/event/nextgen-professors-november-cohort-meeting-2/
LOCATION:102 Mann Library\, 237 Mann Drive\, Ithaca\, NY\, 14853\, United States
CATEGORIES:Future Faculty and Academic Careers
ATTACH;FMTTYPE=image/jpeg:https://futurefaculty.cornell.edu/wp-content/uploads/2019/01/IMG_1051_select.jpeg
GEO:42.4487952;-76.476316
X-APPLE-STRUCTURED-LOCATION;VALUE=URI;X-ADDRESS=102 Mann Library 237 Mann Drive Ithaca NY 14853 United States;X-APPLE-RADIUS=500;X-TITLE=237 Mann Drive:geo:-76.476316,42.4487952
END:VEVENT
END:VCALENDAR