BEGIN:VCALENDAR
VERSION:2.0
PRODID:-//Future Faculty and Academic Careers - ECPv6.15.17.1//NONSGML v1.0//EN
CALSCALE:GREGORIAN
METHOD:PUBLISH
X-WR-CALNAME:Future Faculty and Academic Careers
X-ORIGINAL-URL:https://futurefaculty.cornell.edu
X-WR-CALDESC:Events for Future Faculty and Academic Careers
REFRESH-INTERVAL;VALUE=DURATION:PT1H
X-Robots-Tag:noindex
X-PUBLISHED-TTL:PT1H
BEGIN:VTIMEZONE
TZID:America/New_York
BEGIN:DAYLIGHT
TZOFFSETFROM:-0500
TZOFFSETTO:-0400
TZNAME:EDT
DTSTART:20190310T070000
END:DAYLIGHT
BEGIN:STANDARD
TZOFFSETFROM:-0400
TZOFFSETTO:-0500
TZNAME:EST
DTSTART:20191103T060000
END:STANDARD
BEGIN:DAYLIGHT
TZOFFSETFROM:-0500
TZOFFSETTO:-0400
TZNAME:EDT
DTSTART:20200308T070000
END:DAYLIGHT
BEGIN:STANDARD
TZOFFSETFROM:-0400
TZOFFSETTO:-0500
TZNAME:EST
DTSTART:20201101T060000
END:STANDARD
BEGIN:DAYLIGHT
TZOFFSETFROM:-0500
TZOFFSETTO:-0400
TZNAME:EDT
DTSTART:20210314T070000
END:DAYLIGHT
BEGIN:STANDARD
TZOFFSETFROM:-0400
TZOFFSETTO:-0500
TZNAME:EST
DTSTART:20211107T060000
END:STANDARD
END:VTIMEZONE
BEGIN:VEVENT
DTSTART;TZID=America/New_York:20201112T140000
DTEND;TZID=America/New_York:20201112T153000
DTSTAMP:20260421T161649
CREATED:20200814T005046Z
LAST-MODIFIED:20221003T200258Z
UID:10002201-1605189600-1605195000@futurefaculty.cornell.edu
SUMMARY:NCFDD: How to Manage Stress\, Rejection and the Haters in Your Midst
DESCRIPTION:Are you stressed?\nDo you feel devastated when your articles and/or grant proposals get rejected?\nIs the pressure of publishing/funding your work making you sick?\n\nIf any of this sounds familiar and you have difficulty managing the negative energy and rejection in your environment\, please join us to learn: \n\nThe impact that stress and negativity can have if they are not managed\nIdentify the most common areas of stress in academic life\nConcrete strategies for managing the physical\, emotional\, and attitudinal effects of stress\n\n\nFree Individual Memberships for the National Center for Faculty Development & Diversity (NCFDD)\nAvailable to all Cornell students\, postdocs\, faculty\, and staff \nCornell is an institutional member of the National Center for Faculty Development & Diversity (NCFDD)\, a nationally recognized\, independent organization providing online career development and mentoring resources. The NCFDD provides members with access to tools to increase research and writing productivity and improve work-life balance.   \nActivate your account by following the steps below: \n\nGo to the NCFDD website\nUnder “Select Your Institution\,” choose “Cornell University”\nSelect “Activate my Membership”\nComplete the registration form using your Cornell email address\nCheck your Cornell email account to find a confirmation/welcome email. Click “Activate Account” in the email
URL:https://futurefaculty.cornell.edu/event/ncfdd-how-to-manage-stress-rejection-and-the-haters-in-your-midst-3/
LOCATION:Webinar
CATEGORIES:Future Faculty and Academic Careers
END:VEVENT
BEGIN:VEVENT
DTSTART;TZID=America/New_York:20201112T160000
DTEND;TZID=America/New_York:20201112T170000
DTSTAMP:20260421T161649
CREATED:20200924T012420Z
LAST-MODIFIED:20221010T224559Z
UID:10002222-1605196800-1605200400@futurefaculty.cornell.edu
SUMMARY:Overcoming Stage Fright and Improving Your Presence
DESCRIPTION:Who doesn’t get at least a little nervous when preparing and presenting for audiences of any size when the stakes are high? (No one!) Thinking about a class presentation? A job interview? A presentation at a colloquium or conference? Join us to learn ways to manage nervousness and anxiety about presenting and to develop and demonstrate confidence with your audience.  Pre-register here.
URL:https://futurefaculty.cornell.edu/event/overcoming-stage-fright-and-improving-your-presence/
LOCATION:Zoom
CATEGORIES:Careers Beyond Academia,Future Faculty and Academic Careers
END:VEVENT
BEGIN:VEVENT
DTSTART;TZID=America/New_York:20201116T120000
DTEND;TZID=America/New_York:20201116T133000
DTSTAMP:20260421T161649
CREATED:20201103T190221Z
LAST-MODIFIED:20221003T200252Z
UID:10002231-1605528000-1605533400@futurefaculty.cornell.edu
SUMMARY:How Completing a Teaching as Research Project Impacted My Career: Reflections from CIRTL Alumni
DESCRIPTION:Are you thinking about taking on a Teaching as Research (TAR) project? Join us to hear from a panel of CIRTL Network alumni who will share their experience doing a TAR project – not the research they conducted\, but what they learned from the process and how they leveraged their TAR project in their career. Alumni from University of Iowa\, Michigan State University\, University of California-Irvine\, University of North Carolina\, and Texas A&M University will reflect on the ups and downs of the TAR process\, discuss how the experience impacted their career and instructional approach\, and answer questions from the audience. \nThis event is intended to be interactive\, with most of the time devoted to panelists answering questions\, so please come to the event prepared to ask questions! \nRegister in advance to receive the online meeting connection information (requires a free CIRTL Network account signup). \nRegistration: This drop-in\, online event is open to the public. Anyone is welcome to attend\, but you must register in order to attend. Once you register\, you will have access to the online meeting room where this event will take place. \nAccessibility: We strive to be inclusive of anyone interested in participating in our activities. If you have specific accessibility needs\, please contact us at info@cirtl.net in advance so that we may make the necessary accommodations. \nRecording: This event will be recorded and CIRTL may share that recording on our public YouTube channel. \nMore about Teaching as Research at Cornell
URL:https://futurefaculty.cornell.edu/event/how-completing-a-teaching-as-research-project-impacted-my-career-reflections-from-cirtl-alumni/
LOCATION:Online
CATEGORIES:Future Faculty and Academic Careers
ATTACH;FMTTYPE=image/jpeg:https://futurefaculty.cornell.edu/wp-content/uploads/2019/04/UP_2018_0199_019.jpg
ORGANIZER;CN="CIRTL Network":MAILTO:info@cirtl.net
END:VEVENT
BEGIN:VEVENT
DTSTART;TZID=America/New_York:20201116T160000
DTEND;TZID=America/New_York:20201116T170000
DTSTAMP:20260421T161649
CREATED:20201029T001129Z
LAST-MODIFIED:20221003T200252Z
UID:10002229-1605542400-1605546000@futurefaculty.cornell.edu
SUMMARY:Back to Basics:  Self-Care 101 Refresher
DESCRIPTION:While it is not the most glamorous nor the easiest\, self-care is foundational to be able to function\, and\, most importantly\, manage stress.  And there is an abundance of stress happening right now.  This session is designed to be an inspiring invitation back to making yourself a priority\, emphasizing current research along with strategies and quick tips to help you maintain or get back to homeostasis.  With a community of graduate and professional students and postdoc scholars\, consider taking time to remind yourself of the importance of self-care and start immediately on regaining balance. \nPresenter: Catherine Thrasher- Carroll\, MA\, Mental Health Promotion Program Director\, Skorton Center for Health Initiatives
URL:https://futurefaculty.cornell.edu/event/back-to-basics-self-care-101/
LOCATION:Zoom
CATEGORIES:Future Faculty and Academic Careers
END:VEVENT
BEGIN:VEVENT
DTSTART;TZID=America/New_York:20201117T110000
DTEND;TZID=America/New_York:20201117T120000
DTSTAMP:20260421T161649
CREATED:20201030T050803Z
LAST-MODIFIED:20221010T224559Z
UID:10002230-1605610800-1605614400@futurefaculty.cornell.edu
SUMMARY:Job Search Virtual Discussion Group
DESCRIPTION:The Job Search Virtual Monthly Chat is designed to get job seekers together to talk about concerns that graduate students and postdocs share\, and strategize about how to move forward. Each session will begin with a brief introduction that includes tips\, perspectives\, and thoughts from staff who support career exploration. After this information is shared\, participants will have the opportunity to ask questions they have and share best practices that work for them. We want to create a safe space for everyone to talk and listen. Please come join us and hear from each other! \nTo Register \nDate & Time: Tuesday\, November 17 from 11:00 am – 12:00 pm ET\nLocation: Zoom link to be provided upon registration \nFacilitators: Christine Holmes\, Postdoctoral Studies Director\, Caleb Yu\, Graduate and International Student Career Advisor\, Colleen McLinn\, Executive Director of Future Faculty and Academic Careers\, Denise DiRienzo\, Experiential Program Director of Careers Beyond Academia\, Susi Varvayanis\, Executive Director of Careers Beyond Academia \nAccommodations: We strive to make our events accessible to all community members. Individuals who would like to request accessibility accommodations should contact al546@cornell.edu. We ask that requests be made at least one week in advance to help ensure they can be met.
URL:https://futurefaculty.cornell.edu/event/job-search-virtual-discussion-group-8/
LOCATION:Zoom
CATEGORIES:Careers Beyond Academia,Future Faculty and Academic Careers
ATTACH;FMTTYPE=image/png:https://futurefaculty.cornell.edu/wp-content/uploads/2020/08/Summer-Job-Search-Discussions-e1597717600555-6LYZDn.tmp_.png
END:VEVENT
BEGIN:VEVENT
DTSTART;TZID=America/New_York:20201118T120000
DTEND;TZID=America/New_York:20201118T133000
DTSTAMP:20260421T161649
CREATED:20201021T232555Z
LAST-MODIFIED:20221003T200252Z
UID:10002227-1605700800-1605706200@futurefaculty.cornell.edu
SUMMARY:Interviewing and Negotiation for Academic Positions
DESCRIPTION:An important part of the academic job search is interviewing and then negotiating the offer. Grab a snack and come learn about the art of interviewing for faculty positions from your own laptop or mobile device. \nPresenters: Yael Levitte\, associate vice provost for faculty development and diversity\, and Christine Holmes\, director of postdoctoral studies \nRSVPs requested to receive the link to participate by Zoom. Register for November 18 \nCo-sponsored by the Office of Postdoctoral Studies and the Future Faculty and Academic Careers program\, as part of the Graduate School’s Academic Job Search Series. \nWe strive to make our events accessible to all community members. Individuals who have food restrictions and/or would like to request accessibility accommodations should contact al546@cornell.edu. We ask that requests be made at least one week in advance of an event to help ensure they can be met.
URL:https://futurefaculty.cornell.edu/event/interviewing-and-negotiation-for-academic-positions-5/
LOCATION:Zoom
CATEGORIES:Future Faculty and Academic Careers
ATTACH;FMTTYPE=image/jpeg:https://futurefaculty.cornell.edu/wp-content/uploads/2018/08/36316644_905869322926807_8709859433343090688_o.jpg
END:VEVENT
BEGIN:VEVENT
DTSTART;TZID=America/New_York:20201118T150000
DTEND;TZID=America/New_York:20201118T160000
DTSTAMP:20260421T161649
CREATED:20200821T214011Z
LAST-MODIFIED:20221003T200258Z
UID:10002205-1605711600-1605715200@futurefaculty.cornell.edu
SUMMARY:Writing and Publishing Workshop Series – Peer Review and Journal Decisions
DESCRIPTION:Join us to learn about peer review roles\, responsibilities\, and process and how editorial decisions to publish are made. \nRegister Here \nAccommodations: We strive to make our events accessible to all community members.  Individuals who would like to request accessibility accommodations should email gradacad_assoc_dean@cornell.edu. We ask that requests be made at least one week in advance to help ensure they can be met. \n 
URL:https://futurefaculty.cornell.edu/event/writing-and-publishing-workshop-series-peer-review-and-journal-decisions/
CATEGORIES:Future Faculty and Academic Careers
END:VEVENT
BEGIN:VEVENT
DTSTART;TZID=America/New_York:20201119T113000
DTEND;TZID=America/New_York:20201119T130000
DTSTAMP:20260421T161649
CREATED:20201023T232216Z
LAST-MODIFIED:20221003T200252Z
UID:10002228-1605785400-1605790800@futurefaculty.cornell.edu
SUMMARY:Strategies for Managing 2020 Anxiety – Individually and Collectively
DESCRIPTION:We recognize that the lead up to this election cycle and the current post-election period coupled with everything else that has come along with 2020 are contributing to heightened feelings of concern\, exhaustion and anxiety especially within BIPOC\, LGBTQ+\, international and members of other historically marginalized communities. To help address these concerns\, the Graduate School Office of Inclusion and Student Engagement and the Graduate and Professional Student Diversity Council invite you to join other members of the Cornell community for a discussion on Strategies for Managing 2020 Anxiety- Individually and Collectively.  \nFacilitating this discussion will be Dr. Marta Guzmán\, who serves as a psychologist for the Cornell Faculty and Staff Assistance Program.  Dr. Guzmán will provide guidance on strategies to manage and cope during this uniquely stressful time\, and how to nurture hope. \n  \n\nAbout the Speaker:\nDr. Marta Guzmán earned a doctoral degree in Clinical Psychology from The Florida School of Professional Psychology in Tampa\, FL. Dr. Guzmán’s professional interests include anxiety disorders\, chronic mental health issues\, acute and chronic medical concerns\, and diversity and multicultural issues. She has experience working in community mental health\, higher education\, and medical settings\, and is an active member of the National Latinx Psychological Association.
URL:https://futurefaculty.cornell.edu/event/strategies-for-managing-post-election-anxiety-individually-and-collectively/
LOCATION:Zoom
CATEGORIES:Future Faculty and Academic Careers
END:VEVENT
BEGIN:VEVENT
DTSTART;TZID=America/New_York:20201123T133000
DTEND;TZID=America/New_York:20201123T153000
DTSTAMP:20260421T161649
CREATED:20200916T192404Z
LAST-MODIFIED:20221003T200255Z
UID:10002207-1606138200-1606145400@futurefaculty.cornell.edu
SUMMARY:NIH: Academic Job Interviews
DESCRIPTION:Speaker(s): Sharon Milgram\, PhD\, Director\, OITE\nThis event is recommended for: Graduate Students; Postdocs/Fellows. \nAfter you submit your academic job package\, the job interview is the next major hurdle to securing a position. In this workshop\, learn the “do’s and don’ts” of academic job interviewing and hear what interview committees like to see. In addition\, the workshop will address job talks\, chalk talks and teaching talks – important elements of many academic job interviews. \nThe session will be on the gotowebinar platform: https://attendee.gotowebinar.com/register/6150471642269595662 \nA recording of the presentation will be posted on the OITE YouTube page approximately one week post the event: https://www.youtube.com/c/NIHOITE
URL:https://futurefaculty.cornell.edu/event/nih-academic-job-interviews/
LOCATION:GoToWebinar
CATEGORIES:Future Faculty and Academic Careers
END:VEVENT
BEGIN:VEVENT
DTSTART;TZID=America/New_York:20201124T140000
DTEND;TZID=America/New_York:20201124T150000
DTSTAMP:20260421T161649
CREATED:20201014T214954Z
LAST-MODIFIED:20221003T200253Z
UID:10002224-1606226400-1606230000@futurefaculty.cornell.edu
SUMMARY:NCFDD: Engagement Matters – Developing a Career as a Community Engaged Scholar
DESCRIPTION:Drawing on studies of exemplar\, highly impactful engaged scholars\, Dr. KerryAnne O’Meara shares examples of high impact community engaged scholarship and strategies adopted by engaged scholars to succeed in reward systems that are not yet fully inclusive of this work. We consider ways in which projects with community partners might be designed to document expertise or knowledge drawn on\, impact\, and significance.   \nSee also: O’Meara\, K. (2018\, August 22). Accurately Assessing Engaged Scholarship. Inside Higher Education. \n\nFree Individual Memberships for the National Center for Faculty Development & Diversity (NCFDD)\nAvailable to all Cornell students\, postdocs\, faculty\, and staff \nCornell is an institutional member of the National Center for Faculty Development & Diversity (NCFDD)\, a nationally recognized\, independent organization providing online career development and mentoring resources. The NCFDD provides members with access to tools to increase research and writing productivity and improve work-life balance.   \nActivate your account by following the steps below: \n\nGo to the NCFDD website\nUnder “Select Your Institution\,” choose “Cornell University”\nSelect “Activate my Membership”\nComplete the registration form using your Cornell email address\nCheck your Cornell email account to find a confirmation/welcome email. Click “Activate Account” in the email
URL:https://futurefaculty.cornell.edu/event/ncfdd-engagement-matters-developing-a-career-as-a-community-engaged-scholar/
LOCATION:Webinar
CATEGORIES:Future Faculty and Academic Careers
ATTACH;FMTTYPE=image/jpeg:https://futurefaculty.cornell.edu/wp-content/uploads/2020/02/ncfdd_200x.jpg
END:VEVENT
END:VCALENDAR