BEGIN:VCALENDAR
VERSION:2.0
PRODID:-//Future Faculty and Academic Careers - ECPv6.15.17.1//NONSGML v1.0//EN
CALSCALE:GREGORIAN
METHOD:PUBLISH
X-WR-CALNAME:Future Faculty and Academic Careers
X-ORIGINAL-URL:https://futurefaculty.cornell.edu
X-WR-CALDESC:Events for Future Faculty and Academic Careers
REFRESH-INTERVAL;VALUE=DURATION:PT1H
X-Robots-Tag:noindex
X-PUBLISHED-TTL:PT1H
BEGIN:VTIMEZONE
TZID:America/New_York
BEGIN:DAYLIGHT
TZOFFSETFROM:-0500
TZOFFSETTO:-0400
TZNAME:EDT
DTSTART:20200308T070000
END:DAYLIGHT
BEGIN:STANDARD
TZOFFSETFROM:-0400
TZOFFSETTO:-0500
TZNAME:EST
DTSTART:20201101T060000
END:STANDARD
BEGIN:DAYLIGHT
TZOFFSETFROM:-0500
TZOFFSETTO:-0400
TZNAME:EDT
DTSTART:20210314T070000
END:DAYLIGHT
BEGIN:STANDARD
TZOFFSETFROM:-0400
TZOFFSETTO:-0500
TZNAME:EST
DTSTART:20211107T060000
END:STANDARD
BEGIN:DAYLIGHT
TZOFFSETFROM:-0500
TZOFFSETTO:-0400
TZNAME:EDT
DTSTART:20220313T070000
END:DAYLIGHT
BEGIN:STANDARD
TZOFFSETFROM:-0400
TZOFFSETTO:-0500
TZNAME:EST
DTSTART:20221106T060000
END:STANDARD
END:VTIMEZONE
BEGIN:VEVENT
DTSTART;TZID=America/New_York:20210203T120000
DTEND;TZID=America/New_York:20210203T133000
DTSTAMP:20260421T113204
CREATED:20210126T203324Z
LAST-MODIFIED:20221003T200243Z
UID:10002234-1612353600-1612359000@futurefaculty.cornell.edu
SUMMARY:Interviewing and Negotiation for Academic Positions
DESCRIPTION:An important part of the academic job search is interviewing and then negotiating the offer. Come learn about the art of interviewing for faculty positions from your own laptop or mobile device. During and after the presentation\, you will be able to ask questions via audio/video or chat. \nPresenters: Yael Levitte\, Associate Vice Provost for Faculty Development and Diversity\, and Christine Holmes\, Director of Postdoctoral Studies \nRSVPs requested to receive the link to participate by Zoom. Register for February 3 \nCo-sponsored by the Office of Postdoctoral Studies and the Future Faculty and Academic Careers program\, as part of the Graduate School’s Academic Job Search Series. \nWe strive to make our events accessible to all community members. Individuals who would like to request accessibility accommodations should contact futurefaculty@cornell.edu. We ask that requests be made at least one week in advance of an event to help ensure they can be met.
URL:https://futurefaculty.cornell.edu/event/interviewing-and-negotiation-for-academic-positions-6/
LOCATION:Zoom
CATEGORIES:Future Faculty and Academic Careers
ATTACH;FMTTYPE=image/jpeg:https://futurefaculty.cornell.edu/wp-content/uploads/2018/08/36316644_905869322926807_8709859433343090688_o.jpg
END:VEVENT
BEGIN:VEVENT
DTSTART;TZID=America/New_York:20210209T120000
DTEND;TZID=America/New_York:20210209T130000
DTSTAMP:20260421T113204
CREATED:20201222T235448Z
LAST-MODIFIED:20221010T224557Z
UID:10001859-1612872000-1612875600@futurefaculty.cornell.edu
SUMMARY:Information Session on the Three Minute Thesis (3MT)
DESCRIPTION:Learn about the Three-Minute Thesis competition: history\, format\, judging\, prizes\, and how Cornell offers the chance to participate. Organizers will field your questions about competing in an all-virtual competition in Spring 2021.
URL:https://futurefaculty.cornell.edu/event/information-session-on-the-three-minute-thesis-3mt/
LOCATION:Zoom
CATEGORIES:Careers Beyond Academia,Future Faculty and Academic Careers
ATTACH;FMTTYPE=image/png:https://futurefaculty.cornell.edu/wp-content/uploads/2020/08/3MT-video-screen-grab-GKslux.tmp_.png
END:VEVENT
BEGIN:VEVENT
DTSTART;TZID=America/New_York:20210209T140000
DTEND;TZID=America/New_York:20210209T160000
DTSTAMP:20260421T113204
CREATED:20201111T193019Z
LAST-MODIFIED:20221003T200251Z
UID:10002232-1612879200-1612886400@futurefaculty.cornell.edu
SUMMARY:NIH: Becoming a Resilient Scientist Series – Building Mentor Networks
DESCRIPTION:Speaker(s): Sharon Milgram\, PhD\, Director\, OITE\nThis event is recommended for: Postbacs; Graduate Students; Postdocs/Fellows; NIH Staff Scientist/Staff Clinician. \nRegister here: https://attendee.gotowebinar.com/register/3222926275919384846 \nWe all need mentors to support and encourage us throughout our educational and career journey. In this webinar\, we will the mentoring relationship in research environments with a focus on improving your relationship with your PI\, finding mentors and on improving communication and interpersonal interactions. The webinar will help clarify what you need from your supervisors and mentors and address how to get what you need from these important interactions. \n  \n********************************************** \nBECOMING A RESILIENT SCIENTIST SERIES\nNavigating school\, the career exploration process\, research environments\, and the stress of national/international news can seem overwhelming and lead us to doubt ourselves just when we need confidence the most. Through workshops and group discussions in this series (discussion groups will be held in the week following the lecture\, more info will be provided via email)\, we will work to identify attitudes and behaviors that can help us be more resilient as we navigate difficult situations in school\, work and life. Each workshop will highlight emotional intelligence competencies needed for success in research and healthcare careers and will provide strategies for developing these competencies as part of your educational journey. While you may participate in any of the webinars\, it is best to participate in the entire series as the material relates and concepts will be developed throughout the series. The workshops and group discussions in the series are: \nSession 1 – Sept: I. An Introduction to Resilience and Wellness  \nSession 2 – Oct: II. Exploring our Self-Talk: Cognitive Distortions and Imposter Fears \nSession 3 – Nov: III. Emotions and Emotional Intelligence in the Workplace \nSession 4 – Dec: IV. Self-Advocacy and Assertiveness for Scientists \nSession 5 – Jan: V. Developing Feedback Resilience \nSession 6 – Feb: VI. Managing Up to Maximize Mentoring Relationships
URL:https://futurefaculty.cornell.edu/event/nih-becoming-a-resilient-scientist-series-building-mentor-networks/
LOCATION:GoToWebinar
CATEGORIES:Future Faculty and Academic Careers
END:VEVENT
BEGIN:VEVENT
DTSTART;TZID=America/New_York:20210211T110000
DTEND;TZID=America/New_York:20210211T123000
DTSTAMP:20260421T113204
CREATED:20201216T230951Z
LAST-MODIFIED:20221003T200250Z
UID:10001853-1613041200-1613046600@futurefaculty.cornell.edu
SUMMARY:Building Mentorship Skills for Academic Careers
DESCRIPTION:This is an invitation-only event for registrants who have been accepted to participate in this year’s Building Mentoring Skills cohort\, and will be held online. A Zoom link will be shared by email to participants. \nIn this series of remotely delivered workshops designed for current graduate students and postdocs and open to those in all fields\, you will develop essential research mentoring skills\, particularly in disciplines where research is conducted collaboratively and in teams. Effective mentoring of student research is a key skill influencing everything from research productivity to personal satisfaction. Learn best practices for mentoring undergraduate\, graduate\, and postdoctoral researchers\, and develop advising and communication skills needed to lead a research team. \nAll sessions will be practical in nature and feature short pre-readings or videos\, case studies or discussion with panelists\, and self-assessments to help identify your strengths and desired areas for improvement. \nInterested participants should apply prior to the start of the series with the expectation of attending all workshops and actively participating in small and large group discussions online. Building Mentorship Skills program completion certificates will be provided for fully participating in at least 4 of 5 sessions. \nRegistered participants will receive connection details for each session. \nSchedule of Topics for Spring 2021\nAll sessions are on Thursdays from 11:00 am – 12:30 pm* \nFebruary 11\, 2021 – What Makes a Good Mentor and Mentee? Exploring Learning\, Motivation\, and Values\nUnderstand key principles of learning and theories of motivation that can help you build a strong research group\, and even learn more about yourself and values you wish to communicate to mentees. \nFebruary 25\, 2021 – Aligning Expectations and Guiding Doable Projects\nHow do you design a doable project with a defined timespan for a relative novice in your discipline? Learn how to set expectations for mentor and mentee to make sure the project and relationship stay on track. \nMarch 11\, 2021 – Creating Inclusive Research Settings\, featuring My Voice\, My Story: Lived Experiences of Graduate and Professional Students\n*Meets 11:00-1:00 this week. \nCreate and sustain a research group and academic climate in which each individual feels safe and supported. We will discuss how to create a welcoming environment for groups typically underrepresented in higher education\, while reflecting on our own identities and experiences and how they may be strengths or blind spots in our mentoring. Guest presenter: Associate Dean Sara Xayarath Hernández. \nMarch 25\, 2021 – Handling Tricky Mentoring Situations\nLearn how to address some of the trickiest situations you might encounter when mentoring undergraduate researchers or graduate students\, from modeling appropriate research ethics to sharing co-advised students. We will also discuss how you might solicit feedback and turn around projects that aren’t going as planned (from the mentor’s perspective). \nApril 8\, 2021 – Supporting Mentees’ Professional Development: Helping Students Present and Publish\, and Writing Fair Letters of Recommendation\nRevisit some key ideas about effective communication to introduce your students to writing about and presenting their work. Learn how to write a fair letter of recommendation\, and what not to say. \nQuestions?\n\nContact Dr. Colleen McLinn\, futurefaculty@cornell.edu or 607-255-2030
URL:https://futurefaculty.cornell.edu/event/building-mentorship-skills-for-an-academic-career/
LOCATION:Online
CATEGORIES:Future Faculty and Academic Careers
ORGANIZER;CN="Future Faculty and Academic Careers":MAILTO:futurefaculty@cornell.edu
END:VEVENT
BEGIN:VEVENT
DTSTART;TZID=America/New_York:20210217T113000
DTEND;TZID=America/New_York:20210217T130000
DTSTAMP:20260421T113204
CREATED:20210126T203325Z
LAST-MODIFIED:20221003T200243Z
UID:10002235-1613561400-1613566800@futurefaculty.cornell.edu
SUMMARY:“Equity in Science” Book Talk with Author & Prof. Julie Posselt
DESCRIPTION:The Graduate School Offices of Inclusion & Student Engagement and Future Faculty and Academic Careers invite you to join us on Wednesday\, February 17 for a discussion with Julie R. Posselt\, Associate Professor of Higher Education at the University of Southern California\, on her recent book\, Equity in Science: Representation\, Culture and the Dynamics of Change in Graduate Education. \nAbout “Equity in Science: Representation\, Culture\, and the Dynamics of Change in Graduate Education”\n“STEM disciplines are believed to be founded on the idea of meritocracy; recognition earned by the value of the data\, which is objective. Such disciplinary cultures resist concerns about implicit or structural biases\, and yet\, year after year\, scientists observe persistent gender and racial inequalities in their labs\, departments\, and programs. In Equity in Science\, Julie Posselt makes the case that understanding how field-specific cultures develop is a crucial step for bringing about real change. She does this by examining existing equity\, diversity\, and inclusion efforts across astronomy\, physics\, chemistry\, geology\, and psychology. These ethnographic case studies reveal the subtle ways that exclusion and power operate in scientific organizations and\, sometimes\, within change efforts themselves. Posselt argues that accelerating the movement for inclusion in science requires more effective collaboration across boundaries that typically separate people and scholars—across the social and natural sciences\, across the faculty-student-administrator roles\, and across race\, gender\, and other social identities. Ultimately this book is a call for academia to place equal value on expertise\, and on those who do the work of cultural translation. Posselt closes with targeted recommendations for individuals\, departments\, and disciplinary societies for creating systemic\, sustainable change.” \nUnlimited copies of the e-book of “Equity in Science” is now available through the Cornell Library system at http://proxy.library.cornell.edu/login?url=http://ebookcentral.proquest.com/lib/cornell/detail.action?docID=6221309.  A special thank you goes out to Graduate Field Assistant and CALS Diversity & Inclusion Committee member\, Casey Moore who took the initiative to explore opportunities to make this e-book accessible for free for our broader community! \nAbout the Author\nJulie Posselt is an associate professor of higher education in the University of Southern California Rossier School of Education and author of Equity in Science: Representation\, Culture and the Dynamics of Change in Graduate Education and Inside Graduate Admissions: Merit\, Diversity\, and Faculty Gatekeeping. Rooted in sociological and organizational theory\, Posselt’s research program examines institutionalized inequalities in higher education and organizational efforts aimed at reducing inequities and encouraging diversity. She focuses on selective sectors of higher education— graduate education\, STEM fields\, and elite undergraduate institutions—where longstanding practices and cultural norms are being negotiated to better identify talent and educate students in a changing society. Posselt’s current scholarship\, funded by five grants from the National Science Foundation and one from the Mellon Foundation\, examines movements for equity and inclusion in graduate education and the humanistic and physical science disciplines. Explore the resources available from Posselt’s projects on the Equity in Graduate Education website: bit.ly/GradEdEquity. \nSponsorship\nThis event is supported by the National Science Foundation under Grant No.1647094 (AGEP CIRTL). Any opinions\, findings\, and conclusions or recommendations expressed in this material are those of the authors and do not necessarily reflect the views of the National Science Foundation.
URL:https://futurefaculty.cornell.edu/event/equity-in-science-book-talk-with-author-prof-julie-posselt/
LOCATION:Zoom
CATEGORIES:Future Faculty and Academic Careers
ATTACH;FMTTYPE=image/jpeg:https://futurefaculty.cornell.edu/wp-content/uploads/2021/01/pid_31068-cQN6kd.tmp_.jpg
END:VEVENT
BEGIN:VEVENT
DTSTART;TZID=America/New_York:20210217T133000
DTEND;TZID=America/New_York:20210217T150000
DTSTAMP:20260421T113204
CREATED:20210128T193350Z
LAST-MODIFIED:20221003T200243Z
UID:10002236-1613568600-1613574000@futurefaculty.cornell.edu
SUMMARY:Safer Science: Strategies to Protect At-Risk Researchers When Conducting Fieldwork
DESCRIPTION:Join the conversation: #SaferScience \nAs a result of identity prejudice\, certain individuals are more vulnerable to conflict and violence when they are performing scientific work in the field. To help create change and best practices\, everyone within the scientific community will benefit from learning more about the risks some colleagues face performing fieldwork. Join this live webinar to learn more. \nAt this event\, Amelia-Juliette Demery and Monique Pipkin will present their Nature Ecology and Evolution paper titled\, “Safe fieldwork strategies for at-risk individuals\, their supervisors and their institutions” (link to summary story). The paper presentation will be followed by a moderated discussion with inter-disciplinary experts in fieldwork and diversity and inclusion. Participants are encouraged to submit questions upon registration. \nPanelists\n\nDr. Meredith Hastings\, Associate Professor of Environment & Society\, Brown University. Women’s Network President\, PI for AdvanceGeo. Earth Science Women’s Network and AdvanceGeo.\nDr. Christopher J Schell\, Assistant Professor of Urban Ecology\, University of Washington Tacoma. Author of Recreating Wakanda by promoting Black excellence in ecology and evolution.\nDr. Hendratta Ali\, Associate Professor of Geosciences\, Fort Hays State University. Author of Ten Steps to protect BIPOC scholars in the field.\nSara Souza\, Field Safety Specialist\, University of California. Field Research Safety Center of Excellence.\n\nModerators\nAmelia-Juliette Demery: PhD Candidate in Ecology and Evolutionary Biology at Cornell University. Amelia-Juliette is a 3rd year PhD candidate and Sloan Foundation Scholar. She is interested in the genomic mechanisms underlying avian phenotypes and their evolutionary patterns across space and time. \nMonique Pipkin: PhD Student in Ecology and Evolutionary Biology at Cornell University. Monique is a 2nd year PhD student and Sloan Foundation Fellow. Her research focuses on the ultimate and proximate mechanism behind social behavior and social signaling\, and the use of art in science education and outreach. \nEvent Sponsors\nThis event is co-sponsored by Cornell University’s College of Agriculture and Life Sciences Office of Diversity and Inclusion and the Graduate School Office of Inclusion & Student Engagement. This event is supported through funds from the National Science Foundation under Grant No.1647094 (AGEP CIRTL). Any opinions\, findings\, and conclusions or recommendations expressed in this material are those of the authors/organizers and do not necessarily reflect the views of the National Science Foundation. \nCornell University is committed to providing universal access to all of our events. Please contact Hillary Creedon\, hwc37@cornell.edu to request disability accommodations. Advance notice is necessary to arrange for some accessibility needs.
URL:https://futurefaculty.cornell.edu/event/safer-science-strategies-to-protect-at-risk-researchers-when-conducting-fieldwork/
LOCATION:Zoom
CATEGORIES:Future Faculty and Academic Careers
END:VEVENT
BEGIN:VEVENT
DTSTART;TZID=America/New_York:20210225T110000
DTEND;TZID=America/New_York:20210225T123000
DTSTAMP:20260421T113204
CREATED:20201216T230951Z
LAST-MODIFIED:20221003T200250Z
UID:10001855-1614250800-1614256200@futurefaculty.cornell.edu
SUMMARY:Building Mentorship Skills for Academic Careers
DESCRIPTION:This is an invitation-only event for registrants who have been accepted to participate in this year’s Building Mentoring Skills cohort\, and will be held online. A Zoom link will be shared by email to participants. \nIn this series of remotely delivered workshops designed for current graduate students and postdocs and open to those in all fields\, you will develop essential research mentoring skills\, particularly in disciplines where research is conducted collaboratively and in teams. Effective mentoring of student research is a key skill influencing everything from research productivity to personal satisfaction. Learn best practices for mentoring undergraduate\, graduate\, and postdoctoral researchers\, and develop advising and communication skills needed to lead a research team. \nAll sessions will be practical in nature and feature short pre-readings or videos\, case studies or discussion with panelists\, and self-assessments to help identify your strengths and desired areas for improvement. \nInterested participants should apply prior to the start of the series with the expectation of attending all workshops and actively participating in small and large group discussions online. Building Mentorship Skills program completion certificates will be provided for fully participating in at least 4 of 5 sessions. \nRegistered participants will receive connection details for each session. \nSchedule of Topics for Spring 2021\nAll sessions are on Thursdays from 11:00 am – 12:30 pm* \nFebruary 11\, 2021 – What Makes a Good Mentor and Mentee? Exploring Learning\, Motivation\, and Values\nUnderstand key principles of learning and theories of motivation that can help you build a strong research group\, and even learn more about yourself and values you wish to communicate to mentees. \nFebruary 25\, 2021 – Aligning Expectations and Guiding Doable Projects\nHow do you design a doable project with a defined timespan for a relative novice in your discipline? Learn how to set expectations for mentor and mentee to make sure the project and relationship stay on track. \nMarch 11\, 2021 – Creating Inclusive Research Settings\, featuring My Voice\, My Story: Lived Experiences of Graduate and Professional Students\n*Meets 11:00-1:00 this week. \nCreate and sustain a research group and academic climate in which each individual feels safe and supported. We will discuss how to create a welcoming environment for groups typically underrepresented in higher education\, while reflecting on our own identities and experiences and how they may be strengths or blind spots in our mentoring. Guest presenter: Associate Dean Sara Xayarath Hernández. \nMarch 25\, 2021 – Handling Tricky Mentoring Situations\nLearn how to address some of the trickiest situations you might encounter when mentoring undergraduate researchers or graduate students\, from modeling appropriate research ethics to sharing co-advised students. We will also discuss how you might solicit feedback and turn around projects that aren’t going as planned (from the mentor’s perspective). \nApril 8\, 2021 – Supporting Mentees’ Professional Development: Helping Students Present and Publish\, and Writing Fair Letters of Recommendation\nRevisit some key ideas about effective communication to introduce your students to writing about and presenting their work. Learn how to write a fair letter of recommendation\, and what not to say. \nQuestions?\n\nContact Dr. Colleen McLinn\, futurefaculty@cornell.edu or 607-255-2030
URL:https://futurefaculty.cornell.edu/event/building-mentorship-skills-for-an-academic-career-2/
LOCATION:Online
CATEGORIES:Future Faculty and Academic Careers
ORGANIZER;CN="Future Faculty and Academic Careers":MAILTO:futurefaculty@cornell.edu
END:VEVENT
END:VCALENDAR