BEGIN:VCALENDAR
VERSION:2.0
PRODID:-//Future Faculty and Academic Careers - ECPv6.15.17.1//NONSGML v1.0//EN
CALSCALE:GREGORIAN
METHOD:PUBLISH
X-WR-CALNAME:Future Faculty and Academic Careers
X-ORIGINAL-URL:https://futurefaculty.cornell.edu
X-WR-CALDESC:Events for Future Faculty and Academic Careers
REFRESH-INTERVAL;VALUE=DURATION:PT1H
X-Robots-Tag:noindex
X-PUBLISHED-TTL:PT1H
BEGIN:VTIMEZONE
TZID:America/New_York
BEGIN:DAYLIGHT
TZOFFSETFROM:-0500
TZOFFSETTO:-0400
TZNAME:EDT
DTSTART:20200308T070000
END:DAYLIGHT
BEGIN:STANDARD
TZOFFSETFROM:-0400
TZOFFSETTO:-0500
TZNAME:EST
DTSTART:20201101T060000
END:STANDARD
BEGIN:DAYLIGHT
TZOFFSETFROM:-0500
TZOFFSETTO:-0400
TZNAME:EDT
DTSTART:20210314T070000
END:DAYLIGHT
BEGIN:STANDARD
TZOFFSETFROM:-0400
TZOFFSETTO:-0500
TZNAME:EST
DTSTART:20211107T060000
END:STANDARD
BEGIN:DAYLIGHT
TZOFFSETFROM:-0500
TZOFFSETTO:-0400
TZNAME:EDT
DTSTART:20220313T070000
END:DAYLIGHT
BEGIN:STANDARD
TZOFFSETFROM:-0400
TZOFFSETTO:-0500
TZNAME:EST
DTSTART:20221106T060000
END:STANDARD
END:VTIMEZONE
BEGIN:VEVENT
DTSTART;TZID=America/New_York:20210903T110000
DTEND;TZID=America/New_York:20210903T120000
DTSTAMP:20260421T004626
CREATED:20210827T235537Z
LAST-MODIFIED:20221003T200236Z
UID:10001896-1630666800-1630670400@futurefaculty.cornell.edu
SUMMARY:FiGLI: A Conversation with TC3 Faculty
DESCRIPTION:Join the Cornell First Generation and/or Low Income Graduate Student Organization (FiGLI) for a virtual community conversation with three faculty members of the Tompkins Cortland Community College (TC3) on Friday September 3 from 11am – noon (ET). \nDuring this event\, Dr. Travis Vande Berg (Professor of Sociology)\, Dr. Kelly Wessell (Professor of Biology) and Dr. Kimari Johnson (Professor of English) will talk about their career paths and about different aspects of teaching at a community college. \nWe encourage registrants to submit their own questions or topics they would like addressed during the event! \nRegister online for the FiGLI community conversation
URL:https://futurefaculty.cornell.edu/event/figli-a-conversation-with-tc3-faculty/
LOCATION:Virtual Session
CATEGORIES:Future Faculty and Academic Careers
ATTACH;FMTTYPE=image/png:https://futurefaculty.cornell.edu/wp-content/uploads/2021/09/figli-lNLLyg.tmp_.png
END:VEVENT
BEGIN:VEVENT
DTSTART;TZID=America/New_York:20210909T140000
DTEND;TZID=America/New_York:20210909T153000
DTSTAMP:20260421T004626
CREATED:20210827T235538Z
LAST-MODIFIED:20221003T200236Z
UID:10001898-1631196000-1631201400@futurefaculty.cornell.edu
SUMMARY:NCFDD Webinar: Overcoming Academic Perfectionism
DESCRIPTION:Do you struggle to share your writing at early stages because it’s not perfect?\nDo you find yourself devastated by criticism of your work?\nDo you beat yourself up every time the tiniest thing goes wrong?\nIs it difficult for you to celebrate other people’s success because it reminds you of your own shortcomings?\n\nIf any of these things sound familiar\, CONGRATULATIONS! You’re a perfectly normal perfectionist! The only problem is that the nature of the Academy is likely to exacerbate your perfectionist tendencies\, as opposed to minimize them. In this webinar\, perfectionists will unite to get clear about: \n\nThe causes and consequences of excessive perfectionism.\nThe features of academic life that intensify perfectionism\nStrategies to identify when your perfectionism is at work\, assess whether it is useful or debilitating\, and adjust your standards and behavior accordingly\nThe secret to finding real satisfaction in every step of the writing process\n\nFacilitator Information\nRosemarie A. Roberts\, PhD\, social scientist\, artist\, and interdisciplinary scholar\, is the Dayton Professor of Dance at Connecticut College. Her scholarship spans the areas of dance\, social inequality\, social group and power relations\, epistemology\, pedagogy\, qualitative research methods\, and performance. Dr. Roberts has published more than twenty articles and book chapters in peer-reviewed journals and books\, co-authored a book\, and authored a second book project about the relationship among hip hop dance\, racialized bodies\, knowledge\, and power. A leader in curricular innovation\, Dr. Roberts co-created an Integrative Pathway\, “Bodies/Embodiment.” \nIn 2013\, Roberts joined NCFDD as an FSP Group Coach and Individual Coach after her transformative experience in the Faculty Success Program in 2011. Passionate about having a life of mind and body\, inside and outside of the academy\, Dr. Roberts loves to travel\, cook\, dance\, stay fit and hang out with her awesome kid when he’s home from college. \nRegister for September 9 NCFDD session \n\nFree Individual Memberships for the National Center for Faculty Development & Diversity (NCFDD)\nAvailable to all Cornell students\, postdocs\, faculty\, and staff \nCornell is an institutional member of the National Center for Faculty Development & Diversity (NCFDD)\, a nationally recognized\, independent organization providing online career development and mentoring resources. The NCFDD provides members with access to tools to increase research and writing productivity and improve work-life balance.   \nActivate your account by following the steps below: \n\nGo to the NCFDD website\nUnder “Select Your Institution\,” choose “Cornell University”\nSelect “Activate my Membership”\nComplete the registration form using your Cornell email address\nCheck your Cornell email account to find a confirmation/welcome email. Click “Activate Account” in the email
URL:https://futurefaculty.cornell.edu/event/ncfdd-webinar-overcoming-academic-perfectionism/
LOCATION:Webinar
CATEGORIES:Future Faculty and Academic Careers
ATTACH;FMTTYPE=image/jpeg:https://futurefaculty.cornell.edu/wp-content/uploads/2021/09/NCFDD-3-2-f4wnT7.tmp_.jpg
END:VEVENT
BEGIN:VEVENT
DTSTART;TZID=America/New_York:20210909T153000
DTEND;TZID=America/New_York:20210909T170000
DTSTAMP:20260421T004626
CREATED:20210823T232412Z
LAST-MODIFIED:20221010T224553Z
UID:10001890-1631201400-1631206800@futurefaculty.cornell.edu
SUMMARY:Building a Better Graduate Education
DESCRIPTION:The CNY Humanities Corridor “Humanities Beyond the Academy” working group hosts a series of mini-residencies for publicly engaged humanistic scholars\, bringing together those interested in public humanities and careers outside the academy. Current mini-resident Leonard Cassuto\, author of The Graduate School Mess: What Caused It and How We Can Fix It and (with Robert Weisbuch) The New PhD: How to Build a Better Graduate Education\, offers a discussion focused on this topic.  \nScholars and authors Leonard Cassuto and Robert Weisbuch argue that universities need to undergo major reforms to their graduate training programs to improve career outcomes for humanities doctoral students. In this discussion\, they focus in particular on how proponents of change can find allies and overcome resistance to reform. \nCornell University\, Syracuse University and University of Rochester are collaborating to bring these mini-residencies together for Humanities PhDs and Postdocs. Register for Building a Better Graduate Education
URL:https://futurefaculty.cornell.edu/event/building-a-better-graduate-education/
LOCATION:Zoom
CATEGORIES:Careers Beyond Academia,Future Faculty and Academic Careers
ATTACH;FMTTYPE=image/png:https://futurefaculty.cornell.edu/wp-content/uploads/2021/09/Logo_CNY-humanities-Uu58Eo.tmp_.png
END:VEVENT
BEGIN:VEVENT
DTSTART;TZID=America/New_York:20210910T130000
DTEND;TZID=America/New_York:20210910T143000
DTSTAMP:20260421T004626
CREATED:20210823T232412Z
LAST-MODIFIED:20221010T224553Z
UID:10001892-1631278800-1631284200@futurefaculty.cornell.edu
SUMMARY:Empowering Graduate Students to Advocate for Change
DESCRIPTION:The CNY Humanities Corridor “Humanities Beyond the Academy” working group hosts a series of mini-residencies for publicly engaged humanistic scholars\, bringing together those interested in public humanities and careers outside the academy. Current mini-resident Leonard Cassuto\, author of The Graduate School Mess: What Caused It and How We Can Fix It and (with Robert Weisbuch) The New PhD: How to Build a Better Graduate Education\, offers a workshop specifically for graduate students in the humanities\, helping those who want to see and advocate for change within their own departments go about this successfully. The workshop aims to give attendees a toolbox for practical change\, indicating how they can achieve consensus on goals\, garner support\, and turn talk into action—letting graduate students themselves serve as key agents of change. 5 copies of Cassuto and Weisbuch’s book will be given away by raffle to attendees. \nThe CNY Humanities Corridor group is comprised of Cornell University\, Syracuse University and University of Rochester. \nRegister for Empowering Graduate Students
URL:https://futurefaculty.cornell.edu/event/empowering-graduate-students-to-advocate-for-change/
LOCATION:Zoom
CATEGORIES:Careers Beyond Academia,Future Faculty and Academic Careers
ATTACH;FMTTYPE=image/png:https://futurefaculty.cornell.edu/wp-content/uploads/2021/09/Logo_CNY-humanities-Uu58Eo.tmp_.png
END:VEVENT
BEGIN:VEVENT
DTSTART;TZID=America/New_York:20210913T120000
DTEND;TZID=America/New_York:20210913T130000
DTSTAMP:20260421T004626
CREATED:20210827T144549Z
LAST-MODIFIED:20221010T224553Z
UID:10001894-1631534400-1631538000@futurefaculty.cornell.edu
SUMMARY:NRMN Webinar: Re-Examining Your Mentoring Relationship in the Current Moment
DESCRIPTION:The National Research Mentoring Network (NRMN) Career Development Webinar Series presents “Re-Examining Your Mentoring Relationship in the Current Moment.”  The webinar presenters are Dr. Christine Pfund\, University of Wisconsin-Madison\, and Dr. Ruth Gotian\, Weill Cornell Medicine. \nThe start of the new semester sparks the time for new ideas and explorations—it’s also a time for taking a look at your mentoring relationships. In our new career development webinar\, Drs. Chris Pfund and Ruth Gotian will speak about the process of reevaluating these relationships to determine which direction you need to take. \nRegister for the NRMN Webinar.
URL:https://futurefaculty.cornell.edu/event/nrmn-webinar-re-examining-your-mentoring-relationship-in-the-current-moment/
CATEGORIES:Careers Beyond Academia,Future Faculty and Academic Careers
END:VEVENT
BEGIN:VEVENT
DTSTART;TZID=America/New_York:20210917T150000
DTEND;TZID=America/New_York:20210917T163000
DTSTAMP:20260421T004626
CREATED:20210909T200918Z
LAST-MODIFIED:20221003T200236Z
UID:10002267-1631890800-1631896200@futurefaculty.cornell.edu
SUMMARY:NIH Webinar: Difficult Conversations\, Conflict\, and Feedback
DESCRIPTION:This workshop\, led by Dr. Sharon Milgram\, director of the Office of Intramural Training and Education at the National Institutes of Health (NIH)\, will discuss techniques for having difficult conversations\, resolving conflict\, and giving and receiving effective feedback. While this session will have a science\, technology\, engineering\, and mathematics (STEM) focus\, those from all fields interested in this topic are welcome to attend. \nThis program is sponsored by the Office of Faculty Development and Diversity\, the Department of Molecular Biology and Genetics\, and the Graduate School NSF AGEP Award (grant number 1647094). \nRegister for September 17 NIH session
URL:https://futurefaculty.cornell.edu/event/nih-webinar-difficult-conversations-conflict-and-feedback/
LOCATION:Zoom
CATEGORIES:Future Faculty and Academic Careers
ATTACH;FMTTYPE=image/png:https://futurefaculty.cornell.edu/wp-content/uploads/2021/09/NIH-OITE-e1631743571368-9eQn1I.tmp_.png
END:VEVENT
BEGIN:VEVENT
DTSTART;TZID=America/New_York:20210921T140000
DTEND;TZID=America/New_York:20210921T150000
DTSTAMP:20260421T004626
CREATED:20210827T235539Z
LAST-MODIFIED:20221003T200236Z
UID:10002264-1632232800-1632236400@futurefaculty.cornell.edu
SUMMARY:NCFDD Webinar: Teaching with Empathy and for Equity at the Graduate Level
DESCRIPTION:The incentive structures of academia discourage faculty from investing time and energy in being good teachers and good mentors for their graduate students. Meanwhile\, the power dynamics in academia discourage graduate students from seeking the support they need. In this webinar\, we will discuss how faculty can effectively\, efficiently\, and inclusively advise\, mentor\, teach\, and support their graduate students. We will discuss strategies for building a foundation of trust in graduate teaching and mentoring relationships\, providing constructive feedback on student work\, and being advocates for students’ needs.  \nFacilitator Information\nJessica Calarco is an associate professor of sociology at Indiana University. She is the author of two books\, A Field Guide to Grad School: Uncovering the Hidden Curriculum\, and Negotiating Opportunities: How the Middle Class Secures Advantages in School. Her research examines inequalities in education and family life. \n\nFree Individual Memberships for the National Center for Faculty Development & Diversity (NCFDD)\nAvailable to all Cornell students\, postdocs\, faculty\, and staff \nCornell is an institutional member of the National Center for Faculty Development & Diversity (NCFDD)\, a nationally recognized\, independent organization providing online career development and mentoring resources. The NCFDD provides members with access to tools to increase research and writing productivity and improve work-life balance.  \nActivate your account by following the steps below: \n\nGo to the NCFDD website\nUnder “Select Your Institution\,” choose “Cornell University”\nSelect “Activate my Membership”\nComplete the registration form using your Cornell email address\nCheck your Cornell email account to find a confirmation/welcome email. Click “Activate Account” in the email
URL:https://futurefaculty.cornell.edu/event/ncfdd-webinar-teaching-with-empathy-and-for-equity-at-the-graduate-level/
LOCATION:Online
CATEGORIES:Future Faculty and Academic Careers
ATTACH;FMTTYPE=image/jpeg:https://futurefaculty.cornell.edu/wp-content/uploads/2021/09/NCFDD-3-2-e1631742695205-a1FwYW.tmp_.jpg
END:VEVENT
BEGIN:VEVENT
DTSTART;TZID=America/New_York:20210921T140000
DTEND;TZID=America/New_York:20210921T150000
DTSTAMP:20260421T004626
CREATED:20210908T200931Z
LAST-MODIFIED:20221010T224552Z
UID:10002265-1632232800-1632236400@futurefaculty.cornell.edu
SUMMARY:NPA Webinar: Connecting for Career Success
DESCRIPTION:Looking for tips to find and secure a job you will enjoy and thrive in after your postdoc? Want to learn about careers where you can apply the skills and knowledge gained through your postdoc training? Then join us to meet former postdocs who have found success in their chosen professions and learn about their career journeys! \nRegister for the September 21 NPA session \n\nCornell University is a sustaining member of the National Postdoctoral Association (NPA). Founded in 2003\, the NPA’s mission is “to advance the U.S. research enterprise by maximizing the effectiveness of the research community and enhancing the quality of the postdoctoral experience for all participants.” As a postdoc\, faculty member or employee of a sustaining member institution\, you are eligible for a free Affiliate Membership to the NPA\, including newsletters and members-only web content. To join\, visit the NPA website and choose member type “Affiliate Individual Member\, Postdoc” (or the appropriate affiliate category describing you). \nThe 12th annual National Postdoc Appreciation Week (NPAW) is September 20 – 24\, 2021 with NPA volunteers and steering committee members planning three national events around the theme\, “I am a Postdoc.” This effort is intended to give definition to the role of the postdoc “at the bench and beyond\,” uniting postdocs and recognizing their successes.
URL:https://futurefaculty.cornell.edu/event/npa-webinar-connecting-for-career-success/
LOCATION:Zoom
CATEGORIES:Careers Beyond Academia,Future Faculty and Academic Careers
ATTACH;FMTTYPE=image/png:https://futurefaculty.cornell.edu/wp-content/uploads/2021/09/NPA_295_LOGO_-aK1w8t.tmp_.png
END:VEVENT
BEGIN:VEVENT
DTSTART;TZID=America/New_York:20210922T130000
DTEND;TZID=America/New_York:20210922T143000
DTSTAMP:20260421T004626
CREATED:20210908T200932Z
LAST-MODIFIED:20221010T224552Z
UID:10002266-1632315600-1632321000@futurefaculty.cornell.edu
SUMMARY:NPA Webinar: Centering Your Identity and Interests While Preparing for Your Next Career Step
DESCRIPTION:Attend a professional development online workshop from the team behind The Postdoc Academy courses offered via EdX from Boston University. The focus of the workshop is Centering Your Identity and Interests While Preparing for Your Next Career Step. \nRegister for September 22 NPA session \n\nCornell University is a sustaining member of the National Postdoctoral Association (NPA). Founded in 2003\, the NPA’s mission is “to advance the U.S. research enterprise by maximizing the effectiveness of the research community and enhancing the quality of the postdoctoral experience for all participants.” As a postdoc\, faculty member or employee of a sustaining member institution\, you are eligible for a free Affiliate Membership to the NPA\, including newsletters and members-only web content. To join\, visit the NPA website and choose member type “Affiliate Individual Member\, Postdoc” (or the appropriate affiliate category describing you). \nThe 12th annual National Postdoc Appreciation Week (NPAW) is September 20 – 24\, 2021 with NPA volunteers and steering committee members planning three national events around the theme\, “I am a Postdoc.” This effort is intended to give definition to the role of the postdoc “at the bench and beyond\,” uniting postdocs and recognizing their successes.
URL:https://futurefaculty.cornell.edu/event/npa-webinar-centering-your-identity-and-interests-while-preparing-for-your-next-career-step/
LOCATION:Zoom
CATEGORIES:Careers Beyond Academia,Future Faculty and Academic Careers
ATTACH;FMTTYPE=image/png:https://futurefaculty.cornell.edu/wp-content/uploads/2021/09/NPA_295_LOGO_-aK1w8t.tmp_.png
END:VEVENT
BEGIN:VEVENT
DTSTART;TZID=America/New_York:20210923T130000
DTEND;TZID=America/New_York:20210923T143000
DTSTAMP:20260421T004626
CREATED:20210923T203916Z
LAST-MODIFIED:20221010T224552Z
UID:10002272-1632402000-1632407400@futurefaculty.cornell.edu
SUMMARY:NIH Webinar: Becoming a Resilient Scientist Series – An Introduction to Resilience and Wellness
DESCRIPTION:Speaker(s): Sharon Milgram\, PhD\, Director\, OITE \nThis event is recommended for: Postbacs; Graduate Students; Postdocs/Fellows; NIH Staff Scientists/Staff Clinicians \nRegister for Session 1 \nAccessibility Information: Sign language interpreting services and live captioning will be provided for this event. Individuals who need other reasonable accommodations to participate in this event should contact Jackie Newell (newellj@nih.gov) or the Federal Relay Service @ 800-877-8339. Requests should be made as soon as possible. \n********************************************** \nBECOMING A RESILIENT SCIENTIST SERIES\nNavigating school\, the career exploration process\, research environments\, and the stress of national/international news can seem overwhelming and lead us to doubt ourselves just when we need confidence the most. Through workshops in this series\, we will work to identify attitudes and behaviors that can help us be more resilient as we navigate difficult situations in school\, work and life. Each workshop will highlight emotional intelligence competencies needed for success in research and healthcare careers and will provide strategies for developing these competencies as part of your educational journey. While you may participate in any of the webinars\, it is best to participate in the entire series as the material relates and concepts will be developed throughout the series. Data show that trainees who attended most of the sessions of the earlier “Becoming a Resilient Scientist Series” reported that they had become more resilient\, were better able to handle stress and conflict in their lives\, and would recommend the series highly to their colleagues. \nThe workshops in the series are: \nSession 1 (September 23) – An Introduction to Resilience and Wellness \nSession 2 (October 7) – Exploring our Self-Talk: Cognitive Distortions and Imposter Fears \nSession 3 (October 21) – Self-Advocacy and Assertiveness for Scientists \nSession 4 (November 4) – Developing Feedback Resilience \nSession 5 (November 18) – Managing Up to Maximize Mentoring Relationships \nIf you miss a workshop and want to watch the recording\, please visit the NIH OITE series page for links based on date and topic.
URL:https://futurefaculty.cornell.edu/event/nih-webinar-becoming-a-resilient-scientist-series-an-introduction-to-resilience-and-wellness/
LOCATION:Zoom
CATEGORIES:Careers Beyond Academia,Future Faculty and Academic Careers
ATTACH;FMTTYPE=image/png:https://futurefaculty.cornell.edu/wp-content/uploads/2021/09/NIH-OITE-series-LReVjk.tmp_.png
END:VEVENT
BEGIN:VEVENT
DTSTART;TZID=America/New_York:20210929T100000
DTEND;TZID=America/New_York:20210929T110000
DTSTAMP:20260421T004626
CREATED:20210721T232618Z
LAST-MODIFIED:20221010T224552Z
UID:10001888-1632909600-1632913200@futurefaculty.cornell.edu
SUMMARY:Job Search Virtual Monthly Discussion
DESCRIPTION:The Job Search Virtual Monthly Discussion is designed to get graduate students and postdoctoral scholars together to talk about concerns that job seekers share\, and strategize about how to move forward. \nEach session will begin with a brief introduction that includes tips\, perspectives\, and thoughts from staff who support career exploration within and beyond academia. Participants will have the opportunity to ask questions they have and share best practices that work for them. Depending on attendance numbers\, we may split into breakout rooms for more tailored questions and answers to master’s students\, doctoral students and postdocs\, etc. \nWe want to create a safe space for everyone to talk and listen. Please come join us and hear from each other! This event is co-sponsored by the Graduate School and Cornell Career Services. \nRegister for September 29 \nDate & Time: Wednesday\, September 29 from 10:00 – 11:00 am ET\nLocation: Zoom link to be provided upon registration \nFacilitators: Christine Holmes\, Postdoctoral Studies Director\, Caleb Yu\, Graduate and International Student Career Advisor\, Colleen McLinn\, Executive Director of Future Faculty and Academic Careers\, Denise DiRienzo\, Experiential Program Director of Careers Beyond Academia\, Susi Varvayanis\, Executive Director of Careers Beyond Academia \nAccommodations: We strive to make our events accessible to all community members. Individuals who would like to request accessibility accommodations should contact futurefaculty@cornell.edu. We ask that requests be made at least one week in advance to help ensure they can be met.
URL:https://futurefaculty.cornell.edu/event/job-search-virtual-monthly-discussion-4/
LOCATION:Zoom
CATEGORIES:Careers Beyond Academia,Future Faculty and Academic Careers
ATTACH;FMTTYPE=image/png:https://futurefaculty.cornell.edu/wp-content/uploads/2020/08/Summer-Job-Search-Discussions-e1597717600555-6LYZDn.tmp_.png
END:VEVENT
END:VCALENDAR