BEGIN:VCALENDAR
VERSION:2.0
PRODID:-//Future Faculty and Academic Careers - ECPv6.15.20//NONSGML v1.0//EN
CALSCALE:GREGORIAN
METHOD:PUBLISH
X-WR-CALNAME:Future Faculty and Academic Careers
X-ORIGINAL-URL:https://futurefaculty.cornell.edu
X-WR-CALDESC:Events for Future Faculty and Academic Careers
REFRESH-INTERVAL;VALUE=DURATION:PT1H
X-Robots-Tag:noindex
X-PUBLISHED-TTL:PT1H
BEGIN:VTIMEZONE
TZID:America/New_York
BEGIN:DAYLIGHT
TZOFFSETFROM:-0500
TZOFFSETTO:-0400
TZNAME:EDT
DTSTART:20180311T070000
END:DAYLIGHT
BEGIN:STANDARD
TZOFFSETFROM:-0400
TZOFFSETTO:-0500
TZNAME:EST
DTSTART:20181104T060000
END:STANDARD
BEGIN:DAYLIGHT
TZOFFSETFROM:-0500
TZOFFSETTO:-0400
TZNAME:EDT
DTSTART:20190310T070000
END:DAYLIGHT
BEGIN:STANDARD
TZOFFSETFROM:-0400
TZOFFSETTO:-0500
TZNAME:EST
DTSTART:20191103T060000
END:STANDARD
BEGIN:DAYLIGHT
TZOFFSETFROM:-0500
TZOFFSETTO:-0400
TZNAME:EDT
DTSTART:20200308T070000
END:DAYLIGHT
BEGIN:STANDARD
TZOFFSETFROM:-0400
TZOFFSETTO:-0500
TZNAME:EST
DTSTART:20201101T060000
END:STANDARD
END:VTIMEZONE
BEGIN:VEVENT
DTSTART;TZID=America/New_York:20190417T170000
DTEND;TZID=America/New_York:20190417T183000
DTSTAMP:20260423T072715
CREATED:20190405T194024Z
LAST-MODIFIED:20221003T200312Z
UID:10002077-1555520400-1555525800@futurefaculty.cornell.edu
SUMMARY:CIRTL Network Teaching as Research Presentations: Group Viewing
DESCRIPTION:Graduate students and postdocs from around the country will be presenting 5-minute overviews of their Teaching as Research projects\, including Andrew St. James\, Microbiology from Cornell University. Teaching as Research (TAR) projects investigate questions about teaching and learning\, including assessing the effectiveness of specific learning activities and tools\, examining the learning process about a specific topic\, or characterizing the student experience in the classroom. Join a group viewing or participate from your own device! Please arrive a few minutes early. \nThese Teaching as Research presentations have been designed and carried out by participants in Center for the Integration of Research\, Teaching\, and Learning (CIRTL) Network programs at U.S. and Canadian universities. \nLink to TAR Series website \n  \n  \n  \n\nRegister for group viewing\nWatch Spring 2019 All-Network Presentations online\nSign up to present
URL:https://futurefaculty.cornell.edu/event/cirtl-network-teaching-as-research-presentations-group-viewing/
LOCATION:341 Caldwell Hall\, 121 Reservoir Avenue\, Ithaca\, NY\, 14853\, United States
CATEGORIES:Future Faculty and Academic Careers
ATTACH;FMTTYPE=image/jpeg:https://futurefaculty.cornell.edu/wp-content/uploads/2019/04/UP_2018_0199_019.jpg
ORGANIZER;CN="CIRTL at Cornell":MAILTO:cirtl@cornell.edu
GEO:42.4492103;-76.4782721
X-APPLE-STRUCTURED-LOCATION;VALUE=URI;X-ADDRESS=341 Caldwell Hall 121 Reservoir Avenue Ithaca NY 14853 United States;X-APPLE-RADIUS=500;X-TITLE=121 Reservoir Avenue:geo:-76.4782721,42.4492103
END:VEVENT
END:VCALENDAR