BEGIN:VCALENDAR
VERSION:2.0
PRODID:-//Future Faculty and Academic Careers - ECPv6.15.20//NONSGML v1.0//EN
CALSCALE:GREGORIAN
METHOD:PUBLISH
X-ORIGINAL-URL:https://futurefaculty.cornell.edu
X-WR-CALDESC:Events for Future Faculty and Academic Careers
REFRESH-INTERVAL;VALUE=DURATION:PT1H
X-Robots-Tag:noindex
X-PUBLISHED-TTL:PT1H
BEGIN:VTIMEZONE
TZID:America/New_York
BEGIN:DAYLIGHT
TZOFFSETFROM:-0500
TZOFFSETTO:-0400
TZNAME:EDT
DTSTART:20180311T070000
END:DAYLIGHT
BEGIN:STANDARD
TZOFFSETFROM:-0400
TZOFFSETTO:-0500
TZNAME:EST
DTSTART:20181104T060000
END:STANDARD
BEGIN:DAYLIGHT
TZOFFSETFROM:-0500
TZOFFSETTO:-0400
TZNAME:EDT
DTSTART:20190310T070000
END:DAYLIGHT
BEGIN:STANDARD
TZOFFSETFROM:-0400
TZOFFSETTO:-0500
TZNAME:EST
DTSTART:20191103T060000
END:STANDARD
BEGIN:DAYLIGHT
TZOFFSETFROM:-0500
TZOFFSETTO:-0400
TZNAME:EDT
DTSTART:20200308T070000
END:DAYLIGHT
BEGIN:STANDARD
TZOFFSETFROM:-0400
TZOFFSETTO:-0500
TZNAME:EST
DTSTART:20201101T060000
END:STANDARD
END:VTIMEZONE
BEGIN:VEVENT
DTSTART;TZID=America/New_York:20190515T120000
DTEND;TZID=America/New_York:20190515T133000
DTSTAMP:20260423T055202
CREATED:20190313T173127Z
LAST-MODIFIED:20221003T200312Z
UID:10002075-1557921600-1557927000@futurefaculty.cornell.edu
SUMMARY:Getting a Faculty Position: Lessons Learned During the Academic Job Search
DESCRIPTION:Join us for a panel discussion featuring postdoctoral scholars and graduate students who were offered faculty positions this year! Bring your questions about the process and hear from recent experiences of other Cornellians. \nThis is a brown bag event – bring your own lunch\, and we will provide drinks and dessert. Remote participation possible by Zoom. \nCo-sponsored by the Center for the Integration of Research\, Teaching\, and Learning (CIRTL at Cornell) and the Office of Postdoctoral Studies\, as part of the Academic Job Search Series. \nRSVPs requested at: https://conta.cc/2FzO6cx \n  \n  \n  \nPanelists: \n\nErika Ganda\, Postdoc\, Food Science\nPatrick Ishizuka\, Postdoc\, Policy Analysis and Management\nKa Un Lao\, Postdoc\, Chemistry\nJermaine Toney\, Postdoc\, Applied Economics and Management\nFrankie Zhu\, PhD Candidate\, Aerospace Engineering
URL:https://futurefaculty.cornell.edu/event/getting-a-faculty-position-lessons-learned-during-the-academic-job-search/
LOCATION:102 Mann Library\, 237 Mann Drive\, Ithaca\, NY\, 14853\, United States
CATEGORIES:Future Faculty and Academic Careers
ATTACH;FMTTYPE=image/jpeg:https://futurefaculty.cornell.edu/wp-content/uploads/2018/08/36316644_905869322926807_8709859433343090688_o.jpg
GEO:42.4487952;-76.476316
X-APPLE-STRUCTURED-LOCATION;VALUE=URI;X-ADDRESS=102 Mann Library 237 Mann Drive Ithaca NY 14853 United States;X-APPLE-RADIUS=500;X-TITLE=237 Mann Drive:geo:-76.476316,42.4487952
END:VEVENT
END:VCALENDAR