BEGIN:VCALENDAR
VERSION:2.0
PRODID:-//Future Faculty and Academic Careers - ECPv6.15.20//NONSGML v1.0//EN
CALSCALE:GREGORIAN
METHOD:PUBLISH
X-WR-CALNAME:Future Faculty and Academic Careers
X-ORIGINAL-URL:https://futurefaculty.cornell.edu
X-WR-CALDESC:Events for Future Faculty and Academic Careers
REFRESH-INTERVAL;VALUE=DURATION:PT1H
X-Robots-Tag:noindex
X-PUBLISHED-TTL:PT1H
BEGIN:VTIMEZONE
TZID:America/New_York
BEGIN:DAYLIGHT
TZOFFSETFROM:-0500
TZOFFSETTO:-0400
TZNAME:EDT
DTSTART:20180311T070000
END:DAYLIGHT
BEGIN:STANDARD
TZOFFSETFROM:-0400
TZOFFSETTO:-0500
TZNAME:EST
DTSTART:20181104T060000
END:STANDARD
BEGIN:DAYLIGHT
TZOFFSETFROM:-0500
TZOFFSETTO:-0400
TZNAME:EDT
DTSTART:20190310T070000
END:DAYLIGHT
BEGIN:STANDARD
TZOFFSETFROM:-0400
TZOFFSETTO:-0500
TZNAME:EST
DTSTART:20191103T060000
END:STANDARD
BEGIN:DAYLIGHT
TZOFFSETFROM:-0500
TZOFFSETTO:-0400
TZNAME:EDT
DTSTART:20200308T070000
END:DAYLIGHT
BEGIN:STANDARD
TZOFFSETFROM:-0400
TZOFFSETTO:-0500
TZNAME:EST
DTSTART:20201101T060000
END:STANDARD
END:VTIMEZONE
BEGIN:VEVENT
DTSTART;TZID=America/New_York:20190517T090000
DTEND;TZID=America/New_York:20190517T153000
DTSTAMP:20260423T055017
CREATED:20190419T150435Z
LAST-MODIFIED:20221003T200312Z
UID:10002081-1558083600-1558107000@futurefaculty.cornell.edu
SUMMARY:Connecting Research and Teaching Conference
DESCRIPTION:This annual one-day conference highlights and supports the research of graduate students and postdocs\, faculty and staff into effective teaching. Events will include oral and poster presentations and roundtable discussions on how to use research skills to inform and improve teaching\, as well as a lunchtime panel discussion and lightning talks. Cornell faculty\, staff\, graduate students and postdocs are encouraged to attend as many of the sessions as they can. Outside attendees are welcome to register if they can arrange their own travel / housing. \nLearn more about the Connecting Research and Teaching Conference
URL:https://futurefaculty.cornell.edu/event/connecting-research-and-teaching-conference/
LOCATION:ILR Conference Center\, King-Shaw Hall\, Ithaca\, NY\, 14853\, United States
CATEGORIES:Future Faculty and Academic Careers
ATTACH;FMTTYPE=image/jpeg:https://futurefaculty.cornell.edu/wp-content/uploads/2019/04/UP_2018_0199_019.jpg
GEO:42.4469974;-76.480085
X-APPLE-STRUCTURED-LOCATION;VALUE=URI;X-ADDRESS=ILR Conference Center King-Shaw Hall Ithaca NY 14853 United States;X-APPLE-RADIUS=500;X-TITLE=King-Shaw Hall:geo:-76.480085,42.4469974
END:VEVENT
END:VCALENDAR