BEGIN:VCALENDAR
VERSION:2.0
PRODID:-//Future Faculty and Academic Careers - ECPv6.15.20//NONSGML v1.0//EN
CALSCALE:GREGORIAN
METHOD:PUBLISH
X-ORIGINAL-URL:https://futurefaculty.cornell.edu
X-WR-CALDESC:Events for Future Faculty and Academic Careers
REFRESH-INTERVAL;VALUE=DURATION:PT1H
X-Robots-Tag:noindex
X-PUBLISHED-TTL:PT1H
BEGIN:VTIMEZONE
TZID:America/New_York
BEGIN:DAYLIGHT
TZOFFSETFROM:-0500
TZOFFSETTO:-0400
TZNAME:EDT
DTSTART:20180311T070000
END:DAYLIGHT
BEGIN:STANDARD
TZOFFSETFROM:-0400
TZOFFSETTO:-0500
TZNAME:EST
DTSTART:20181104T060000
END:STANDARD
BEGIN:DAYLIGHT
TZOFFSETFROM:-0500
TZOFFSETTO:-0400
TZNAME:EDT
DTSTART:20190310T070000
END:DAYLIGHT
BEGIN:STANDARD
TZOFFSETFROM:-0400
TZOFFSETTO:-0500
TZNAME:EST
DTSTART:20191103T060000
END:STANDARD
BEGIN:DAYLIGHT
TZOFFSETFROM:-0500
TZOFFSETTO:-0400
TZNAME:EDT
DTSTART:20200308T070000
END:DAYLIGHT
BEGIN:STANDARD
TZOFFSETFROM:-0400
TZOFFSETTO:-0500
TZNAME:EST
DTSTART:20201101T060000
END:STANDARD
END:VTIMEZONE
BEGIN:VEVENT
DTSTART;TZID=America/New_York:20190611T070000
DTEND;TZID=America/New_York:20190614T190000
DTSTAMP:20260423T040731
CREATED:20190413T204248Z
LAST-MODIFIED:20221003T200312Z
UID:10002079-1560236400-1560538800@futurefaculty.cornell.edu
SUMMARY:Colman Leadership Program for PhDs
DESCRIPTION:Invitation to Apply to the Colman Leadership Program for PhD Students \nThe Colman Leadership Program seeks to enroll 20-24 students every January and June for an intensive four-day immersion program focused on providing PhD* students with skills and knowledge that will support their development as leaders in graduate school and beyond. \nThe program has the capacity to serve a broader base of students. Consequently\, consideration will be given to applications from PhD* students from all graduate fields and backgrounds (domestic and international). However\, Graduate School Deans Scholars with the following fellowships and affiliations will receive priority consideration for enrollment in the program: \n\nCornell Colman Fellowship\nCornell Sloan Fellowship\nCornell GEM Fellowship\nDeans Excellence Fellowship\nSUNY Diversity Fellowship\nMcNair Graduate Fellowship\nMellon Mays Graduate Fellowship\nCornell IMSD Fellowship\nCornell GEM PhD Fellowship\nProvost Diversity Fellowship\nBouchet Honor Society\n\n(*MFA students are also invited to apply\, given that the MFA is a terminal degree and the degree commonly held by some faculty in fields granting this degree.)
URL:https://futurefaculty.cornell.edu/event/colman-leadership-program-for-phds/
CATEGORIES:Future Faculty and Academic Careers
END:VEVENT
END:VCALENDAR