BEGIN:VCALENDAR
VERSION:2.0
PRODID:-//Future Faculty and Academic Careers - ECPv6.15.20//NONSGML v1.0//EN
CALSCALE:GREGORIAN
METHOD:PUBLISH
X-ORIGINAL-URL:https://futurefaculty.cornell.edu
X-WR-CALDESC:Events for Future Faculty and Academic Careers
REFRESH-INTERVAL;VALUE=DURATION:PT1H
X-Robots-Tag:noindex
X-PUBLISHED-TTL:PT1H
BEGIN:VTIMEZONE
TZID:America/New_York
BEGIN:DAYLIGHT
TZOFFSETFROM:-0500
TZOFFSETTO:-0400
TZNAME:EDT
DTSTART:20180311T070000
END:DAYLIGHT
BEGIN:STANDARD
TZOFFSETFROM:-0400
TZOFFSETTO:-0500
TZNAME:EST
DTSTART:20181104T060000
END:STANDARD
BEGIN:DAYLIGHT
TZOFFSETFROM:-0500
TZOFFSETTO:-0400
TZNAME:EDT
DTSTART:20190310T070000
END:DAYLIGHT
BEGIN:STANDARD
TZOFFSETFROM:-0400
TZOFFSETTO:-0500
TZNAME:EST
DTSTART:20191103T060000
END:STANDARD
BEGIN:DAYLIGHT
TZOFFSETFROM:-0500
TZOFFSETTO:-0400
TZNAME:EDT
DTSTART:20200308T070000
END:DAYLIGHT
BEGIN:STANDARD
TZOFFSETFROM:-0400
TZOFFSETTO:-0500
TZNAME:EST
DTSTART:20201101T060000
END:STANDARD
END:VTIMEZONE
BEGIN:VEVENT
DTSTART;TZID=America/New_York:20190821T083000
DTEND;TZID=America/New_York:20190821T160000
DTSTAMP:20260423T024103
CREATED:20190523T143939Z
LAST-MODIFIED:20221003T200312Z
UID:10002098-1566376200-1566403200@futurefaculty.cornell.edu
SUMMARY:Summer Success Symposium (S3)
DESCRIPTION:The Summer Success Symposium is a one day event for new and continuing MS/PhD and PhD students from across all graduate fields who identify as belonging to groups historically underrepresented in graduate education. The symposium has a particular focus on bringing together recipients of graduate fellowships in support of diversity as well as all other doctoral scholars who identify as students of color\, first generation college (FGC) students\, and/or who identify with other historically underrepresented groups such as Veterans\, students with disabilities\, and LGBTQ+. MS students interested in pursuing doctoral studies are also welcome to this event. \nThrough this symposium\, participants have the opportunity to form connections and establish community. This symposium also provides participants with the opportunity to engage with successful Cornell alumni\, faculty\, and professionals with shared experiences as diverse scholars. Summer Success Symposium keynote and workshop content focuses on providing participants with access to knowledge and insights that will help them navigate their successful transition to and progression in their graduate studies. \nThe Summer Success Symposium is co-organized by the Graduate School Office of Inclusion & Student Engagement (OISE) and Diversity Programs in Engineering.
URL:https://futurefaculty.cornell.edu/event/summer-success-symposium-s3/
LOCATION:G10 Biotechnology Building\, 526 Campus Road\, Ithaca\, NY\, 14853\, United States
CATEGORIES:Future Faculty and Academic Careers
ATTACH;FMTTYPE=image/jpeg:https://futurefaculty.cornell.edu/wp-content/uploads/2019/05/S3_2018_Deans-Scholars-768x512.jpg
GEO:42.4465542;-76.4783618
X-APPLE-STRUCTURED-LOCATION;VALUE=URI;X-ADDRESS=G10 Biotechnology Building 526 Campus Road Ithaca NY 14853 United States;X-APPLE-RADIUS=500;X-TITLE=526 Campus Road:geo:-76.4783618,42.4465542
END:VEVENT
END:VCALENDAR