BEGIN:VCALENDAR
VERSION:2.0
PRODID:-//Future Faculty and Academic Careers - ECPv6.15.20//NONSGML v1.0//EN
CALSCALE:GREGORIAN
METHOD:PUBLISH
X-WR-CALNAME:Future Faculty and Academic Careers
X-ORIGINAL-URL:https://futurefaculty.cornell.edu
X-WR-CALDESC:Events for Future Faculty and Academic Careers
REFRESH-INTERVAL;VALUE=DURATION:PT1H
X-Robots-Tag:noindex
X-PUBLISHED-TTL:PT1H
BEGIN:VTIMEZONE
TZID:America/New_York
BEGIN:DAYLIGHT
TZOFFSETFROM:-0500
TZOFFSETTO:-0400
TZNAME:EDT
DTSTART:20190310T070000
END:DAYLIGHT
BEGIN:STANDARD
TZOFFSETFROM:-0400
TZOFFSETTO:-0500
TZNAME:EST
DTSTART:20191103T060000
END:STANDARD
BEGIN:DAYLIGHT
TZOFFSETFROM:-0500
TZOFFSETTO:-0400
TZNAME:EDT
DTSTART:20200308T070000
END:DAYLIGHT
BEGIN:STANDARD
TZOFFSETFROM:-0400
TZOFFSETTO:-0500
TZNAME:EST
DTSTART:20201101T060000
END:STANDARD
BEGIN:DAYLIGHT
TZOFFSETFROM:-0500
TZOFFSETTO:-0400
TZNAME:EDT
DTSTART:20210314T070000
END:DAYLIGHT
BEGIN:STANDARD
TZOFFSETFROM:-0400
TZOFFSETTO:-0500
TZNAME:EST
DTSTART:20211107T060000
END:STANDARD
END:VTIMEZONE
BEGIN:VEVENT
DTSTART;TZID=America/New_York:20201030T130000
DTEND;TZID=America/New_York:20201030T140000
DTSTAMP:20260421T213036
CREATED:20201016T220607Z
LAST-MODIFIED:20221003T200252Z
UID:10002226-1604062800-1604066400@futurefaculty.cornell.edu
SUMMARY:Introducing Teaching as Research: A Systematic Approach to Improving Your Teaching
DESCRIPTION:Hear Teaching as Research (TAR) program leaders from around the North American CIRTL Network describe Teaching as Research\, a mentored experience that applies the process of inquiry to teaching and learning. By translating skills that you already have as researchers\, you can investigate\, reflect on\, and improve your teaching. \nLeaders will describe TAR programs at their own institutions\, and issues such as developing a strong project\, finding the right question\, doing TAR during COVID\, and the professional benefits of doing a TAR project. Come to this informative introductory session and find out if a TAR project is right for you. Register in advance to receive the online meeting connection information (requires a free CIRTL Network account signup). \nRegistration: This drop-in\, online event is open to the public. Anyone is welcome to attend\, but you must register in order to attend. Once you register\, you will have access to the online meeting room where this event will take place. \nAccessibility: We strive to be inclusive of anyone interested in participating in our activities. If you have specific accessibility needs\, please contact us at info@cirtl.net in advance so that we may make the necessary accommodations. \nRecording: This event will be recorded and CIRTL may share that recording on our public YouTube channel. \nMore about Teaching as Research at Cornell
URL:https://futurefaculty.cornell.edu/event/introducing-teaching-as-research-a-systematic-approach-to-improving-your-teaching/
LOCATION:Online
CATEGORIES:Future Faculty and Academic Careers
ATTACH;FMTTYPE=image/jpeg:https://futurefaculty.cornell.edu/wp-content/uploads/2020/10/UP_2018_0200_054-gXLQM9.tmp_.jpg
ORGANIZER;CN="CIRTL Network":MAILTO:info@cirtl.net
END:VEVENT
END:VCALENDAR