BEGIN:VCALENDAR
VERSION:2.0
PRODID:-//Future Faculty and Academic Careers - ECPv6.15.17.1//NONSGML v1.0//EN
CALSCALE:GREGORIAN
METHOD:PUBLISH
X-WR-CALNAME:Future Faculty and Academic Careers
X-ORIGINAL-URL:https://futurefaculty.cornell.edu
X-WR-CALDESC:Events for Future Faculty and Academic Careers
REFRESH-INTERVAL;VALUE=DURATION:PT1H
X-Robots-Tag:noindex
X-PUBLISHED-TTL:PT1H
BEGIN:VTIMEZONE
TZID:America/New_York
BEGIN:DAYLIGHT
TZOFFSETFROM:-0500
TZOFFSETTO:-0400
TZNAME:EDT
DTSTART:20200308T070000
END:DAYLIGHT
BEGIN:STANDARD
TZOFFSETFROM:-0400
TZOFFSETTO:-0500
TZNAME:EST
DTSTART:20201101T060000
END:STANDARD
BEGIN:DAYLIGHT
TZOFFSETFROM:-0500
TZOFFSETTO:-0400
TZNAME:EDT
DTSTART:20210314T070000
END:DAYLIGHT
BEGIN:STANDARD
TZOFFSETFROM:-0400
TZOFFSETTO:-0500
TZNAME:EST
DTSTART:20211107T060000
END:STANDARD
BEGIN:DAYLIGHT
TZOFFSETFROM:-0500
TZOFFSETTO:-0400
TZNAME:EDT
DTSTART:20220313T070000
END:DAYLIGHT
BEGIN:STANDARD
TZOFFSETFROM:-0400
TZOFFSETTO:-0500
TZNAME:EST
DTSTART:20221106T060000
END:STANDARD
END:VTIMEZONE
BEGIN:VEVENT
DTSTART;TZID=America/New_York:20211013T173000
DTEND;TZID=America/New_York:20211013T190000
DTSTAMP:20260421T005625
CREATED:20210920T203926Z
LAST-MODIFIED:20221010T224551Z
UID:10002271-1634146200-1634151600@futurefaculty.cornell.edu
SUMMARY:NYAS Webinar: Career Paths: Academic Workforce Development
DESCRIPTION:The growth and prosperity of society depends on nurturing intellectual STEM talent that drives innovation and solves real world problems\, This requires creating a culture that nurtures\, fosters and accepts diverse ideas\, problem solving approaches and individuals. \nThe panelists at this webinar will discuss how STEM professionals can pave the path by creating programs and opportunities to help diverse STEM talent succeed professionally and create a culture that makes STEM accessible for all. \nDuring this webinar\, you’ll hear from a panel of Scientists on the following topics:\n\nCareer growth of the Panel in Workforce Development.\nWhat opportunities to seek when planning for a career in STEM Workforce Development?\nWhat are the challenges to consider when pursuing this career path?\nWhat other avenues does it expose you to?\n\nThe event will be followed by a virtual networking opportunity with the panelists at 6:30 PM. \nPanelists: Jackie Wirz\, PhD\, Executive Director\, Saturday Academy\, and André Walcott\, PhD\, Program Manager\, Oregon Health and Sciences University \nRegister online for the webinar. \nSign up for free a Membership to the New York Academy of Sciences\nTo support your professional and career development\, Cornell University will sponsor a complimentary 1-year Membership to the New York Academy of Sciences for any interested undergraduate and graduate student\, postdoc\, faculty and staff member. For over 200 years\, the Academy has helped scientists\, engineers\, and innovators pursue successful careers.  To request a sponsored membership\, sign up at NYAS.ORG/CORNELL
URL:https://futurefaculty.cornell.edu/event/nyas-webinar-career-paths-academic-workforce-development/
LOCATION:Zoom
CATEGORIES:Careers Beyond Academia,Future Faculty and Academic Careers
ATTACH;FMTTYPE=image/png:https://futurefaculty.cornell.edu/wp-content/uploads/2021/10/nyas-logo-822x228-1-ArQhyM.tmp_.png
END:VEVENT
END:VCALENDAR