BEGIN:VCALENDAR
VERSION:2.0
PRODID:-//Future Faculty and Academic Careers - ECPv6.15.17.1//NONSGML v1.0//EN
CALSCALE:GREGORIAN
METHOD:PUBLISH
X-ORIGINAL-URL:https://futurefaculty.cornell.edu
X-WR-CALDESC:Events for Future Faculty and Academic Careers
REFRESH-INTERVAL;VALUE=DURATION:PT1H
X-Robots-Tag:noindex
X-PUBLISHED-TTL:PT1H
BEGIN:VTIMEZONE
TZID:America/New_York
BEGIN:DAYLIGHT
TZOFFSETFROM:-0500
TZOFFSETTO:-0400
TZNAME:EDT
DTSTART:20210314T070000
END:DAYLIGHT
BEGIN:STANDARD
TZOFFSETFROM:-0400
TZOFFSETTO:-0500
TZNAME:EST
DTSTART:20211107T060000
END:STANDARD
BEGIN:DAYLIGHT
TZOFFSETFROM:-0500
TZOFFSETTO:-0400
TZNAME:EDT
DTSTART:20220313T070000
END:DAYLIGHT
BEGIN:STANDARD
TZOFFSETFROM:-0400
TZOFFSETTO:-0500
TZNAME:EST
DTSTART:20221106T060000
END:STANDARD
BEGIN:DAYLIGHT
TZOFFSETFROM:-0500
TZOFFSETTO:-0400
TZNAME:EDT
DTSTART:20230312T070000
END:DAYLIGHT
BEGIN:STANDARD
TZOFFSETFROM:-0400
TZOFFSETTO:-0500
TZNAME:EST
DTSTART:20231105T060000
END:STANDARD
END:VTIMEZONE
BEGIN:VEVENT
DTSTART;TZID=America/New_York:20220118T140000
DTEND;TZID=America/New_York:20220118T150000
DTSTAMP:20260420T184331
CREATED:20211214T225421Z
LAST-MODIFIED:20221003T200233Z
UID:10002287-1642514400-1642518000@futurefaculty.cornell.edu
SUMMARY:NCFDD Webinar: Presumed Incompetent II: Lessons from the Struggles and Victories of Women of Color in Academia
DESCRIPTION:Presumed Incompetent: The Intersections of Race and Class for Women in Academia (Utah State University Press\, 2012) provided a window into the working lives of female faculty of color in a variety of academic disciplines.   \nInspired by the enthusiastic response to the first volume\, the editors have produced a second volume titled Presumed Incompetent II: Race\, Class\, Power\, and Resistance of Women in Academia (2020).  \nDrawing upon the personal narratives and empirical studies in the latest volume\, this webinar examines how the experiences of women of color in academia have changed since the first volume. It explores the obstacles that women of color encounter on the road to tenure\, promotion\, and academic leadership as well as the strategies that women of color have deployed to succeed. The webinar also includes topics that were relatively under-explored in the first volume\, including the challenges faced by women of color in leadership positions\, barriers and opportunities for mid-level academics\, and the health impacts of battling bias in the academic workplace. The webinar will be of interest to women of color\, men of color\, academic leaders\, and members of other underrepresented groups who seek to achieve greater equity and inclusion in U.S. colleges and universities. \nFacilitator Bio\nCarmen Gonzalez\, JD is the Morris I. Leibman Professor of Law at Loyola University Chicago School of Law. Her scholarship focuses on international environmental law\, environmental justice\, human rights and the environment\, and food security. She also writes on issues on race\, gender\, and class\, and is co-editor of the critically acclaimed book\, Presumed Incompetent: The Intersections of Race and Class for Women in Academia (2012) and most recently Presumed Incompetent II: Race\, Class\, Power\, and Resistance of Women in Academia (2020).\nProfessor Gonzalez is a graduate of Yale University and Harvard Law School. She practiced law in the private sector and in government for a decade before commencing her academic career. Professor Gonzalez has served as a Fellow at the U.S. Supreme Court\, a Fulbright scholar in Argentina\, a Visiting Scholar at Cambridge University in the United Kingdom\, and the George Soros Visiting Chair at the Central European University School of Public Policy. She has taught law in Latin America\, China\, and Europe\, and has served as an advisor to the U.S. Environmental Protection Agency on environmental justice matters. \n\nFree Individual Memberships for the National Center for Faculty Development & Diversity (NCFDD)\nAvailable to all Cornell students\, postdocs\, faculty\, and staff \nCornell is an institutional member of the National Center for Faculty Development & Diversity (NCFDD)\, a nationally recognized\, independent organization providing online career development and mentoring resources. The NCFDD provides members with access to tools to increase research and writing productivity and improve work-life balance.   \nActivate your account by following the steps below: \n\nGo to the NCFDD website\nUnder “Select Your Institution\,” choose “Cornell University”\nSelect “Activate my Membership”\nComplete the registration form using your Cornell email address\nCheck your Cornell email account to find a confirmation/welcome email. Click “Activate Account” in the email
URL:https://futurefaculty.cornell.edu/event/ncfdd-webinar-presumed-incompetent-ii-lessons-from-the-struggles-and-victories-of-women-of-color-in-academia/
LOCATION:Webinar
CATEGORIES:Future Faculty and Academic Careers
ATTACH;FMTTYPE=image/jpeg:https://futurefaculty.cornell.edu/wp-content/uploads/2021/09/NCFDD-3-2-e1631742695205-a1FwYW.tmp_.jpg
END:VEVENT
END:VCALENDAR