BEGIN:VCALENDAR
VERSION:2.0
PRODID:-//Future Faculty and Academic Careers - ECPv6.15.20//NONSGML v1.0//EN
CALSCALE:GREGORIAN
METHOD:PUBLISH
X-WR-CALNAME:Future Faculty and Academic Careers
X-ORIGINAL-URL:https://futurefaculty.cornell.edu
X-WR-CALDESC:Events for Future Faculty and Academic Careers
REFRESH-INTERVAL;VALUE=DURATION:PT1H
X-Robots-Tag:noindex
X-PUBLISHED-TTL:PT1H
BEGIN:VTIMEZONE
TZID:America/New_York
BEGIN:DAYLIGHT
TZOFFSETFROM:-0500
TZOFFSETTO:-0400
TZNAME:EDT
DTSTART:20180311T070000
END:DAYLIGHT
BEGIN:STANDARD
TZOFFSETFROM:-0400
TZOFFSETTO:-0500
TZNAME:EST
DTSTART:20181104T060000
END:STANDARD
BEGIN:DAYLIGHT
TZOFFSETFROM:-0500
TZOFFSETTO:-0400
TZNAME:EDT
DTSTART:20190310T070000
END:DAYLIGHT
BEGIN:STANDARD
TZOFFSETFROM:-0400
TZOFFSETTO:-0500
TZNAME:EST
DTSTART:20191103T060000
END:STANDARD
BEGIN:DAYLIGHT
TZOFFSETFROM:-0500
TZOFFSETTO:-0400
TZNAME:EDT
DTSTART:20200308T070000
END:DAYLIGHT
BEGIN:STANDARD
TZOFFSETFROM:-0400
TZOFFSETTO:-0500
TZNAME:EST
DTSTART:20201101T060000
END:STANDARD
END:VTIMEZONE
BEGIN:VEVENT
DTSTART;TZID=America/New_York:20190710T120000
DTEND;TZID=America/New_York:20190710T133000
DTSTAMP:20260423T054910
CREATED:20190502T220940Z
LAST-MODIFIED:20221003T200312Z
UID:10002087-1562760000-1562765400@futurefaculty.cornell.edu
SUMMARY:Writing a Teaching Statement
DESCRIPTION:Through activities and discussion\, we will explore essential elements of a teaching statement for a job application. You’ll leave prepared to start your first draft Teaching Statement or to revise an existing one to make sure it accurately reflects your beliefs and experience. Bring your lunch\, and we’ll provide drinks and dessert. Guest presenter: Dr. Derina Samuel\, Associate Director for Graduate Student Programs\, Center for Teaching Innovation \nCo-sponsored by the Center for the Integration of Research\, Teaching\, and Learning (CIRTL at Cornell) and the Office of Postdoctoral Studies\, as part of the Academic Job Search Series.
URL:https://futurefaculty.cornell.edu/event/writing-a-teaching-statement/
LOCATION:102 Mann Library\, 237 Mann Drive\, Ithaca\, NY\, 14853\, United States
CATEGORIES:Future Faculty and Academic Careers
ATTACH;FMTTYPE=image/jpeg:https://futurefaculty.cornell.edu/wp-content/uploads/2019/06/IMG_1300.jpeg
ORGANIZER;CN="CIRTL at Cornell":MAILTO:cirtl@cornell.edu
GEO:42.4487952;-76.476316
X-APPLE-STRUCTURED-LOCATION;VALUE=URI;X-ADDRESS=102 Mann Library 237 Mann Drive Ithaca NY 14853 United States;X-APPLE-RADIUS=500;X-TITLE=237 Mann Drive:geo:-76.476316,42.4487952
END:VEVENT
END:VCALENDAR