BEGIN:VCALENDAR
VERSION:2.0
PRODID:-//Future Faculty and Academic Careers - ECPv6.15.20//NONSGML v1.0//EN
CALSCALE:GREGORIAN
METHOD:PUBLISH
X-ORIGINAL-URL:https://futurefaculty.cornell.edu
X-WR-CALDESC:Events for Future Faculty and Academic Careers
REFRESH-INTERVAL;VALUE=DURATION:PT1H
X-Robots-Tag:noindex
X-PUBLISHED-TTL:PT1H
BEGIN:VTIMEZONE
TZID:America/New_York
BEGIN:DAYLIGHT
TZOFFSETFROM:-0500
TZOFFSETTO:-0400
TZNAME:EDT
DTSTART:20180311T070000
END:DAYLIGHT
BEGIN:STANDARD
TZOFFSETFROM:-0400
TZOFFSETTO:-0500
TZNAME:EST
DTSTART:20181104T060000
END:STANDARD
BEGIN:DAYLIGHT
TZOFFSETFROM:-0500
TZOFFSETTO:-0400
TZNAME:EDT
DTSTART:20190310T070000
END:DAYLIGHT
BEGIN:STANDARD
TZOFFSETFROM:-0400
TZOFFSETTO:-0500
TZNAME:EST
DTSTART:20191103T060000
END:STANDARD
BEGIN:DAYLIGHT
TZOFFSETFROM:-0500
TZOFFSETTO:-0400
TZNAME:EDT
DTSTART:20200308T070000
END:DAYLIGHT
BEGIN:STANDARD
TZOFFSETFROM:-0400
TZOFFSETTO:-0500
TZNAME:EST
DTSTART:20201101T060000
END:STANDARD
END:VTIMEZONE
BEGIN:VEVENT
DTSTART;TZID=America/New_York:20190917T140000
DTEND;TZID=America/New_York:20190917T150000
DTSTAMP:20260423T024235
CREATED:20190917T160956Z
LAST-MODIFIED:20221003T200311Z
UID:10001780-1568728800-1568732400@futurefaculty.cornell.edu
SUMMARY:Postdoc Ice Cream Stroll
DESCRIPTION:Join Director of Postdoctoral Studies Christine Holmes and fellow postdocs in a walk to the Dairy Bar in Stocking Hall for ice cream (or non-dairy sorbet). Meet at Caldwell Hall (Ag Quad entrance) at 2:00 pm for departure soon after for a leisurely stroll to the Dairy Bar. The first 20 postdocs to arrive at the departure point will receive vouchers for one scoop of free ice cream or sorbet of choice! Please let us know if you prefer to meet up at the Dairy Bar for geographical reasons (email postdocs@cornell.edu)
URL:https://futurefaculty.cornell.edu/event/postdoc-ice-cream-stroll/
LOCATION:Caldwell Hall\, 121 Reservoir Ave\, Ithaca\, NY\, 14853\, United States
CATEGORIES:Future Faculty and Academic Careers
ATTACH;FMTTYPE=image/jpeg:https://futurefaculty.cornell.edu/wp-content/uploads/2019/09/0673_13_065_select.jpg
GEO:42.4492103;-76.4782721
X-APPLE-STRUCTURED-LOCATION;VALUE=URI;X-ADDRESS=Caldwell Hall 121 Reservoir Ave Ithaca NY 14853 United States;X-APPLE-RADIUS=500;X-TITLE=121 Reservoir Ave:geo:-76.4782721,42.4492103
END:VEVENT
BEGIN:VEVENT
DTSTART;TZID=America/New_York:20190918T170000
DTEND;TZID=America/New_York:20190918T190000
DTSTAMP:20260423T024235
CREATED:20190907T152622Z
LAST-MODIFIED:20221003T200311Z
UID:10001774-1568826000-1568833200@futurefaculty.cornell.edu
SUMMARY:Postdoc Pizza Party and Awards Reception
DESCRIPTION:Featuring official announcement of the Postdoc Achievement Award winners!\nIn honor of National Postdoc Appreciation Week\, please join us for a relaxed social event and award ceremony honoring the winners of the Postdoc Achievement Awards\, co-sponsored by the Office of the Vice Provost for Research. We will serve pizza\, and other refreshments in a kid-friendly setting. Cornell postdocs and their families are especially invited\, whether new or returning\, and award nominators and other well-wishers are encouraged to attend this gathering. \nWednesday\, September 18\, 2019 from 5:00-7:00 pm \nThe Big Red Barn \nRSVP to Christine Holmes\, Director of Postdoctoral Studies at: postdocs@cornell.edu
URL:https://futurefaculty.cornell.edu/event/postdoc-pizza-party-and-awards-reception-2/
LOCATION:The Big Red Barn\, Big Red Barn\, Sciences Drive\, Ithaca\, NY\, 14853\, United States
CATEGORIES:Future Faculty and Academic Careers
ATTACH;FMTTYPE=image/jpeg:https://futurefaculty.cornell.edu/wp-content/uploads/2019/09/IMG_4515.jpg
GEO:42.4484227;-76.4810282
X-APPLE-STRUCTURED-LOCATION;VALUE=URI;X-ADDRESS=The Big Red Barn Big Red Barn Sciences Drive Ithaca NY 14853 United States;X-APPLE-RADIUS=500;X-TITLE=Big Red Barn\, Sciences Drive:geo:-76.4810282,42.4484227
END:VEVENT
BEGIN:VEVENT
DTSTART;TZID=America/New_York:20190920T120000
DTEND;TZID=America/New_York:20190920T133000
DTSTAMP:20260423T024235
CREATED:20190622T141741Z
LAST-MODIFIED:20221003T200312Z
UID:10002101-1568980800-1568986200@futurefaculty.cornell.edu
SUMMARY:Job Search Discussion
DESCRIPTION:Are you a postdoc or graduate student applying for academic jobs now or in the near future? Come join a lunch discussion with others in the same stage\, facilitated by the Office of Postdoctoral Studies and CIRTL at Cornell. We’re gathering a community of peers to help find advice\, support\, and feedback. Bring questions and we’ll provide lunch! Registration required. \nCo-sponsored by the Center for the Integration of Research\, Teaching\, and Learning (CIRTL at Cornell) and the Office of Postdoctoral Studies\, as part of the Academic Job Search Series. \nLocation: 221 Weill Hall \nNote: Event is now at capacity\, contact cirtl@cornell.edu for more information
URL:https://futurefaculty.cornell.edu/event/job-search-discussion-5/
LOCATION:221 Weill Hall\, 237 Tower Rd\, Ithaca\, NY\, 14853\, United States
CATEGORIES:Future Faculty and Academic Careers
ATTACH;FMTTYPE=image/jpeg:https://futurefaculty.cornell.edu/wp-content/uploads/2019/01/IMG_1044_select.jpeg
ORGANIZER;CN="CIRTL at Cornell":MAILTO:cirtl@cornell.edu
GEO:42.4468068;-76.477214
X-APPLE-STRUCTURED-LOCATION;VALUE=URI;X-ADDRESS=221 Weill Hall 237 Tower Rd Ithaca NY 14853 United States;X-APPLE-RADIUS=500;X-TITLE=237 Tower Rd:geo:-76.477214,42.4468068
END:VEVENT
END:VCALENDAR