BEGIN:VCALENDAR
VERSION:2.0
PRODID:-//Future Faculty and Academic Careers - ECPv6.15.20//NONSGML v1.0//EN
CALSCALE:GREGORIAN
METHOD:PUBLISH
X-WR-CALNAME:Future Faculty and Academic Careers
X-ORIGINAL-URL:https://futurefaculty.cornell.edu
X-WR-CALDESC:Events for Future Faculty and Academic Careers
REFRESH-INTERVAL;VALUE=DURATION:PT1H
X-Robots-Tag:noindex
X-PUBLISHED-TTL:PT1H
BEGIN:VTIMEZONE
TZID:America/New_York
BEGIN:DAYLIGHT
TZOFFSETFROM:-0500
TZOFFSETTO:-0400
TZNAME:EDT
DTSTART:20180311T070000
END:DAYLIGHT
BEGIN:STANDARD
TZOFFSETFROM:-0400
TZOFFSETTO:-0500
TZNAME:EST
DTSTART:20181104T060000
END:STANDARD
BEGIN:DAYLIGHT
TZOFFSETFROM:-0500
TZOFFSETTO:-0400
TZNAME:EDT
DTSTART:20190310T070000
END:DAYLIGHT
BEGIN:STANDARD
TZOFFSETFROM:-0400
TZOFFSETTO:-0500
TZNAME:EST
DTSTART:20191103T060000
END:STANDARD
BEGIN:DAYLIGHT
TZOFFSETFROM:-0500
TZOFFSETTO:-0400
TZNAME:EDT
DTSTART:20200308T070000
END:DAYLIGHT
BEGIN:STANDARD
TZOFFSETFROM:-0400
TZOFFSETTO:-0500
TZNAME:EST
DTSTART:20201101T060000
END:STANDARD
END:VTIMEZONE
BEGIN:VEVENT
DTSTART;TZID=America/New_York:20191011T120000
DTEND;TZID=America/New_York:20191011T130000
DTSTAMP:20260423T074501
CREATED:20190928T174243Z
LAST-MODIFIED:20221003T200310Z
UID:10002105-1570795200-1570798800@futurefaculty.cornell.edu
SUMMARY:Understanding the Fundamentals of Allyship
DESCRIPTION:The GPSA Diversity and International Students Committee\, in collaboration with the Graduate School Office of Inclusion and Student Engagement\, and the Graduate and Professional Student Diversity Council\, is excited to invite all students\, faculty\, and staff to the first event of the Building Allyship Series. We will be joined by Luca Maurer\, a nationally recognized author and speaker on topics of inclusion and allyship and the founding Director of the Center for LGBT Education\, Outreach\, and Services at Ithaca College\, to learn about and discuss the fundamentals of allyship. This session will provide us with an opportunity to understand what it means to be an ally and how to use your position as an ally to support and empower each other. \nLunch served at 11:30 am.
URL:https://futurefaculty.cornell.edu/event/understanding-the-fundamentals-of-allyship/
CATEGORIES:Future Faculty and Academic Careers
END:VEVENT
END:VCALENDAR