BEGIN:VCALENDAR
VERSION:2.0
PRODID:-//Future Faculty and Academic Careers - ECPv6.15.20//NONSGML v1.0//EN
CALSCALE:GREGORIAN
METHOD:PUBLISH
X-ORIGINAL-URL:https://futurefaculty.cornell.edu
X-WR-CALDESC:Events for Future Faculty and Academic Careers
REFRESH-INTERVAL;VALUE=DURATION:PT1H
X-Robots-Tag:noindex
X-PUBLISHED-TTL:PT1H
BEGIN:VTIMEZONE
TZID:America/New_York
BEGIN:DAYLIGHT
TZOFFSETFROM:-0500
TZOFFSETTO:-0400
TZNAME:EDT
DTSTART:20180311T070000
END:DAYLIGHT
BEGIN:STANDARD
TZOFFSETFROM:-0400
TZOFFSETTO:-0500
TZNAME:EST
DTSTART:20181104T060000
END:STANDARD
BEGIN:DAYLIGHT
TZOFFSETFROM:-0500
TZOFFSETTO:-0400
TZNAME:EDT
DTSTART:20190310T070000
END:DAYLIGHT
BEGIN:STANDARD
TZOFFSETFROM:-0400
TZOFFSETTO:-0500
TZNAME:EST
DTSTART:20191103T060000
END:STANDARD
BEGIN:DAYLIGHT
TZOFFSETFROM:-0500
TZOFFSETTO:-0400
TZNAME:EDT
DTSTART:20200308T070000
END:DAYLIGHT
BEGIN:STANDARD
TZOFFSETFROM:-0400
TZOFFSETTO:-0500
TZNAME:EST
DTSTART:20201101T060000
END:STANDARD
END:VTIMEZONE
BEGIN:VEVENT
DTSTART;TZID=America/New_York:20191015T150000
DTEND;TZID=America/New_York:20191015T163000
DTSTAMP:20260423T004923
CREATED:20190914T155513Z
LAST-MODIFIED:20221010T224604Z
UID:10001778-1571151600-1571157000@futurefaculty.cornell.edu
SUMMARY:NYAS Webinar: Insights on Effective Lab Management (panel)
DESCRIPTION: Do You Have the Skills to Run Your Own Lab Effectively? \nSince lab management training is not explicitly taught in the graduate curriculum\, scientists often face the challenge of running their own lab. They must manage staff\, develop and manage projects and track budgets. \nThis panel will provide you with crucial insights on: \n\nHow lab management work is structured\nThe top management skills for effective lab management\nFiguring out the strategic direction of the lab\nDetermining project assignment\, managing timelines and budgets\, and staying current with research in the field\nInspiring lab members towards productivity\, creativity\, and teamwork\nEvaluating lab members and project progress and correcting problems as they arise\n\nThis panel\, provided via live webinar only\, will be most relevant to academics transitioning into a lab management capacity and new lab managers who want to sharpen their existing skill set. \nSign up for free a Membership to the New York Academy of Sciences\nTo support your professional and career development\, Cornell University will sponsor a complimentary 1-year Membership to the New York Academy of Sciences for any interested undergraduate and graduate student\, postdoc\, faculty and staff member. For over 200 years\, the Academy has helped scientists\, engineers\, and innovators pursue successful careers.  To request a sponsored membership\, sign up at NYAS.ORG/CORNELL
URL:https://futurefaculty.cornell.edu/event/nyas-webinar-insights-on-effective-lab-management-panel/
LOCATION:Webinar
CATEGORIES:Careers Beyond Academia,Future Faculty and Academic Careers
ATTACH;FMTTYPE=image/png:https://futurefaculty.cornell.edu/wp-content/uploads/2019/10/nyas-logo.png
END:VEVENT
END:VCALENDAR