BEGIN:VCALENDAR
VERSION:2.0
PRODID:-//Future Faculty and Academic Careers - ECPv6.15.20//NONSGML v1.0//EN
CALSCALE:GREGORIAN
METHOD:PUBLISH
X-ORIGINAL-URL:https://futurefaculty.cornell.edu
X-WR-CALDESC:Events for Future Faculty and Academic Careers
REFRESH-INTERVAL;VALUE=DURATION:PT1H
X-Robots-Tag:noindex
X-PUBLISHED-TTL:PT1H
BEGIN:VTIMEZONE
TZID:America/New_York
BEGIN:DAYLIGHT
TZOFFSETFROM:-0500
TZOFFSETTO:-0400
TZNAME:EDT
DTSTART:20190310T070000
END:DAYLIGHT
BEGIN:STANDARD
TZOFFSETFROM:-0400
TZOFFSETTO:-0500
TZNAME:EST
DTSTART:20191103T060000
END:STANDARD
BEGIN:DAYLIGHT
TZOFFSETFROM:-0500
TZOFFSETTO:-0400
TZNAME:EDT
DTSTART:20200308T070000
END:DAYLIGHT
BEGIN:STANDARD
TZOFFSETFROM:-0400
TZOFFSETTO:-0500
TZNAME:EST
DTSTART:20201101T060000
END:STANDARD
BEGIN:DAYLIGHT
TZOFFSETFROM:-0500
TZOFFSETTO:-0400
TZNAME:EDT
DTSTART:20210314T070000
END:DAYLIGHT
BEGIN:STANDARD
TZOFFSETFROM:-0400
TZOFFSETTO:-0500
TZNAME:EST
DTSTART:20211107T060000
END:STANDARD
END:VTIMEZONE
BEGIN:VEVENT
DTSTART;TZID=America/New_York:20200128T140000
DTEND;TZID=America/New_York:20200128T150000
DTSTAMP:20260422T165534
CREATED:20200124T211553Z
LAST-MODIFIED:20221003T200309Z
UID:10001798-1580220000-1580223600@futurefaculty.cornell.edu
SUMMARY:NCFDD: Managing Chronic Illness and Academic Life
DESCRIPTION:Maintaining professional productivity while managing a chronic illness has several particular challenges. At times\, the scheduling and culture of the academy actively ignores the needs of the body/mind in its demand for scholarly and professional productivity. Drawing on her scholarship and professional experiences\, Therí Pickens will discuss strategies for living and working with chronic illness. \nThe webinar begins by addressing the common challenges and triumphs of living with a chronic illness. Then\, participants learn strategies for how to negotiate the major concerns including those that require more delicate and deft management of ableist structures. \n\n\n  \n\nFree Individual Memberships for the National Center for Faculty Development & Diversity (NCFDD)\nAvailable to all Cornell students\, postdocs\, faculty\, and staff \n \nCornell is an institutional member of the National Center for Faculty Development & Diversity (NCFDD)\, a nationally recognized\, independent organization providing online career development and mentoring resources. The NCFDD provides members with access to tools to increase research and writing productivity and improve work-life balance. \nActivate your account by following the steps below: \n\nGo to the NCFDD website\nUnder “Select Your Institution\,” choose “Cornell University”\nSelect “Activate my Membership”\nComplete the registration form using your Cornell email address\nCheck your Cornell email account to find a confirmation/welcome email. Click “Activate Account” in the email
URL:https://futurefaculty.cornell.edu/event/ncfdd-managing-chronic-illness-and-academic-life/
LOCATION:Online
CATEGORIES:Future Faculty and Academic Careers
ATTACH;FMTTYPE=image/jpeg:https://futurefaculty.cornell.edu/wp-content/uploads/2020/01/EO5lZ3rU0AEAbSy.jpg
END:VEVENT
BEGIN:VEVENT
DTSTART;TZID=America/New_York:20200128T153000
DTEND;TZID=America/New_York:20200128T180000
DTSTAMP:20260422T165534
CREATED:20200107T014516Z
LAST-MODIFIED:20221003T201508Z
UID:10002130-1580225400-1580234400@futurefaculty.cornell.edu
SUMMARY:Intergroup Dialogue Project – Grad/ Postdoc Short Course
DESCRIPTION:This is an invitation-only event open to those who applied by the November deadline and were accepted for Winter 2020. Please contact the IDP team at idp@cornell.edu with any questions. \nThrough an interactive process known as intergroup dialogue\, this offering\, hosted by the Intergroup Dialogue Project\, provides participants with opportunities to explore how their social identities shape their professional choices and teaching/learning styles\, how to build capacity to have meaningful dialogue and effective collaborations across social\, cultural and power differences\, and how to explore the power of alliances when seeking to create an inclusive environment. \nThis program offering for Graduate Students and Postdoctoral Scholars has been made possible through funding support from the Graduate School Office of Inclusion and Student Engagement\, CIRTL at Cornell\, the Graduate School’s ETS/CGS Award for Innovation in Promoting Success in Graduate Education\, and the National Science Foundation-funded Cornell CIRTL AGEP Project under Grant No. 1647094. \nThis program could be for you if you want to: \n\nConnect more effectively with students\, faculty\, and colleagues.\nPrepare yourself to engage in diversity & inclusion processes in your future career as a scholar/professional.\nExplore your own social identities and learn how they relate to larger structures.\nFeel confident addressing power dynamics in your field.\nLearn how to respond to uncomfortable comments and situations.\nEngage in meaningful conversations about and across differences.\nCommunicate productively through conflict.\nCollaboratively think about ways you can enact positive social change.\nGet to know a diverse group of scholars who are interested in similar topics!
URL:https://futurefaculty.cornell.edu/event/intergroup-dialogue-project-grad-postdoc-short-course/
CATEGORIES:Future Faculty and Academic Careers
ATTACH;FMTTYPE=image/jpeg:https://futurefaculty.cornell.edu/wp-content/uploads/2020/01/IMG_1035-crop-scaled-e1578412901645.jpg
END:VEVENT
BEGIN:VEVENT
DTSTART;TZID=America/New_York:20200129T120000
DTEND;TZID=America/New_York:20200129T140000
DTSTAMP:20260422T165534
CREATED:20191122T164142Z
LAST-MODIFIED:20221003T200310Z
UID:10002108-1580299200-1580306400@futurefaculty.cornell.edu
SUMMARY:Building Mentoring Skills for an Academic Career
DESCRIPTION:This is an invitation-only event for registrants who have been selected to participate in this year’s Building Mentoring Skills cohort. Apply by January 27. \nIn this series of lunchtime workshops for graduate students and postdocs offered by CIRTL at Cornell\, you will develop essential research mentoring skills\, particularly in disciplines where research is conducted collaboratively (e.g.\, in a research team\, field setting\, or laboratory group). Effective mentoring of students is a key skill influencing everything from research productivity to personal satisfaction. Learn best practices for mentoring undergraduate\, graduate\, and postdoctoral researchers\, and develop planning and communication skills needed to lead a research team. \nAll sessions will be practical in nature and feature short pre-readings or videos\, case studies or discussion with panelists\, and self-assessments to help identify your strengths and desired areas for improvement. \nInterested participants should apply prior to the start of the series with the expectation of attending all workshops in person. Program completion certificates will be provided for fully participating in at least 4 of 5 sessions. \nAll sessions are from 12:00-2:00 pm and include catered lunch served at 11:45 am. Registered participants will receive location details for each session. \nSchedule of Topics for Spring 2020\nJanuary 29\, 2020 – What Makes a Good Mentor and Mentee? Exploring Learning\, Motivation\, and Values\nUnderstand key principles of learning and theories of motivation that can help you build a strong research group\, and even learn more about yourself and values you wish to communicate to mentees. \nFebruary 11\, 2020 – Aligning Expectations and Guiding Doable Projects\nHow do you design a doable project with a defined timespan for a relative novice in your discipline? Learn how to set expectations for mentor and mentee to make sure the project and relationship stay on track. \nMarch 3\, 2020 – Handling Tricky Mentoring Situations\nLearn how to address some of the trickiest situations you might encounter when mentoring undergraduate researchers or graduate students\, from modeling appropriate research ethics to sharing co-advised students. We will also discuss how you might solicit feedback and turn around projects that aren’t going as planned (from the mentor’s perspective). \nMarch 24\, 2020 – Creating Inclusive Research Settings\nCreate and sustain a research group and academic climate in which each individual feels safe and supported. We will discuss how to create a welcoming environment for groups typically underrepresented in higher education\, while reflecting on our own identities and experiences and how they may be strengths or blind spots in our mentoring. \nApril 7\, 2020 – Supporting Mentees’ Professional Development: Helping them Present and Publish\, and Writing Fair Letters of Recommendation\nRevisit some key ideas about effective communication to introduce your students to writing about and presenting their work. Learn how to write a fair letter of recommendation\, and what not to say. \nQuestions? \nContact Colleen McLinn\, CIRTL at Cornell Director\, cirtl@cornell.edu or 607-255-2030. \nSponsored by the Center for the Integration of Research\, Teaching\, and Learning (CIRTL)  at the Cornell Graduate School. \nWe strive to make our events accessible to all community members. Individuals who have food restrictions and/or would like to request accessibility accommodations should contact cirtl@cornell.edu. We ask that requests be made at least one week in advance of an event to help ensure they can be met.
URL:https://futurefaculty.cornell.edu/event/building-mentoring-skills-for-an-academic-career-6/
LOCATION:ILR Conference Center\, King-Shaw Hall\, Ithaca\, NY\, 14853\, United States
CATEGORIES:Future Faculty and Academic Careers
ATTACH;FMTTYPE=image/jpeg:https://futurefaculty.cornell.edu/wp-content/uploads/2020/01/CIRTL-20190519-Connecting-Research-and-Teaching-Conference-049_select.jpg
GEO:42.4469974;-76.480085
X-APPLE-STRUCTURED-LOCATION;VALUE=URI;X-ADDRESS=ILR Conference Center King-Shaw Hall Ithaca NY 14853 United States;X-APPLE-RADIUS=500;X-TITLE=King-Shaw Hall:geo:-76.480085,42.4469974
END:VEVENT
BEGIN:VEVENT
DTSTART;TZID=America/New_York:20200130T130000
DTEND;TZID=America/New_York:20200130T143000
DTSTAMP:20260422T165534
CREATED:20200124T200101Z
LAST-MODIFIED:20221003T200309Z
UID:10002142-1580389200-1580394600@futurefaculty.cornell.edu
SUMMARY:CIRTL Network: Introduction to Teaching at a Community College
DESCRIPTION:Have you ever considered a teaching career at a community college? This career can have a high impact on students beginning their higher education journey and often includes a strong community focused work environment. The panel of faculty will discuss their experiences working in community colleges. The discussion will include equity and diversity at community colleges\, panelists career trajectories\, what they appreciate most about working at community colleges\, and common misconceptions about the career. Bring your questions and prepare to explore this wonderful career path. This event is supported by and organized through NSF INCLUDES Aspire grant by the Regional Initiative group. \nEvent Schedule\nThis online event takes place on Thursday\, January 30 at 1-2:30PM ET / 12-1:30PM CT / 11AM-12:30PM MT / 10-11:30AM PT. This event is part of the three-part CIRTLCast series “Exploring Careers in Teaching at a Community College\,” organized through CIRTL and APLU’s NSF INCLUDES Aspire grant. \nRegistration\nThis drop-in\, online event is open to the public. Anyone is welcome to attend\, but you must register in order to attend. Once you register\, you will have access to the Blackboard Ultra room where this online event will take place. \nAccessibility\nWe strive to be inclusive of anyone interested in participating in our activities. If you have specific accessibility needs\, please contact us at info@cirtl.net in advance so that we may make the necessary accommodations. \nMore information at https://www.cirtl.net/events/694
URL:https://futurefaculty.cornell.edu/event/introduction-to-teaching-at-a-community-college/
LOCATION:Online
CATEGORIES:Future Faculty and Academic Careers
ATTACH;FMTTYPE=image/jpeg:https://futurefaculty.cornell.edu/wp-content/uploads/2018/07/UP_2018_0200_022-copy-e1532724122136.jpg
ORGANIZER;CN="CIRTL Network":MAILTO:info@cirtl.net
END:VEVENT
BEGIN:VEVENT
DTSTART;TZID=America/New_York:20200130T160000
DTEND;TZID=America/New_York:20200130T173000
DTSTAMP:20260422T165534
CREATED:20191122T164143Z
LAST-MODIFIED:20221003T200310Z
UID:10002111-1580400000-1580405400@futurefaculty.cornell.edu
SUMMARY:NextGen Professors: January Cohort Meeting
DESCRIPTION:This is an invitation-only event for applicants who have been selected to participate in this year’s NextGen Professors cohort. \nNextGen Professors is a career-development program focused on preparing Cornell doctoral students and postdocs for faculty careers across institutional types. The primary audience for this program is doctoral students (in year 3 or beyond) and postdocs from backgrounds historically underrepresented in the professoriate\, and/or those with a demonstrated commitment to advancing diversity\, inclusion\, access and equity in the academy. Participants are members of a cohort who together engage in series of professional and career development activities including monthly NextGen Professors cohort meetings\, Power Mentoring Sessions with faculty\, and the Future Professors Institute. Participants also engage in the future faculty development program offerings of CIRTL at Cornell. \nJanuary Meeting Topic: Taking Charge of Your Professional Timeline \nLocation: 102 Mann Library
URL:https://futurefaculty.cornell.edu/event/nextgen-professors-january-cohort-meeting-2/
LOCATION:102 Mann Library\, 237 Mann Drive\, Ithaca\, NY\, 14853\, United States
CATEGORIES:Future Faculty and Academic Careers
ATTACH;FMTTYPE=image/jpeg:https://futurefaculty.cornell.edu/wp-content/uploads/2019/01/IMG_1051_select.jpeg
GEO:42.4487952;-76.476316
X-APPLE-STRUCTURED-LOCATION;VALUE=URI;X-ADDRESS=102 Mann Library 237 Mann Drive Ithaca NY 14853 United States;X-APPLE-RADIUS=500;X-TITLE=237 Mann Drive:geo:-76.476316,42.4487952
END:VEVENT
BEGIN:VEVENT
DTSTART;TZID=America/New_York:20200131T143000
DTEND;TZID=America/New_York:20200131T153000
DTSTAMP:20260422T165534
CREATED:20200108T155658Z
LAST-MODIFIED:20221010T224603Z
UID:10002138-1580481000-1580484600@futurefaculty.cornell.edu
SUMMARY:Careers In and Beyond Academia
DESCRIPTION:An information session for PhD students and Postdocs on resources and career pathway exploration opportunities available through various Cornell Graduate School Offices. Presented by Careers Beyond Academia\, CIRTL at Cornell\, and the Office of Postdoctoral Studies. \nRegister for information session \nAccessibility Requests \nWe strive to make our events accessible to all community members. Individuals who would like to request accessibility accommodations should contact gradcareers@cornell.edu. We ask that requests be made at least one week in advance to help ensure they can be met.
URL:https://futurefaculty.cornell.edu/event/careers-in-and-beyond-academia/
LOCATION:102 Mann Library\, 237 Mann Drive\, Ithaca\, NY\, 14853\, United States
CATEGORIES:Careers Beyond Academia,Future Faculty and Academic Careers
ATTACH;FMTTYPE=image/png:https://futurefaculty.cornell.edu/wp-content/uploads/2020/01/Screen-Shot-2020-01-10-at-13.22.14.png
GEO:42.4487952;-76.476316
X-APPLE-STRUCTURED-LOCATION;VALUE=URI;X-ADDRESS=102 Mann Library 237 Mann Drive Ithaca NY 14853 United States;X-APPLE-RADIUS=500;X-TITLE=237 Mann Drive:geo:-76.476316,42.4487952
END:VEVENT
END:VCALENDAR