BEGIN:VCALENDAR
VERSION:2.0
PRODID:-//Future Faculty and Academic Careers - ECPv6.15.20//NONSGML v1.0//EN
CALSCALE:GREGORIAN
METHOD:PUBLISH
X-WR-CALNAME:Future Faculty and Academic Careers
X-ORIGINAL-URL:https://futurefaculty.cornell.edu
X-WR-CALDESC:Events for Future Faculty and Academic Careers
REFRESH-INTERVAL;VALUE=DURATION:PT1H
X-Robots-Tag:noindex
X-PUBLISHED-TTL:PT1H
BEGIN:VTIMEZONE
TZID:America/New_York
BEGIN:DAYLIGHT
TZOFFSETFROM:-0500
TZOFFSETTO:-0400
TZNAME:EDT
DTSTART:20190310T070000
END:DAYLIGHT
BEGIN:STANDARD
TZOFFSETFROM:-0400
TZOFFSETTO:-0500
TZNAME:EST
DTSTART:20191103T060000
END:STANDARD
BEGIN:DAYLIGHT
TZOFFSETFROM:-0500
TZOFFSETTO:-0400
TZNAME:EDT
DTSTART:20200308T070000
END:DAYLIGHT
BEGIN:STANDARD
TZOFFSETFROM:-0400
TZOFFSETTO:-0500
TZNAME:EST
DTSTART:20201101T060000
END:STANDARD
BEGIN:DAYLIGHT
TZOFFSETFROM:-0500
TZOFFSETTO:-0400
TZNAME:EDT
DTSTART:20210314T070000
END:DAYLIGHT
BEGIN:STANDARD
TZOFFSETFROM:-0400
TZOFFSETTO:-0500
TZNAME:EST
DTSTART:20211107T060000
END:STANDARD
END:VTIMEZONE
BEGIN:VEVENT
DTSTART;TZID=America/New_York:20200204T153000
DTEND;TZID=America/New_York:20200204T180000
DTSTAMP:20260422T182817
CREATED:20200107T014524Z
LAST-MODIFIED:20221003T201454Z
UID:10002131-1580830200-1580839200@futurefaculty.cornell.edu
SUMMARY:Intergroup Dialogue Project – Grad/ Postdoc Short Course
DESCRIPTION:This is an invitation-only event open to those who applied by the November deadline and were accepted for Winter 2020. Please contact the IDP team at idp@cornell.edu with any questions. \nThrough an interactive process known as intergroup dialogue\, this offering\, hosted by the Intergroup Dialogue Project\, provides participants with opportunities to explore how their social identities shape their professional choices and teaching/learning styles\, how to build capacity to have meaningful dialogue and effective collaborations across social\, cultural and power differences\, and how to explore the power of alliances when seeking to create an inclusive environment. \nThis program offering for Graduate Students and Postdoctoral Scholars has been made possible through funding support from the Graduate School Office of Inclusion and Student Engagement\, CIRTL at Cornell\, the Graduate School’s ETS/CGS Award for Innovation in Promoting Success in Graduate Education\, and the National Science Foundation-funded Cornell CIRTL AGEP Project under Grant No. 1647094. \nThis program could be for you if you want to: \n\nConnect more effectively with students\, faculty\, and colleagues.\nPrepare yourself to engage in diversity & inclusion processes in your future career as a scholar/professional.\nExplore your own social identities and learn how they relate to larger structures.\nFeel confident addressing power dynamics in your field.\nLearn how to respond to uncomfortable comments and situations.\nEngage in meaningful conversations about and across differences.\nCommunicate productively through conflict.\nCollaboratively think about ways you can enact positive social change.\nGet to know a diverse group of scholars who are interested in similar topics!
URL:https://futurefaculty.cornell.edu/event/intergroup-dialogue-project-grad-postdoc-short-course-2/
CATEGORIES:Future Faculty and Academic Careers
ATTACH;FMTTYPE=image/jpeg:https://futurefaculty.cornell.edu/wp-content/uploads/2020/01/IMG_1035-crop-scaled-e1578412901645.jpg
END:VEVENT
BEGIN:VEVENT
DTSTART;TZID=America/New_York:20200205T113000
DTEND;TZID=America/New_York:20200205T130000
DTSTAMP:20260422T182817
CREATED:20200117T172835Z
LAST-MODIFIED:20221003T200309Z
UID:10002140-1580902200-1580907600@futurefaculty.cornell.edu
SUMMARY:Building Allyship Series: Helping First Generation Scholars Uncover the Hidden Curriculum
DESCRIPTION:You are invited to join GPSA Diversity and International Students Committee and the First Generation and Low Income Graduate Student Organization (FiGLI)\, in collaboration with the Graduate School Office of Inclusion and Student Engagement\, the Graduate and Professional Student Diversity Council\, and CIRTL at Cornell\,  for the third session of our Building Allyship Series – Helping First Generation Scholars Uncover the Hidden Curriculum. \nThis session will feature a moderated panel discussion on how allies can help first generation college students in graduate school uncover the “Hidden Curriculum” involved with navigating Cornell. \nThis session will provide us with an opportunity to understand the experiences of first generation scholars navigating graduate education and what it means to serve as an ally as they are confronted with new institutional landscapes and socio-cultural environments. \nInterested in participating remotely? (Audio only) Please register to obtain Zoom access. \nWe strive to make our events accessible to all community members.  Individuals who would like to request accessibility accommodations should indicate needs in the registration form and contact al546@cornell.edu with any questions or concerns. We ask that requests be made at least one week in advance to help ensure they can be met.
URL:https://futurefaculty.cornell.edu/event/building-allyship-series-helping-first-generation-scholars-uncover-the-hidden-curriculum/
LOCATION:Biotechnology Building\, G01\, Ithaca\, NY\, 14853\, United States
CATEGORIES:Future Faculty and Academic Careers
END:VEVENT
END:VCALENDAR