BEGIN:VCALENDAR
VERSION:2.0
PRODID:-//Future Faculty and Academic Careers - ECPv6.15.20//NONSGML v1.0//EN
CALSCALE:GREGORIAN
METHOD:PUBLISH
X-ORIGINAL-URL:https://futurefaculty.cornell.edu
X-WR-CALDESC:Events for Future Faculty and Academic Careers
REFRESH-INTERVAL;VALUE=DURATION:PT1H
X-Robots-Tag:noindex
X-PUBLISHED-TTL:PT1H
BEGIN:VTIMEZONE
TZID:America/New_York
BEGIN:DAYLIGHT
TZOFFSETFROM:-0500
TZOFFSETTO:-0400
TZNAME:EDT
DTSTART:20190310T070000
END:DAYLIGHT
BEGIN:STANDARD
TZOFFSETFROM:-0400
TZOFFSETTO:-0500
TZNAME:EST
DTSTART:20191103T060000
END:STANDARD
BEGIN:DAYLIGHT
TZOFFSETFROM:-0500
TZOFFSETTO:-0400
TZNAME:EDT
DTSTART:20200308T070000
END:DAYLIGHT
BEGIN:STANDARD
TZOFFSETFROM:-0400
TZOFFSETTO:-0500
TZNAME:EST
DTSTART:20201101T060000
END:STANDARD
BEGIN:DAYLIGHT
TZOFFSETFROM:-0500
TZOFFSETTO:-0400
TZNAME:EDT
DTSTART:20210314T070000
END:DAYLIGHT
BEGIN:STANDARD
TZOFFSETFROM:-0400
TZOFFSETTO:-0500
TZNAME:EST
DTSTART:20211107T060000
END:STANDARD
END:VTIMEZONE
BEGIN:VEVENT
DTSTART;TZID=America/New_York:20200211T120000
DTEND;TZID=America/New_York:20200211T140000
DTSTAMP:20260422T183117
CREATED:20191122T164144Z
LAST-MODIFIED:20221003T200310Z
UID:10002113-1581422400-1581429600@futurefaculty.cornell.edu
SUMMARY:Building Mentoring Skills for an Academic Career
DESCRIPTION:This is an invitation-only event for registrants who have been selected to participate in this year’s Building Mentoring Skills cohort. \nIn this series of lunchtime workshops for graduate students and postdocs offered by CIRTL at Cornell\, you will develop essential research mentoring skills\, particularly in disciplines where research is conducted collaboratively (e.g.\, in a research team\, field setting\, or laboratory group). Effective mentoring of students is a key skill influencing everything from research productivity to personal satisfaction. Learn best practices for mentoring undergraduate\, graduate\, and postdoctoral researchers\, and develop planning and communication skills needed to lead a research team. \nAll sessions will be practical in nature and feature short pre-readings or videos\, case studies or discussion with panelists\, and self-assessments to help identify your strengths and desired areas for improvement. \nInterested participants should apply prior to the start of the series with the expectation of attending all workshops in person. Program completion certificates will be provided for fully participating in at least 4 of 5 sessions. \nAll sessions are from 12:00-2:00 pm and include catered lunch served at 11:45 am. Registered participants will receive location details for each session. \nSchedule of Topics for Spring 2020\nJanuary 29\, 2020 – What Makes a Good Mentor and Mentee? Exploring Learning\, Motivation\, and Values\nUnderstand key principles of learning and theories of motivation that can help you build a strong research group\, and even learn more about yourself and values you wish to communicate to mentees. \nFebruary 11\, 2020 – Aligning Expectations and Guiding Doable Projects\nHow do you design a doable project with a defined timespan for a relative novice in your discipline? Learn how to set expectations for mentor and mentee to make sure the project and relationship stay on track. \nMarch 3\, 2020 – Handling Tricky Mentoring Situations\nLearn how to address some of the trickiest situations you might encounter when mentoring undergraduate researchers or graduate students\, from modeling appropriate research ethics to sharing co-advised students. We will also discuss how you might solicit feedback and turn around projects that aren’t going as planned (from the mentor’s perspective). \nMarch 24\, 2020 – Creating Inclusive Research Settings\nCreate and sustain a research group and academic climate in which each individual feels safe and supported. We will discuss how to create a welcoming environment for groups typically underrepresented in higher education\, while reflecting on our own identities and experiences and how they may be strengths or blind spots in our mentoring. \nApril 7\, 2020 – Supporting Mentees’ Professional Development: Helping them Present and Publish\, and Writing Fair Letters of Recommendation\nRevisit some key ideas about effective communication to introduce your students to writing about and presenting their work. Learn how to write a fair letter of recommendation\, and what not to say. \nQuestions? \nContact Colleen McLinn\, CIRTL at Cornell Director\, cirtl@cornell.edu or 607-255-2030. \nSponsored by the Center for the Integration of Research\, Teaching\, and Learning (CIRTL)  at the Cornell Graduate School. \nWe strive to make our events accessible to all community members. Individuals who have food restrictions and/or would like to request accessibility accommodations should contact cirtl@cornell.edu. We ask that requests be made at least one week in advance of an event to help ensure they can be met.
URL:https://futurefaculty.cornell.edu/event/building-mentoring-skills-for-an-academic-career-7/
LOCATION:ILR Conference Center\, King-Shaw Hall\, Ithaca\, NY\, 14853\, United States
CATEGORIES:Future Faculty and Academic Careers
ATTACH;FMTTYPE=image/jpeg:https://futurefaculty.cornell.edu/wp-content/uploads/2020/01/CIRTL-20190519-Connecting-Research-and-Teaching-Conference-049_select.jpg
ORGANIZER;CN="CIRTL at Cornell":MAILTO:cirtl@cornell.edu
GEO:42.4469974;-76.480085
X-APPLE-STRUCTURED-LOCATION;VALUE=URI;X-ADDRESS=ILR Conference Center King-Shaw Hall Ithaca NY 14853 United States;X-APPLE-RADIUS=500;X-TITLE=King-Shaw Hall:geo:-76.480085,42.4469974
END:VEVENT
BEGIN:VEVENT
DTSTART;TZID=America/New_York:20200211T153000
DTEND;TZID=America/New_York:20200211T180000
DTSTAMP:20260422T183117
CREATED:20200107T014524Z
LAST-MODIFIED:20221003T201450Z
UID:10002132-1581435000-1581444000@futurefaculty.cornell.edu
SUMMARY:Intergroup Dialogue Project – Grad/ Postdoc Short Course
DESCRIPTION:This is an invitation-only event open to those who applied by the November deadline and were accepted for Winter 2020. Please contact the IDP team at idp@cornell.edu with any questions. \nThrough an interactive process known as intergroup dialogue\, this offering\, hosted by the Intergroup Dialogue Project\, provides participants with opportunities to explore how their social identities shape their professional choices and teaching/learning styles\, how to build capacity to have meaningful dialogue and effective collaborations across social\, cultural and power differences\, and how to explore the power of alliances when seeking to create an inclusive environment. \nThis program offering for Graduate Students and Postdoctoral Scholars has been made possible through funding support from the Graduate School Office of Inclusion and Student Engagement\, CIRTL at Cornell\, the Graduate School’s ETS/CGS Award for Innovation in Promoting Success in Graduate Education\, and the National Science Foundation-funded Cornell CIRTL AGEP Project under Grant No. 1647094. \nThis program could be for you if you want to: \n\nConnect more effectively with students\, faculty\, and colleagues.\nPrepare yourself to engage in diversity & inclusion processes in your future career as a scholar/professional.\nExplore your own social identities and learn how they relate to larger structures.\nFeel confident addressing power dynamics in your field.\nLearn how to respond to uncomfortable comments and situations.\nEngage in meaningful conversations about and across differences.\nCommunicate productively through conflict.\nCollaboratively think about ways you can enact positive social change.\nGet to know a diverse group of scholars who are interested in similar topics!
URL:https://futurefaculty.cornell.edu/event/intergroup-dialogue-project-grad-postdoc-short-course-3/
CATEGORIES:Future Faculty and Academic Careers
ATTACH;FMTTYPE=image/jpeg:https://futurefaculty.cornell.edu/wp-content/uploads/2020/01/IMG_1035-crop-scaled-e1578412901645.jpg
END:VEVENT
BEGIN:VEVENT
DTSTART;TZID=America/New_York:20200212T120000
DTEND;TZID=America/New_York:20200212T133000
DTSTAMP:20260422T183117
CREATED:20191123T212653Z
LAST-MODIFIED:20221003T200310Z
UID:10002117-1581508800-1581514200@futurefaculty.cornell.edu
SUMMARY:Interviewing and Negotiation for Academic Positions
DESCRIPTION:An important part of the academic job search is interviewing and then negotiating the offer. Come learn about the art of interviewing!  \nPresenters: Yael Levitte\, associate vice provost for faculty development and diversity\, and Christine Holmes\, director of postdoctoral studies \nThis is a brown bag event – bring your own lunch\, and we will provide drinks and dessert.  RSVPs requested. Please indicate at registration if you would need to connect remotely via Zoom in order to attend. \nCo-sponsored by the Office of Postdoctoral Studies and the Center for the Integration of Research\, Teaching and Learning (CIRTL at Cornell)\, as part of the Graduate School’s Academic Job Search Series. \nLocation: 102 Mann Library \nWe strive to make our events accessible to all community members. Individuals who have food restrictions and/or would like to request accessibility accommodations should contact cirtl@cornell.edu. We ask that requests be made at least one week in advance of an event to help ensure they can be met.
URL:https://futurefaculty.cornell.edu/event/interviewing-and-negotiation-for-academic-positions-4/
LOCATION:102 Mann Library\, 237 Mann Drive\, Ithaca\, NY\, 14853\, United States
CATEGORIES:Future Faculty and Academic Careers
ATTACH;FMTTYPE=image/jpeg:https://futurefaculty.cornell.edu/wp-content/uploads/2018/08/36316644_905869322926807_8709859433343090688_o.jpg
GEO:42.4487952;-76.476316
X-APPLE-STRUCTURED-LOCATION;VALUE=URI;X-ADDRESS=102 Mann Library 237 Mann Drive Ithaca NY 14853 United States;X-APPLE-RADIUS=500;X-TITLE=237 Mann Drive:geo:-76.476316,42.4487952
END:VEVENT
BEGIN:VEVENT
DTSTART;TZID=America/New_York:20200213T140000
DTEND;TZID=America/New_York:20200213T154000
DTSTAMP:20260422T183117
CREATED:20200124T211556Z
LAST-MODIFIED:20221003T200309Z
UID:10001800-1581602400-1581608400@futurefaculty.cornell.edu
SUMMARY:NCFDD: How to Align Your Time with Your Priorities
DESCRIPTION:Grab your strategic plan and learn the secret to making it work day-to-day and week-to-week! How to Align Your Time with Your Priorities is a step-by-step guide to holding a weekly planning meeting (aka The Sunday Meeting). In this webinar you’ll learn: \n\nWhat works…and what DOESN’T work when it comes to weekly planning\nWhy weekly planning is the bridge between your strategic plan and getting control of your workday\nThe 30-minute technique that will help you make sure that the most important things get done each day\nAnd much more…\n\nThis is a HANDS-ON webinar where you’ll not only learn the technique but actually do it! \n\nFree Individual Memberships for the National Center for Faculty Development & Diversity (NCFDD)\nAvailable to all Cornell students\, postdocs\, faculty\, and staff \n \nCornell is an institutional member of the National Center for Faculty Development & Diversity (NCFDD)\, a nationally recognized\, independent organization providing online career development and mentoring resources. The NCFDD provides members with access to tools to increase research and writing productivity and improve work-life balance. \nActivate your account by following the steps below: \n\nGo to the NCFDD website\nUnder “Select Your Institution\,” choose “Cornell University”\nSelect “Activate my Membership”\nComplete the registration form using your Cornell email address\nCheck your Cornell email account to find a confirmation/welcome email. Click “Activate Account” in the email
URL:https://futurefaculty.cornell.edu/event/ncfdd-how-to-align-your-time-with-your-priorities/
LOCATION:Webinar
CATEGORIES:Future Faculty and Academic Careers
END:VEVENT
END:VCALENDAR