BEGIN:VCALENDAR
VERSION:2.0
PRODID:-//Future Faculty and Academic Careers - ECPv6.15.20//NONSGML v1.0//EN
CALSCALE:GREGORIAN
METHOD:PUBLISH
X-WR-CALNAME:Future Faculty and Academic Careers
X-ORIGINAL-URL:https://futurefaculty.cornell.edu
X-WR-CALDESC:Events for Future Faculty and Academic Careers
REFRESH-INTERVAL;VALUE=DURATION:PT1H
X-Robots-Tag:noindex
X-PUBLISHED-TTL:PT1H
BEGIN:VTIMEZONE
TZID:America/New_York
BEGIN:DAYLIGHT
TZOFFSETFROM:-0500
TZOFFSETTO:-0400
TZNAME:EDT
DTSTART:20190310T070000
END:DAYLIGHT
BEGIN:STANDARD
TZOFFSETFROM:-0400
TZOFFSETTO:-0500
TZNAME:EST
DTSTART:20191103T060000
END:STANDARD
BEGIN:DAYLIGHT
TZOFFSETFROM:-0500
TZOFFSETTO:-0400
TZNAME:EDT
DTSTART:20200308T070000
END:DAYLIGHT
BEGIN:STANDARD
TZOFFSETFROM:-0400
TZOFFSETTO:-0500
TZNAME:EST
DTSTART:20201101T060000
END:STANDARD
BEGIN:DAYLIGHT
TZOFFSETFROM:-0500
TZOFFSETTO:-0400
TZNAME:EDT
DTSTART:20210314T070000
END:DAYLIGHT
BEGIN:STANDARD
TZOFFSETFROM:-0400
TZOFFSETTO:-0500
TZNAME:EST
DTSTART:20211107T060000
END:STANDARD
END:VTIMEZONE
BEGIN:VEVENT
DTSTART;TZID=America/New_York:20200218T130000
DTEND;TZID=America/New_York:20200218T143000
DTSTAMP:20260422T181959
CREATED:20200124T200102Z
LAST-MODIFIED:20221003T200309Z
UID:10002144-1582030800-1582036200@futurefaculty.cornell.edu
SUMMARY:CIRTL Network: Facilitating Work-Life Balance and Resilience
DESCRIPTION:In this interactive online session\, participants will have an opportunity to examine their current work-life balance and to develop a plan to be more resilient and to sustain the support systems that will enable them to establish their desired work-life balance. At the end of this workshop\, participants will be able to: \n\n\n\nDefine what work-life balance means generally and personally;\nIdentify the characteristics of resilient people;\nIdentify resources to develop and sustain support networks and processes for well-being;\nMap individual work/life priorities and develop strategies for integrating and completing them successfully\n\n\n\nMore information at https://www.cirtl.net/events/708 \nWorkshop Schedule\nThis one-part workshop meets online on Tuesday\, February 18 at 1-2:30PM ET / 12-1:30PM CT / 11AM-12:30PM MT / 10-11:30AM PT. \nRegistration & Enrollment\nThis workshop is limited to 40 participants. Registration opens Monday\, December 16 and will close on Friday\, February 14 at 12PM CT. Registration will be processed on a rolling basis\, with participants from CIRTL member institutions and in STEM/SBE disciplines getting priority. If the workshop reaches capacity prior to February 14\, registration will close early. \nAccessibility\nWe strive to be inclusive of anyone interested in participating in our activities. If you have specific accessibility needs\, please contact us at info@cirtl.net in advance so that we may make the necessary accommodations.
URL:https://futurefaculty.cornell.edu/event/facilitating-work-life-balance-and-resilience/
LOCATION:Online
CATEGORIES:Future Faculty and Academic Careers
ATTACH;FMTTYPE=image/jpeg:https://futurefaculty.cornell.edu/wp-content/uploads/2018/07/UP_2018_0200_022-copy-e1532724122136.jpg
ORGANIZER;CN="CIRTL Network":MAILTO:info@cirtl.net
END:VEVENT
BEGIN:VEVENT
DTSTART;TZID=America/New_York:20200218T140000
DTEND;TZID=America/New_York:20200218T150000
DTSTAMP:20260422T181959
CREATED:20200124T211557Z
LAST-MODIFIED:20221003T200309Z
UID:10001802-1582034400-1582038000@futurefaculty.cornell.edu
SUMMARY:NCFDD: Resting to Rise
DESCRIPTION:We all hear about the importance of self-care and\, in particular\, sleep. But many of us continue to struggle finding our internal place of deep rest and renewal. This place is not only where our nervous system resets\, but also where our creativity\, zest\, truest voice\, and zone of genius dwell – boons to any academic writer\, teacher\, and change-maker. It is also from this place that clarity of purpose arises about our role in social transformation. In this workshop we explore the idea and practice of “resting to rise” for academics. We introduce yoga nidra – what it is\, what it does\, its relevance to faculty\, and\, most importantly\, how to try it and even fit it in to your already-full schedule. You will leave the workshop with access to a free recording\, and a plan for weaving it into your life in support of your writing goals and other meaningful projects. \n\nFree Individual Memberships for the National Center for Faculty Development & Diversity (NCFDD)\nAvailable to all Cornell students\, postdocs\, faculty\, and staff \n \nCornell is an institutional member of the National Center for Faculty Development & Diversity (NCFDD)\, a nationally recognized\, independent organization providing online career development and mentoring resources. The NCFDD provides members with access to tools to increase research and writing productivity and improve work-life balance. \nActivate your account by following the steps below: \n\nGo to the NCFDD website\nUnder “Select Your Institution\,” choose “Cornell University”\nSelect “Activate my Membership”\nComplete the registration form using your Cornell email address\nCheck your Cornell email account to find a confirmation/welcome email. Click “Activate Account” in the email
URL:https://futurefaculty.cornell.edu/event/ncfdd-resting-to-rise/
LOCATION:Online
CATEGORIES:Future Faculty and Academic Careers
END:VEVENT
BEGIN:VEVENT
DTSTART;TZID=America/New_York:20200218T153000
DTEND;TZID=America/New_York:20200218T180000
DTSTAMP:20260422T181959
CREATED:20200107T014524Z
LAST-MODIFIED:20221003T201445Z
UID:10002133-1582039800-1582048800@futurefaculty.cornell.edu
SUMMARY:Intergroup Dialogue Project – Grad/ Postdoc Short Course
DESCRIPTION:This is an invitation-only event open to those who applied by the November deadline and were accepted for Winter 2020. Please contact the IDP team at idp@cornell.edu with any questions. \nThrough an interactive process known as intergroup dialogue\, this offering\, hosted by the Intergroup Dialogue Project\, provides participants with opportunities to explore how their social identities shape their professional choices and teaching/learning styles\, how to build capacity to have meaningful dialogue and effective collaborations across social\, cultural and power differences\, and how to explore the power of alliances when seeking to create an inclusive environment. \nThis program offering for Graduate Students and Postdoctoral Scholars has been made possible through funding support from the Graduate School Office of Inclusion and Student Engagement\, CIRTL at Cornell\, the Graduate School’s ETS/CGS Award for Innovation in Promoting Success in Graduate Education\, and the National Science Foundation-funded Cornell CIRTL AGEP Project under Grant No. 1647094. \nThis program could be for you if you want to: \n\nConnect more effectively with students\, faculty\, and colleagues.\nPrepare yourself to engage in diversity & inclusion processes in your future career as a scholar/professional.\nExplore your own social identities and learn how they relate to larger structures.\nFeel confident addressing power dynamics in your field.\nLearn how to respond to uncomfortable comments and situations.\nEngage in meaningful conversations about and across differences.\nCommunicate productively through conflict.\nCollaboratively think about ways you can enact positive social change.\nGet to know a diverse group of scholars who are interested in similar topics!
URL:https://futurefaculty.cornell.edu/event/intergroup-dialogue-project-grad-postdoc-short-course-4/
CATEGORIES:Future Faculty and Academic Careers
ATTACH;FMTTYPE=image/jpeg:https://futurefaculty.cornell.edu/wp-content/uploads/2020/01/IMG_1035-crop-scaled-e1578412901645.jpg
END:VEVENT
BEGIN:VEVENT
DTSTART;TZID=America/New_York:20200220T160000
DTEND;TZID=America/New_York:20200220T173000
DTSTAMP:20260422T181959
CREATED:20191122T164145Z
LAST-MODIFIED:20221003T200310Z
UID:10002115-1582214400-1582219800@futurefaculty.cornell.edu
SUMMARY:NextGen Professors: February Cohort Meeting
DESCRIPTION:This is an invitation-only event for applicants who have been selected to participate in this year’s NextGen Professors cohort. \nNextGen Professors is a career-development program focused on preparing Cornell doctoral students and postdocs for faculty careers across institutional types. The primary audience for this program is doctoral students (in year 3 or beyond) and postdocs from backgrounds historically underrepresented in the professoriate\, and/or those with a demonstrated commitment to advancing diversity\, inclusion\, access and equity in the academy. Participants are members of a cohort who together engage in series of professional and career development activities including monthly NextGen Professors cohort meetings\, Power Mentoring Sessions with faculty\, and the Future Professors Institute. Participants also engage in the future faculty development program offerings of CIRTL at Cornell. \nFebruary Meeting Topic: Power Mentoring Session with Current Faculty \nLocation: 102 Mann Library
URL:https://futurefaculty.cornell.edu/event/nextgen-professors-february-cohort-meeting-2/
LOCATION:102 Mann Library\, 237 Mann Drive\, Ithaca\, NY\, 14853\, United States
CATEGORIES:Future Faculty and Academic Careers
ATTACH;FMTTYPE=image/jpeg:https://futurefaculty.cornell.edu/wp-content/uploads/2019/01/IMG_1044_select.jpeg
GEO:42.4487952;-76.476316
X-APPLE-STRUCTURED-LOCATION;VALUE=URI;X-ADDRESS=102 Mann Library 237 Mann Drive Ithaca NY 14853 United States;X-APPLE-RADIUS=500;X-TITLE=237 Mann Drive:geo:-76.476316,42.4487952
END:VEVENT
BEGIN:VEVENT
DTSTART;TZID=America/New_York:20200221T120000
DTEND;TZID=America/New_York:20200221T133000
DTSTAMP:20260422T181959
CREATED:20191123T212654Z
LAST-MODIFIED:20221003T200310Z
UID:10002119-1582286400-1582291800@futurefaculty.cornell.edu
SUMMARY:Academic Job Search Discussion
DESCRIPTION:Are you a postdoc or graduate student applying for academic jobs now or in the near future? Come join a lunch discussion with others in the same stage\, facilitated by the directors of Postdoctoral Studies and CIRTL at Cornell. We’re gathering a community of peers to help find advice\, support\, and feedback. Bring questions and we’ll provide lunch! Registration required. \nCo-sponsored by the Office of Postdoctoral Studies and the Center for the Integration of Research\, Teaching\, and Learning (CIRTL at Cornell)\, as part of the Graduate School’s Academic Job Search Series. \nLocation: 102 Mann Library \nWe strive to make our events accessible to all community members. Individuals who have food restrictions and/or would like to request accessibility accommodations should contact cirtl@cornell.edu. We ask that requests be made at least one week in advance of an event to help ensure they can be met.
URL:https://futurefaculty.cornell.edu/event/academic-job-search-discussion-2/
LOCATION:102 Mann Library\, 237 Mann Drive\, Ithaca\, NY\, 14853\, United States
CATEGORIES:Future Faculty and Academic Careers
ATTACH;FMTTYPE=image/jpeg:https://futurefaculty.cornell.edu/wp-content/uploads/2019/01/IMG_9767.jpg
ORGANIZER;CN="CIRTL at Cornell":MAILTO:cirtl@cornell.edu
GEO:42.4487952;-76.476316
X-APPLE-STRUCTURED-LOCATION;VALUE=URI;X-ADDRESS=102 Mann Library 237 Mann Drive Ithaca NY 14853 United States;X-APPLE-RADIUS=500;X-TITLE=237 Mann Drive:geo:-76.476316,42.4487952
END:VEVENT
END:VCALENDAR