BEGIN:VCALENDAR
VERSION:2.0
PRODID:-//Future Faculty and Academic Careers - ECPv6.15.20//NONSGML v1.0//EN
CALSCALE:GREGORIAN
METHOD:PUBLISH
X-WR-CALNAME:Future Faculty and Academic Careers
X-ORIGINAL-URL:https://futurefaculty.cornell.edu
X-WR-CALDESC:Events for Future Faculty and Academic Careers
REFRESH-INTERVAL;VALUE=DURATION:PT1H
X-Robots-Tag:noindex
X-PUBLISHED-TTL:PT1H
BEGIN:VTIMEZONE
TZID:America/New_York
BEGIN:DAYLIGHT
TZOFFSETFROM:-0500
TZOFFSETTO:-0400
TZNAME:EDT
DTSTART:20190310T070000
END:DAYLIGHT
BEGIN:STANDARD
TZOFFSETFROM:-0400
TZOFFSETTO:-0500
TZNAME:EST
DTSTART:20191103T060000
END:STANDARD
BEGIN:DAYLIGHT
TZOFFSETFROM:-0500
TZOFFSETTO:-0400
TZNAME:EDT
DTSTART:20200308T070000
END:DAYLIGHT
BEGIN:STANDARD
TZOFFSETFROM:-0400
TZOFFSETTO:-0500
TZNAME:EST
DTSTART:20201101T060000
END:STANDARD
BEGIN:DAYLIGHT
TZOFFSETFROM:-0500
TZOFFSETTO:-0400
TZNAME:EDT
DTSTART:20210314T070000
END:DAYLIGHT
BEGIN:STANDARD
TZOFFSETFROM:-0400
TZOFFSETTO:-0500
TZNAME:EST
DTSTART:20211107T060000
END:STANDARD
END:VTIMEZONE
BEGIN:VEVENT
DTSTART;TZID=America/New_York:20200324T120000
DTEND;TZID=America/New_York:20200324T140000
DTSTAMP:20260422T184403
CREATED:20191225T004300Z
LAST-MODIFIED:20221003T200309Z
UID:10002129-1585051200-1585058400@futurefaculty.cornell.edu
SUMMARY:Building Mentoring Skills for an Academic Career (Online)
DESCRIPTION:This is an invitation-only event for registrants who have been selected to participate in this year’s Building Mentoring Skills cohort\, and will be held online. A Zoom link will be shared by email to participants. \nIn this series of lunchtime workshops for graduate students and postdocs offered by CIRTL at Cornell\, you will develop essential research mentoring skills\, particularly in disciplines where research is conducted collaboratively (e.g.\, in a research team\, field setting\, or laboratory group). Effective mentoring of students is a key skill influencing everything from research productivity to personal satisfaction. Learn best practices for mentoring undergraduate\, graduate\, and postdoctoral researchers\, and develop planning and communication skills needed to lead a research team. \nAll sessions will be practical in nature and feature short pre-readings or videos\, case studies or discussion with panelists\, and self-assessments to help identify your strengths and desired areas for improvement. \nInterested participants should apply prior to the start of the series with the expectation of attending all workshops in person. Program completion certificates will be provided for fully participating in at least 4 of 5 sessions. \nAll sessions are from 12:00-2:00 pm. Registered participants will receive location details for each session. \nSchedule of Topics for Spring 2020\nJanuary 29\, 2020 – What Makes a Good Mentor and Mentee? Exploring Learning\, Motivation\, and Values\nUnderstand key principles of learning and theories of motivation that can help you build a strong research group\, and even learn more about yourself and values you wish to communicate to mentees. \nFebruary 11\, 2020 – Aligning Expectations and Guiding Doable Projects\nHow do you design a doable project with a defined timespan for a relative novice in your discipline? Learn how to set expectations for mentor and mentee to make sure the project and relationship stay on track. \nMarch 3\, 2020 – Handling Tricky Mentoring Situations\nLearn how to address some of the trickiest situations you might encounter when mentoring undergraduate researchers or graduate students\, from modeling appropriate research ethics to sharing co-advised students. We will also discuss how you might solicit feedback and turn around projects that aren’t going as planned (from the mentor’s perspective). \nMarch 24\, 2020 – Creating Inclusive Research Settings\nCreate and sustain a research group and academic climate in which each individual feels safe and supported. We will discuss how to create a welcoming environment for groups typically underrepresented in higher education\, while reflecting on our own identities and experiences and how they may be strengths or blind spots in our mentoring. \nApril 7\, 2020 – Supporting Mentees’ Professional Development: Helping them Present and Publish\, and Writing Fair Letters of Recommendation\nRevisit some key ideas about effective communication to introduce your students to writing about and presenting their work. Learn how to write a fair letter of recommendation\, and what not to say. \nQuestions? \nContact Colleen McLinn\, CIRTL at Cornell Director\, cirtl@cornell.edu or 607-255-2030. \nSponsored by the Center for the Integration of Research\, Teaching\, and Learning (CIRTL)  at the Cornell Graduate School. \nWe strive to make our events accessible to all community members. Individuals who have food restrictions and/or would like to request accessibility accommodations should contact cirtl@cornell.edu. We ask that requests be made at least one week in advance of an event to help ensure they can be met.
URL:https://futurefaculty.cornell.edu/event/building-mentoring-skills-for-an-academic-career-8/
LOCATION:Online
CATEGORIES:Future Faculty and Academic Careers
ATTACH;FMTTYPE=image/jpeg:https://futurefaculty.cornell.edu/wp-content/uploads/2020/01/CIRTL-20190519-Connecting-Research-and-Teaching-Conference-049_select.jpg
ORGANIZER;CN="CIRTL at Cornell":MAILTO:cirtl@cornell.edu
END:VEVENT
BEGIN:VEVENT
DTSTART;TZID=America/New_York:20200324T140000
DTEND;TZID=America/New_York:20200324T150000
DTSTAMP:20260422T184403
CREATED:20200124T212534Z
LAST-MODIFIED:20221003T200309Z
UID:10001806-1585058400-1585062000@futurefaculty.cornell.edu
SUMMARY:NCFDD: How to Challenge Race and Gender Bias in Student Evaluations
DESCRIPTION:Free Individual Memberships for the National Center for Faculty Development & Diversity (NCFDD) \n\nAvailable to all Cornell students\, postdocs\, faculty\, and staff \n \nCornell is an institutional member of the National Center for Faculty Development & Diversity (NCFDD)\, a nationally recognized\, independent organization providing online career development and mentoring resources. The NCFDD provides members with access to tools to increase research and writing productivity and improve work-life balance. \nActivate your account by following the steps below: \n\nGo to the NCFDD website\nUnder “Select Your Institution\,” choose “Cornell University”\nSelect “Activate my Membership”\nComplete the registration form using your Cornell email address\nCheck your Cornell email account to find a confirmation/welcome email. Click “Activate Account” in the email
URL:https://futurefaculty.cornell.edu/event/ncfdd-how-to-challenge-race-and-gender-bias-in-student-evaluations/
LOCATION:Webinar
CATEGORIES:Future Faculty and Academic Careers
ATTACH;FMTTYPE=image/jpeg:https://futurefaculty.cornell.edu/wp-content/uploads/2020/02/ncfdd_200x.jpg
END:VEVENT
BEGIN:VEVENT
DTSTART;TZID=America/New_York:20200325T120000
DTEND;TZID=America/New_York:20200325T130000
DTSTAMP:20260422T184403
CREATED:20200303T171639Z
LAST-MODIFIED:20221003T200308Z
UID:10002154-1585137600-1585141200@futurefaculty.cornell.edu
SUMMARY:CANCELED: From Deficits to Possibilities: Mentoring Lessons for Building Bridges to Access and Success
DESCRIPTION:CANCELED: The Multicultural Academic Council invites you to join us for our annual public talk on Mentoring. This year’s talk features Beronda Montgomery\, MSU Foundation Professor of Biochemistry and Molecular Biology and Assistant Provost for Faculty Development-Research at Michigan State University. Lunch available at 11:30 am. \nSession Summary:\nMentoring is often positioned as the transfer of information from an experienced\, senior individual (or mentor) to a junior\, inexperienced individual (or mentee). Implicit in this description are the ideas that at the core of mentoring is a process of teaching – to guide\, instruct and train – and that mentoring may largely be a one-way flow of information. Increasingly\, however\, mentoring is being understood as a process best facilitated through a bilateral exchange and flow of knowledge and learning between individuals in a mentoring exchange. In this evolving conceptualization and practice of mentoring\, both mentor and mentee are positioned as learners and teachers. In this presentation\, I explore effective means of cultivating mentoring as a place of collaborative learning and reciprocal cultivation\, that promotes the growth and success of all involved in the mentoring process. \nAbout the Speaker:\nProfessor Montgomery conducts research on the means by which plants and cyanobacteria are able to monitor and adjust to changes in their external environments. The ability of these largely immobile organisms to adapt their growth and fitness to dynamic environments increases their survival and maximizes productivity. Dr. Montgomery also conducts scholarship and training initiatives on effective research mentoring\, research management and academic leadership\, including issues related to mentoring diverse scholars\, as well as faculty development. Dr. Montgomery’s scholarly efforts have been recognized by receipt of an NSF CAREER Award\, being selected as a finalist in the 2014 Howard Hughes Medical Institute (HHMI) Professors Competition\, a 2015 Michigan State University Nominee for the Council for Advancement and Support of Education (CASE) US Professor of the Year Award\, and as an 2017-2019 American Society of Microbiology Distinguished Lecturer. Dr. Montgomery was elected as a fellow of the American Academy of Microbiology in 2018. \nSponsors:\nThis event is sponsored by the Multicultural Academic Council in collaboration with the Graduate School Office of Inclusion & Student Engagement and the Center for the Integration of Research\, Teaching and Learning (CIRTL) at Cornell and is supported by the Graduate and Professional Student Assembly Finance Commission and the NSF AGEP Transformation Alliance: Improved Academic Climate for STEM Dissertators and Postdocs to Increase Interest in Faculty Careers (NSF Grant No. 1647094). \nAccommodations:\nWe strive to make our events accessible to all community members.  Individuals who would like to request accessibility accommodations should indicate accommodation needs within the event registration and contact al546@cornell.edu with any questions. Please note that we ask that requests be made at least one week in advance of an event to help ensure they can be met. \nAdditional Information:\nWith support from PACE (Program for Achieving Career Excellence)\, Dr. Montgomery’s same public talk on mentoring will also take place on March 24 as part of the College of Veterinary Medicine’s  “Many Voices\, One College” initiative. The March 24 talk will take place from 12-1pm (lunch provided at 11:30am) in Lecture Hall 4 in the CVM Center and will be followed by an open Q&A session from 1-2pm. We welcome you to join us for Dr. Montgomery’s talk on the date that works best for you. \nCoronavirus/COVID-19:\nAccording to current Cornell University policy to support the health and well-being of our campus communities in the face of uncertainty about coronavirus/COVID-19\, visitors who have been in an area significantly affected by coronavirus/COVID-19 (currently mainland China\, South Korea\, Italy\, Iran\, and Japan) within 14 days of the scheduled visit to Cornell are not allowed to visit campus and must change their plans.  If you have been in one of these areas within 14 days of your scheduled visit\, please let us know immediately and we will cancel your in-person attendance.  We may be able to arrange provisions for you to attend virtually. \nCornell’s coronavirus/COVID-19 web page includes up to date information about campus policies in this regard.  Thank you for your compliance and flexibility in this time of increased attention to health concerns locally and globally.
URL:https://futurefaculty.cornell.edu/event/from-deficits-to-possibilities-mentoring-lessons-for-building-bridges-to-access-and-success/
LOCATION:Biotechnology Building\, Room G10\, 526 Campus Road\, Ithaca\, NY\, 14853\, United States
CATEGORIES:Future Faculty and Academic Careers
GEO:42.4465542;-76.4783618
X-APPLE-STRUCTURED-LOCATION;VALUE=URI;X-ADDRESS=Biotechnology Building Room G10 526 Campus Road Ithaca NY 14853 United States;X-APPLE-RADIUS=500;X-TITLE=526 Campus Road:geo:-76.4783618,42.4465542
END:VEVENT
END:VCALENDAR