BEGIN:VCALENDAR
VERSION:2.0
PRODID:-//Future Faculty and Academic Careers - ECPv6.15.20//NONSGML v1.0//EN
CALSCALE:GREGORIAN
METHOD:PUBLISH
X-WR-CALNAME:Future Faculty and Academic Careers
X-ORIGINAL-URL:https://futurefaculty.cornell.edu
X-WR-CALDESC:Events for Future Faculty and Academic Careers
REFRESH-INTERVAL;VALUE=DURATION:PT1H
X-Robots-Tag:noindex
X-PUBLISHED-TTL:PT1H
BEGIN:VTIMEZONE
TZID:America/New_York
BEGIN:DAYLIGHT
TZOFFSETFROM:-0500
TZOFFSETTO:-0400
TZNAME:EDT
DTSTART:20190310T070000
END:DAYLIGHT
BEGIN:STANDARD
TZOFFSETFROM:-0400
TZOFFSETTO:-0500
TZNAME:EST
DTSTART:20191103T060000
END:STANDARD
BEGIN:DAYLIGHT
TZOFFSETFROM:-0500
TZOFFSETTO:-0400
TZNAME:EDT
DTSTART:20200308T070000
END:DAYLIGHT
BEGIN:STANDARD
TZOFFSETFROM:-0400
TZOFFSETTO:-0500
TZNAME:EST
DTSTART:20201101T060000
END:STANDARD
BEGIN:DAYLIGHT
TZOFFSETFROM:-0500
TZOFFSETTO:-0400
TZNAME:EDT
DTSTART:20210314T070000
END:DAYLIGHT
BEGIN:STANDARD
TZOFFSETFROM:-0400
TZOFFSETTO:-0500
TZNAME:EST
DTSTART:20211107T060000
END:STANDARD
END:VTIMEZONE
BEGIN:VEVENT
DTSTART;TZID=America/New_York:20201001T160000
DTEND;TZID=America/New_York:20201001T170000
DTSTAMP:20260421T194756
CREATED:20200923T200742Z
LAST-MODIFIED:20221010T224600Z
UID:10002215-1601568000-1601571600@futurefaculty.cornell.edu
SUMMARY:Tell Your Story! Developing Your Presentation’s Design and Message
DESCRIPTION:Join us to learn how to design format and develop content for an effective presentation\, especially for virtual presentations this year. We’ll provide tips for virtual job talks\, conference presentations\, and competitions such as the Three-Minute Thesis (3MT) and other graduate student research competitions. The primary audiences for this event are graduate students and postdoctoral scholars. \nSpeakers:  \nSerge Petchenyi\, Center for Teaching Innovation \nKim Benowski\, Center for Teaching Innovation
URL:https://futurefaculty.cornell.edu/event/tell-your-story-developing-your-presentations-design-and-message/
LOCATION:Zoom
CATEGORIES:Careers Beyond Academia,Future Faculty and Academic Careers
ATTACH;FMTTYPE=image/jpeg:https://futurefaculty.cornell.edu/wp-content/uploads/2020/03/UP_2018_0200_022-copy-e1532724122136-scaled-1.jpg
END:VEVENT
END:VCALENDAR