BEGIN:VCALENDAR
VERSION:2.0
PRODID:-//Future Faculty and Academic Careers - ECPv6.15.20//NONSGML v1.0//EN
CALSCALE:GREGORIAN
METHOD:PUBLISH
X-ORIGINAL-URL:https://futurefaculty.cornell.edu
X-WR-CALDESC:Events for Future Faculty and Academic Careers
REFRESH-INTERVAL;VALUE=DURATION:PT1H
X-Robots-Tag:noindex
X-PUBLISHED-TTL:PT1H
BEGIN:VTIMEZONE
TZID:America/New_York
BEGIN:DAYLIGHT
TZOFFSETFROM:-0500
TZOFFSETTO:-0400
TZNAME:EDT
DTSTART:20190310T070000
END:DAYLIGHT
BEGIN:STANDARD
TZOFFSETFROM:-0400
TZOFFSETTO:-0500
TZNAME:EST
DTSTART:20191103T060000
END:STANDARD
BEGIN:DAYLIGHT
TZOFFSETFROM:-0500
TZOFFSETTO:-0400
TZNAME:EDT
DTSTART:20200308T070000
END:DAYLIGHT
BEGIN:STANDARD
TZOFFSETFROM:-0400
TZOFFSETTO:-0500
TZNAME:EST
DTSTART:20201101T060000
END:STANDARD
BEGIN:DAYLIGHT
TZOFFSETFROM:-0500
TZOFFSETTO:-0400
TZNAME:EDT
DTSTART:20210314T070000
END:DAYLIGHT
BEGIN:STANDARD
TZOFFSETFROM:-0400
TZOFFSETTO:-0500
TZNAME:EST
DTSTART:20211107T060000
END:STANDARD
END:VTIMEZONE
BEGIN:VEVENT
DTSTART;TZID=America/New_York:20201112T140000
DTEND;TZID=America/New_York:20201112T153000
DTSTAMP:20260421T213255
CREATED:20200814T005046Z
LAST-MODIFIED:20221003T200258Z
UID:10002201-1605189600-1605195000@futurefaculty.cornell.edu
SUMMARY:NCFDD: How to Manage Stress\, Rejection and the Haters in Your Midst
DESCRIPTION:Are you stressed?\nDo you feel devastated when your articles and/or grant proposals get rejected?\nIs the pressure of publishing/funding your work making you sick?\n\nIf any of this sounds familiar and you have difficulty managing the negative energy and rejection in your environment\, please join us to learn: \n\nThe impact that stress and negativity can have if they are not managed\nIdentify the most common areas of stress in academic life\nConcrete strategies for managing the physical\, emotional\, and attitudinal effects of stress\n\n\nFree Individual Memberships for the National Center for Faculty Development & Diversity (NCFDD)\nAvailable to all Cornell students\, postdocs\, faculty\, and staff \nCornell is an institutional member of the National Center for Faculty Development & Diversity (NCFDD)\, a nationally recognized\, independent organization providing online career development and mentoring resources. The NCFDD provides members with access to tools to increase research and writing productivity and improve work-life balance.   \nActivate your account by following the steps below: \n\nGo to the NCFDD website\nUnder “Select Your Institution\,” choose “Cornell University”\nSelect “Activate my Membership”\nComplete the registration form using your Cornell email address\nCheck your Cornell email account to find a confirmation/welcome email. Click “Activate Account” in the email
URL:https://futurefaculty.cornell.edu/event/ncfdd-how-to-manage-stress-rejection-and-the-haters-in-your-midst-3/
LOCATION:Webinar
CATEGORIES:Future Faculty and Academic Careers
END:VEVENT
BEGIN:VEVENT
DTSTART;TZID=America/New_York:20201112T160000
DTEND;TZID=America/New_York:20201112T170000
DTSTAMP:20260421T213255
CREATED:20200924T012420Z
LAST-MODIFIED:20221010T224559Z
UID:10002222-1605196800-1605200400@futurefaculty.cornell.edu
SUMMARY:Overcoming Stage Fright and Improving Your Presence
DESCRIPTION:Who doesn’t get at least a little nervous when preparing and presenting for audiences of any size when the stakes are high? (No one!) Thinking about a class presentation? A job interview? A presentation at a colloquium or conference? Join us to learn ways to manage nervousness and anxiety about presenting and to develop and demonstrate confidence with your audience.  Pre-register here.
URL:https://futurefaculty.cornell.edu/event/overcoming-stage-fright-and-improving-your-presence/
LOCATION:Zoom
CATEGORIES:Careers Beyond Academia,Future Faculty and Academic Careers
END:VEVENT
END:VCALENDAR