BEGIN:VCALENDAR
VERSION:2.0
PRODID:-//Future Faculty and Academic Careers - ECPv6.15.17.1//NONSGML v1.0//EN
CALSCALE:GREGORIAN
METHOD:PUBLISH
X-ORIGINAL-URL:https://futurefaculty.cornell.edu
X-WR-CALDESC:Events for Future Faculty and Academic Careers
REFRESH-INTERVAL;VALUE=DURATION:PT1H
X-Robots-Tag:noindex
X-PUBLISHED-TTL:PT1H
BEGIN:VTIMEZONE
TZID:America/New_York
BEGIN:DAYLIGHT
TZOFFSETFROM:-0500
TZOFFSETTO:-0400
TZNAME:EDT
DTSTART:20200308T070000
END:DAYLIGHT
BEGIN:STANDARD
TZOFFSETFROM:-0400
TZOFFSETTO:-0500
TZNAME:EST
DTSTART:20201101T060000
END:STANDARD
BEGIN:DAYLIGHT
TZOFFSETFROM:-0500
TZOFFSETTO:-0400
TZNAME:EDT
DTSTART:20210314T070000
END:DAYLIGHT
BEGIN:STANDARD
TZOFFSETFROM:-0400
TZOFFSETTO:-0500
TZNAME:EST
DTSTART:20211107T060000
END:STANDARD
BEGIN:DAYLIGHT
TZOFFSETFROM:-0500
TZOFFSETTO:-0400
TZNAME:EDT
DTSTART:20220313T070000
END:DAYLIGHT
BEGIN:STANDARD
TZOFFSETFROM:-0400
TZOFFSETTO:-0500
TZNAME:EST
DTSTART:20221106T060000
END:STANDARD
END:VTIMEZONE
BEGIN:VEVENT
DTSTART;TZID=America/New_York:20211110T120000
DTEND;TZID=America/New_York:20211110T133000
DTSTAMP:20260420T233150
CREATED:20211015T202423Z
LAST-MODIFIED:20221003T200234Z
UID:10002278-1636545600-1636551000@futurefaculty.cornell.edu
SUMMARY:Interviewing and Negotiation for Academic Positions
DESCRIPTION:An important part of the academic job search is interviewing and then negotiating the offer. Come learn about the art of interviewing for faculty positions from your laptop or mobile device. The format will be interactive presentation followed by question and answer period. \nPresenters: Yael Levitte\, associate vice provost for faculty development and diversity\, and Christine Holmes\, director of postdoctoral studies \nRSVP to receive the link to the Zoom meeting. Register for November 10 \nCo-sponsored by the Office of Postdoctoral Studies and the Future Faculty and Academic Careers program\, as part of the Graduate School’s Academic Job Search Series. \nAccommodations: We strive to make our events accessible to all Cornell community members. Individuals who have accessibility accommodations to request should contact hm459@cornell.edu. We ask that requests be made at least one week in advance to help ensure they can be met.
URL:https://futurefaculty.cornell.edu/event/interviewing-and-negotiation-for-academic-positions-7/
LOCATION:Zoom
CATEGORIES:Future Faculty and Academic Careers
ATTACH;FMTTYPE=image/jpeg:https://futurefaculty.cornell.edu/wp-content/uploads/2018/08/36316644_905869322926807_8709859433343090688_o.jpg
END:VEVENT
BEGIN:VEVENT
DTSTART;TZID=America/New_York:20211111T140000
DTEND;TZID=America/New_York:20211111T140000
DTSTAMP:20260420T233150
CREATED:20210914T200916Z
LAST-MODIFIED:20221003T200236Z
UID:10002269-1636639200-1636639200@futurefaculty.cornell.edu
SUMMARY:NCFDD Webinar: How to Manage Stress\, Rejection and the Haters in Your Midst
DESCRIPTION:Are you stressed?\nDo you feel devastated when your articles and/or grant proposals get rejected?\nIs the pressure of publishing/funding your work making you sick?\n\nIf any of this sounds familiar and you have difficulty managing the negative energy and rejection in your environment\, please join us to learn: \n\nThe impact that stress and negativity can have if they are not managed\nIdentify the most common areas of stress in academic life\nConcrete strategies for managing the physical\, emotional\, and attitudinal effects of stress\n\nFacilitator Bio\nMindi Thompson\, PhD\, HSP\, is a Professor of Counseling Psychology at The University of Wisconsin-Madison and a licensed and registered Health Service Psychologist. She has published more than 35 peer-reviewed journal articles and book chapters using qualitative and quantitative methods\, has coauthored a research design textbook\, and has received national funding to support her research. She directs the Work and Wellness Lab at UW-Madison and is the Academic Director of Faculty Programs for NCFDD. She enjoys deepening relationships with friends and family\, traveling\, and basking in nature’s beauty. \n\nFree Individual Memberships for the National Center for Faculty Development & Diversity (NCFDD)\nAvailable to all Cornell students\, postdocs\, faculty\, and staff \nCornell is an institutional member of the National Center for Faculty Development & Diversity (NCFDD)\, a nationally recognized\, independent organization providing online career development and mentoring resources. The NCFDD provides members with access to tools to increase research and writing productivity and improve work-life balance.   \nActivate your account by following the steps below: \n\nGo to the NCFDD website\nUnder “Select Your Institution\,” choose “Cornell University”\nSelect “Activate my Membership”\nComplete the registration form using your Cornell email address\nCheck your Cornell email account to find a confirmation/welcome email. Click “Activate Account” in the email
URL:https://futurefaculty.cornell.edu/event/ncfdd-webinar-how-to-manage-stress-rejection-and-the-haters-in-your-midst/
LOCATION:Webinar
CATEGORIES:Future Faculty and Academic Careers
ATTACH;FMTTYPE=image/jpeg:https://futurefaculty.cornell.edu/wp-content/uploads/2021/09/NCFDD-3-2-e1631742695205-a1FwYW.tmp_.jpg
END:VEVENT
END:VCALENDAR