BEGIN:VCALENDAR
VERSION:2.0
PRODID:-//Future Faculty and Academic Careers - ECPv6.15.17.1//NONSGML v1.0//EN
CALSCALE:GREGORIAN
METHOD:PUBLISH
X-WR-CALNAME:Future Faculty and Academic Careers
X-ORIGINAL-URL:https://futurefaculty.cornell.edu
X-WR-CALDESC:Events for Future Faculty and Academic Careers
REFRESH-INTERVAL;VALUE=DURATION:PT1H
X-Robots-Tag:noindex
X-PUBLISHED-TTL:PT1H
BEGIN:VTIMEZONE
TZID:America/New_York
BEGIN:DAYLIGHT
TZOFFSETFROM:-0500
TZOFFSETTO:-0400
TZNAME:EDT
DTSTART:20180311T070000
END:DAYLIGHT
BEGIN:STANDARD
TZOFFSETFROM:-0400
TZOFFSETTO:-0500
TZNAME:EST
DTSTART:20181104T060000
END:STANDARD
BEGIN:DAYLIGHT
TZOFFSETFROM:-0500
TZOFFSETTO:-0400
TZNAME:EDT
DTSTART:20190310T070000
END:DAYLIGHT
BEGIN:STANDARD
TZOFFSETFROM:-0400
TZOFFSETTO:-0500
TZNAME:EST
DTSTART:20191103T060000
END:STANDARD
BEGIN:DAYLIGHT
TZOFFSETFROM:-0500
TZOFFSETTO:-0400
TZNAME:EDT
DTSTART:20200308T070000
END:DAYLIGHT
BEGIN:STANDARD
TZOFFSETFROM:-0400
TZOFFSETTO:-0500
TZNAME:EST
DTSTART:20201101T060000
END:STANDARD
END:VTIMEZONE
BEGIN:VEVENT
DTSTART;TZID=America/New_York:20190205T120000
DTEND;TZID=America/New_York:20190205T140000
DTSTAMP:20260420T183845
CREATED:20190118T182556Z
LAST-MODIFIED:20221003T200314Z
UID:10002057-1549368000-1549375200@futurefaculty.cornell.edu
SUMMARY:Building Mentoring Skills for an Academic Career
DESCRIPTION:In this series of lunchtime workshops for graduate students and postdocs offered by CIRTL at Cornell\, you will develop essential research mentoring skills\, particularly in disciplines where research is conducted collaboratively in a laboratory or field setting. Effective mentoring of students is a key skill influencing everything from research productivity to personal satisfaction. Learn best practices for mentoring undergraduate\, graduate\, and postdoctoral researchers\, and develop planning and communication skills needed to lead a research team. \nAll sessions will be practical in nature and feature short pre-readings or videos\, case studies or discussion with panelists\, and self-assessments to help identify your strengths and desired areas for improvement. \nInterested participants should apply prior to the start of the series with the expectation of attending all workshops. Program completion certificates will be provided for fully participating in at least 4 of 5 sessions. \nAll sessions are on Tuesdays from 12:00-2:00 pm and include catered lunch. Registered participants will receive location details for each session. \nSchedule of Topics for Spring 2019\nFebruary 5\, 2019 – What Makes a Good Mentor and Mentee? Exploring Learning\, Motivation\, and Values\nUnderstand key principles of learning and theories of motivation that can help you build a strong research group\, and even learn more about yourself and values you wish to communicate to mentees. \nFebruary 19\, 2019 – Aligning Expectations and Guiding Doable Projects\nHow do you design a doable project with a defined timespan for a relative novice in your discipline? Learn how to set expectations for mentor and mentee to make sure the project and relationship stay on track. \nMarch 5\, 2019 – Creating Inclusive Research Settings\nCreate and sustain a research group and academic climate in which each individual feels safe and supported. We will discuss how to create a welcoming environment for groups typically underrepresented in higher education\, while reflecting on our own identities and experiences and how they may be strengths or blind spots in our mentoring. \nMarch 19\, 2019 – Handling Tricky Mentoring Situations\nLearn how to address some of the trickiest situations you might encounter when mentoring undergraduate researchers or graduate students\, from modeling appropriate research ethics to sharing co-advised students. We will also discuss how you might solicit feedback and turn around projects that aren’t going as planned (from the mentor’s perspective). \nApril 9\, 2019 – Supporting Mentees’ Professional Development: Helping them Present and Publish\, and Writing Fair Letters of Recommendation\nRevisit some key ideas about effective communication to introduce your students to writing about and presenting their work. Learn how to write a fair letter of recommendation\, and what not to say. \nQuestions? \nContact Colleen McLinn\, CIRTL at Cornell Director\, cirtl@cornell.edu or 607-255-2030. \nSponsored by the Center for the Integration of Research\, Teaching\, and Learning (CIRTL at Cornell)
URL:https://futurefaculty.cornell.edu/event/building-mentoring-skills-for-an-academic-career/
LOCATION:ILR Conference Center\, King-Shaw Hall\, Ithaca\, NY\, 14853\, United States
CATEGORIES:Future Faculty and Academic Careers
ATTACH;FMTTYPE=image/jpeg:https://futurefaculty.cornell.edu/wp-content/uploads/2019/01/2015_0115_006_select.jpg
ORGANIZER;CN="CIRTL at Cornell":MAILTO:cirtl@cornell.edu
GEO:42.4469974;-76.480085
X-APPLE-STRUCTURED-LOCATION;VALUE=URI;X-ADDRESS=ILR Conference Center King-Shaw Hall Ithaca NY 14853 United States;X-APPLE-RADIUS=500;X-TITLE=King-Shaw Hall:geo:-76.480085,42.4469974
END:VEVENT
BEGIN:VEVENT
DTSTART;TZID=America/New_York:20190213T120000
DTEND;TZID=America/New_York:20190213T133000
DTSTAMP:20260420T183845
CREATED:20181206T224803Z
LAST-MODIFIED:20221003T200315Z
UID:10002049-1550059200-1550064600@futurefaculty.cornell.edu
SUMMARY:Interviewing and Negotiation for Academic Positions
DESCRIPTION:An important part of the job search is interviewing and then negotiating the offer. Come learn about the art of interviewing! Presenters: Yael Levitte\, Associate Vice Provost for Faculty Development and Diversity\, and Christine Holmes\, Director of Postdoctoral Studies. \nThis is a brown bag event – bring your own lunch\, and we will provide drinks and dessert. Co-sponsored by the Center for the Integration of Research\, Teaching\, and Learning (CIRTL at Cornell) and the Office of Postdoctoral Studies\, as part of the Academic Job Search Series. RSVPs requested.
URL:https://futurefaculty.cornell.edu/event/interviewing-and-negotiation-for-academic-positions-2/
LOCATION:401 Physical Sciences Building\, 245 East Avenue\, Ithaca\, NY\, 14853\, United States
CATEGORIES:Future Faculty and Academic Careers
ATTACH;FMTTYPE=image/jpeg:https://futurefaculty.cornell.edu/wp-content/uploads/2018/08/36316644_905869322926807_8709859433343090688_o.jpg
GEO:42.449856;-76.4818233
X-APPLE-STRUCTURED-LOCATION;VALUE=URI;X-ADDRESS=401 Physical Sciences Building 245 East Avenue Ithaca NY 14853 United States;X-APPLE-RADIUS=500;X-TITLE=245 East Avenue:geo:-76.4818233,42.449856
END:VEVENT
BEGIN:VEVENT
DTSTART;TZID=America/New_York:20190215T113000
DTEND;TZID=America/New_York:20190215T130000
DTSTAMP:20260420T183845
CREATED:20181117T003317Z
LAST-MODIFIED:20221003T200315Z
UID:10002043-1550230200-1550235600@futurefaculty.cornell.edu
SUMMARY:MAC: Maximizing Your Mentoring – Handling Tricky Situations with Your Mentor
DESCRIPTION:This workshop will explore case studies of common situations students have navigated with their mentors. It will help students navigate and identify recourses and resolutions for managing delicate situations. \nSponsored by the Multicultural Academic Council (MAC) \nLink to register.
URL:https://futurefaculty.cornell.edu/event/mac-maximizing-your-mentoring-handling-tricky-situations-with-your-mentor/
LOCATION:Biotechnology Building\, Room G10\, 526 Campus Road\, Ithaca\, NY\, 14853\, United States
CATEGORIES:Future Faculty and Academic Careers
ATTACH;FMTTYPE=image/jpeg:https://futurefaculty.cornell.edu/wp-content/uploads/2019/01/IMG_0414_mod.jpg
GEO:42.4465542;-76.4783618
X-APPLE-STRUCTURED-LOCATION;VALUE=URI;X-ADDRESS=Biotechnology Building Room G10 526 Campus Road Ithaca NY 14853 United States;X-APPLE-RADIUS=500;X-TITLE=526 Campus Road:geo:-76.4783618,42.4465542
END:VEVENT
BEGIN:VEVENT
DTSTART;TZID=America/New_York:20190218T100000
DTEND;TZID=America/New_York:20190218T110000
DTSTAMP:20260420T183845
CREATED:20190128T200944Z
LAST-MODIFIED:20221003T200313Z
UID:10001752-1550484000-1550487600@futurefaculty.cornell.edu
SUMMARY:Weekly Discussion about CIRTL Online Course
DESCRIPTION:This is a local discussion group meeting for the online course Advancing Learning through Evidence-Based STEM Teaching offered through EdX by the CIRTL Network and starting February 4\, 2019. We will meet in person to discuss the prior week’s online content. \nAdvancing Learning through Evidence-Based STEM Teaching prepares science\, technology\, engineering\, and mathematics (STEM) instructors to develop and implement teaching practices that advance the learning experiences and outcomes of both students and teachers. Participants will learn about effective teaching strategies and the research that supports them\, including active learning and flipped classroom approaches. \nThis eight-week course draws on the expertise of STEM faculty\, educational researchers\, and staff from university teaching centers\, many of them affiliated with the Center for the Integration of Research\, Teaching\, and Learning (CIRTL)\, a network of 40 research universities collaborating in the preparation of STEM graduate students and postdocs as future faculty members. There are opportunities for peer-to-peer learning\, both online and within Cornell\, as we also offer local discussion groups around the course content (contact Colleen McLinn at cirtl@cornell.edu for information). \nThis course will be offered via EdX from February 4\, 2019 – March 29\, 2019. Learn more at: https://futurefaculty.cornell.edu/courses/massive-open-online-courses/
URL:https://futurefaculty.cornell.edu/event/weekly-discussion-about-cirtl-online-course-2/
LOCATION:341 Caldwell Hall\, 121 Reservoir Avenue\, Ithaca\, NY\, 14853\, United States
CATEGORIES:Future Faculty and Academic Careers
ATTACH;FMTTYPE=image/png:https://futurefaculty.cornell.edu/wp-content/uploads/2019/01/MOOC-2-Images-Module-3-copy.png
ORGANIZER;CN="CIRTL at Cornell":MAILTO:cirtl@cornell.edu
GEO:42.4492103;-76.4782721
X-APPLE-STRUCTURED-LOCATION;VALUE=URI;X-ADDRESS=341 Caldwell Hall 121 Reservoir Avenue Ithaca NY 14853 United States;X-APPLE-RADIUS=500;X-TITLE=121 Reservoir Avenue:geo:-76.4782721,42.4492103
END:VEVENT
BEGIN:VEVENT
DTSTART;TZID=America/New_York:20190219T120000
DTEND;TZID=America/New_York:20190219T120000
DTSTAMP:20260420T183845
CREATED:20190118T182600Z
LAST-MODIFIED:20221003T200314Z
UID:10002059-1550577600-1550577600@futurefaculty.cornell.edu
SUMMARY:Building Mentoring Skills for an Academic Career
DESCRIPTION:In this series of lunchtime workshops for graduate students and postdocs offered by CIRTL at Cornell\, you will develop essential research mentoring skills\, particularly in disciplines where research is conducted collaboratively in a laboratory or field setting. Effective mentoring of students is a key skill influencing everything from research productivity to personal satisfaction. Learn best practices for mentoring undergraduate\, graduate\, and postdoctoral researchers\, and develop planning and communication skills needed to lead a research team. \nAll sessions will be practical in nature and feature short pre-readings or videos\, case studies or discussion with panelists\, and self-assessments to help identify your strengths and desired areas for improvement. \nInterested participants should apply prior to the start of the series with the expectation of attending all workshops. Program completion certificates will be provided for fully participating in at least 4 of 5 sessions. \nAll sessions are on Tuesdays from 12:00-2:00 pm and include catered lunch. Registered participants will receive location details for each session. \nSchedule of Topics for Spring 2019\nFebruary 5\, 2019 – What Makes a Good Mentor and Mentee? Exploring Learning\, Motivation\, and Values\nUnderstand key principles of learning and theories of motivation that can help you build a strong research group\, and even learn more about yourself and values you wish to communicate to mentees. \nFebruary 19\, 2019 – Aligning Expectations and Guiding Doable Projects\nHow do you design a doable project with a defined timespan for a relative novice in your discipline? Learn how to set expectations for mentor and mentee to make sure the project and relationship stay on track. \nMarch 5\, 2019 – Creating Inclusive Research Settings\nCreate and sustain a research group and academic climate in which each individual feels safe and supported. We will discuss how to create a welcoming environment for groups typically underrepresented in higher education\, while reflecting on our own identities and experiences and how they may be strengths or blind spots in our mentoring. \nMarch 19\, 2019 – Handling Tricky Mentoring Situations\nLearn how to address some of the trickiest situations you might encounter when mentoring undergraduate researchers or graduate students\, from modeling appropriate research ethics to sharing co-advised students. We will also discuss how you might solicit feedback and turn around projects that aren’t going as planned (from the mentor’s perspective). \nApril 9\, 2019 – Supporting Mentees’ Professional Development: Helping them Present and Publish\, and Writing Fair Letters of Recommendation\nRevisit some key ideas about effective communication to introduce your students to writing about and presenting their work. Learn how to write a fair letter of recommendation\, and what not to say. \nQuestions? \nContact Colleen McLinn\, CIRTL at Cornell Director\, cirtl@cornell.edu or 607-255-2030. \nSponsored by the Center for the Integration of Research\, Teaching\, and Learning (CIRTL at Cornell)
URL:https://futurefaculty.cornell.edu/event/building-mentoring-skills-for-an-academic-career-2/
LOCATION:ILR Conference Center\, King-Shaw Hall\, Ithaca\, NY\, 14853\, United States
CATEGORIES:Future Faculty and Academic Careers
ATTACH;FMTTYPE=image/jpeg:https://futurefaculty.cornell.edu/wp-content/uploads/2019/01/2015_0115_006_select.jpg
ORGANIZER;CN="CIRTL at Cornell":MAILTO:cirtl@cornell.edu
GEO:42.4469974;-76.480085
X-APPLE-STRUCTURED-LOCATION;VALUE=URI;X-ADDRESS=ILR Conference Center King-Shaw Hall Ithaca NY 14853 United States;X-APPLE-RADIUS=500;X-TITLE=King-Shaw Hall:geo:-76.480085,42.4469974
END:VEVENT
BEGIN:VEVENT
DTSTART;TZID=America/New_York:20190219T160000
DTEND;TZID=America/New_York:20190219T173000
DTSTAMP:20260420T183845
CREATED:20190118T182600Z
LAST-MODIFIED:20221003T200314Z
UID:10001735-1550592000-1550597400@futurefaculty.cornell.edu
SUMMARY:NextGen Professors: February Cohort Meeting
DESCRIPTION:This is an invitation-only event for applicants who have been select to participate in this year’s NextGen Professors Cohort. \nNextGen Professors is a career-development program focused on preparing Cornell doctoral students and postdocs for faculty careers across institutional types. The primary audience for this program is doctoral students (in year 3 or beyond) and postdocs from backgrounds historically underrepresented in the professoriate\, and/or those with a demonstrated commitment to advancing diversity\, inclusion\, access and equity in the academy. Participants are members of a cohort who together engage in series of professional and career development activities including monthly NextGen Professors cohort meetings\, Power Mentoring Sessions with faculty\, and the Future Professors Institute. Participants also engage in program offerings of CIRTL at Cornell\, which focus on evidence-based practice of teaching\, inclusive teaching and learning\, and effective mentoring practices. \nFebruary Meeting Topic: Understanding the Socialization of First-Year Faculty \nLocation: 250 Caldwell Hall
URL:https://futurefaculty.cornell.edu/event/nextgen-professors-february-cohort-meeting/
LOCATION:Caldwell Hall\, 121 Reservoir Ave\, Ithaca\, NY\, 14853\, United States
CATEGORIES:Future Faculty and Academic Careers
ATTACH;FMTTYPE=image/jpeg:https://futurefaculty.cornell.edu/wp-content/uploads/2019/01/IMG_1044_select.jpeg
GEO:42.4492103;-76.4782721
X-APPLE-STRUCTURED-LOCATION;VALUE=URI;X-ADDRESS=Caldwell Hall 121 Reservoir Ave Ithaca NY 14853 United States;X-APPLE-RADIUS=500;X-TITLE=121 Reservoir Ave:geo:-76.4782721,42.4492103
END:VEVENT
BEGIN:VEVENT
DTSTART;TZID=America/New_York:20190220T113000
DTEND;TZID=America/New_York:20190220T133000
DTSTAMP:20260420T183845
CREATED:20190118T182605Z
LAST-MODIFIED:20221003T200314Z
UID:10001737-1550662200-1550669400@futurefaculty.cornell.edu
SUMMARY:My Voice\, My Story: Understanding the Untold Lived Experiences of Graduate & Professional Students
DESCRIPTION:The Graduate School Office of Inclusion & Student Engagement and CIRTL at Cornell invite faculty and academic staff to join us for a My Voice\, My Story session on Wednesday\, February 20 from 11:30am-1:30pm (lunch served at 11:15am) in 423 ILR Conference Center. Please confirm your participation by completing our registration form at https://cornell.qualtrics.com/jfe/form/SV_2gj3MeQWLGLHH01. \nAbout My Voice\, My Story \nMy Voice\, My Story sessions pair video monologues constructed from real experiences of graduate students with facilitated discussions. The primary objectives of My Voice\, My Story are to utilize the power of narratives to achieve greater understanding of the stories on the lived of experiences of graduate and professional students that frequently go untold\, and to develop and share strategies on how to create more inclusive and supportive research and learning environments. \nListening to the stories of the characters portrayed in the My Voice\, My Story monologues provides participants with opportunities for learning through: \n\nListening for understanding\, especially when we think we are different from one another\nDeveloping awareness and understanding of experiences of exclusion and inclusion in the learning and research environment\nEstablishing respect for our mutual similarities and differences\nExperiencing empathy for and identification with all of the characters portrayed in the video monologues  \nSeeing the commonality of our human experience that flows underneath all the stories\nRecognizing instances of unconscious bias\nContributing to the development of strategies on how one can contribute to improving the organizational climate for all its members
URL:https://futurefaculty.cornell.edu/event/my-voice-my-story-understanding-the-untold-lived-experiences-of-graduate-professional-students-2/
LOCATION:ILR Conference Center\, King-Shaw Hall\, Ithaca\, NY\, 14853\, United States
CATEGORIES:Future Faculty and Academic Careers
ATTACH;FMTTYPE=image/png:https://futurefaculty.cornell.edu/wp-content/uploads/2018/12/MVMS-with-text-e1544043691771.png
GEO:42.4469974;-76.480085
X-APPLE-STRUCTURED-LOCATION;VALUE=URI;X-ADDRESS=ILR Conference Center King-Shaw Hall Ithaca NY 14853 United States;X-APPLE-RADIUS=500;X-TITLE=King-Shaw Hall:geo:-76.480085,42.4469974
END:VEVENT
BEGIN:VEVENT
DTSTART;TZID=America/New_York:20190222T120000
DTEND;TZID=America/New_York:20190222T133000
DTSTAMP:20260420T183845
CREATED:20181206T224802Z
LAST-MODIFIED:20221003T200315Z
UID:10002048-1550836800-1550842200@futurefaculty.cornell.edu
SUMMARY:Job Search Discussion
DESCRIPTION:Are you a postdoc or graduate student going on the academic job market? Come join a monthly lunch discussion with others in the same boat\, facilitated by the Office of Postdoctoral Studies and CIRTL at Cornell. We’re gathering a community of peers to help find advice\, support\, and feedback. Lunch served! RSVP required. Location: 102 Mann Library \nPart of the Academic Job Search Series sponsored by CIRTL at Cornell and the Office of Postdoctoral Studies.
URL:https://futurefaculty.cornell.edu/event/job-search-discussion-4/
LOCATION:Mann Library\, 237 Mann Drive\, Ithaca\, NY\, 14853\, United States
CATEGORIES:Future Faculty and Academic Careers
ATTACH;FMTTYPE=image/jpeg:https://futurefaculty.cornell.edu/wp-content/uploads/2018/08/IMG_9868-1000x400-2.jpg
GEO:42.4487952;-76.476316
X-APPLE-STRUCTURED-LOCATION;VALUE=URI;X-ADDRESS=Mann Library 237 Mann Drive Ithaca NY 14853 United States;X-APPLE-RADIUS=500;X-TITLE=237 Mann Drive:geo:-76.476316,42.4487952
END:VEVENT
BEGIN:VEVENT
DTSTART;TZID=America/New_York:20190225T100000
DTEND;TZID=America/New_York:20190225T110000
DTSTAMP:20260420T183845
CREATED:20190128T200945Z
LAST-MODIFIED:20221003T200313Z
UID:10002061-1551088800-1551092400@futurefaculty.cornell.edu
SUMMARY:Weekly Discussion about CIRTL Online Course
DESCRIPTION:This is a local discussion group meeting for the online course Advancing Learning through Evidence-Based STEM Teaching offered through EdX by the CIRTL Network and starting February 4\, 2019. We will meet in person to discuss the prior week’s online content. \nAdvancing Learning through Evidence-Based STEM Teaching prepares science\, technology\, engineering\, and mathematics (STEM) instructors to develop and implement teaching practices that advance the learning experiences and outcomes of both students and teachers. Participants will learn about effective teaching strategies and the research that supports them\, including active learning and flipped classroom approaches. \nThis eight-week course draws on the expertise of STEM faculty\, educational researchers\, and staff from university teaching centers\, many of them affiliated with the Center for the Integration of Research\, Teaching\, and Learning (CIRTL)\, a network of 40 research universities collaborating in the preparation of STEM graduate students and postdocs as future faculty members. There are opportunities for peer-to-peer learning\, both online and within Cornell\, as we also offer local discussion groups around the course content (contact Colleen McLinn at cirtl@cornell.edu for information). \nThis course will be offered via EdX from February 4\, 2019 – March 29\, 2019. Learn more at: https://futurefaculty.cornell.edu/courses/massive-open-online-courses/
URL:https://futurefaculty.cornell.edu/event/weekly-discussion-about-cirtl-online-course-3/
LOCATION:341 Caldwell Hall\, 121 Reservoir Avenue\, Ithaca\, NY\, 14853\, United States
CATEGORIES:Future Faculty and Academic Careers
ATTACH;FMTTYPE=image/png:https://futurefaculty.cornell.edu/wp-content/uploads/2019/01/MOOC-2-Images-Module-3-copy.png
ORGANIZER;CN="CIRTL at Cornell":MAILTO:cirtl@cornell.edu
GEO:42.4492103;-76.4782721
X-APPLE-STRUCTURED-LOCATION;VALUE=URI;X-ADDRESS=341 Caldwell Hall 121 Reservoir Avenue Ithaca NY 14853 United States;X-APPLE-RADIUS=500;X-TITLE=121 Reservoir Avenue:geo:-76.4782721,42.4492103
END:VEVENT
BEGIN:VEVENT
DTSTART;TZID=America/New_York:20190226T084500
DTEND;TZID=America/New_York:20190226T190000
DTSTAMP:20260420T183845
CREATED:20190118T182549Z
LAST-MODIFIED:20221003T200315Z
UID:10002052-1551170700-1551207600@futurefaculty.cornell.edu
SUMMARY:2019 Winter Pathways to Success Symposium
DESCRIPTION:Pathways to Success (P2S) is the Graduate School’s framework for helping graduate and professional students and postdoctoral scholars be successful in their research and scholarship\, and establish the necessary skills for their future careers. \nThe Winter and Summer P2S Symposia are one-day professional development and career exploration opportunities for graduate students and postdoctoral scholars. These events provide participants with information and tools useful for their time at Cornell and beyond. \nSponsored by the Graduate School\, English Language Support Office (ELSO)\, Career Services\, and Office of Postdoctoral Studies.
URL:https://futurefaculty.cornell.edu/event/2019-february-pathways-to-success-symposium/
LOCATION:Biotechnology Building\, 526 Campus Road\, Ithaca\, NY\, 14853\, United States
CATEGORIES:Future Faculty and Academic Careers
ATTACH;FMTTYPE=image/png:https://futurefaculty.cornell.edu/wp-content/uploads/2019/01/P2S_Title.png
GEO:42.4465542;-76.4783618
X-APPLE-STRUCTURED-LOCATION;VALUE=URI;X-ADDRESS=Biotechnology Building 526 Campus Road Ithaca NY 14853 United States;X-APPLE-RADIUS=500;X-TITLE=526 Campus Road:geo:-76.4783618,42.4465542
END:VEVENT
END:VCALENDAR