BEGIN:VCALENDAR
VERSION:2.0
PRODID:-//Future Faculty and Academic Careers - ECPv6.15.20//NONSGML v1.0//EN
CALSCALE:GREGORIAN
METHOD:PUBLISH
X-WR-CALNAME:Future Faculty and Academic Careers
X-ORIGINAL-URL:https://futurefaculty.cornell.edu
X-WR-CALDESC:Events for Future Faculty and Academic Careers
REFRESH-INTERVAL;VALUE=DURATION:PT1H
X-Robots-Tag:noindex
X-PUBLISHED-TTL:PT1H
BEGIN:VTIMEZONE
TZID:America/New_York
BEGIN:DAYLIGHT
TZOFFSETFROM:-0500
TZOFFSETTO:-0400
TZNAME:EDT
DTSTART:20190310T070000
END:DAYLIGHT
BEGIN:STANDARD
TZOFFSETFROM:-0400
TZOFFSETTO:-0500
TZNAME:EST
DTSTART:20191103T060000
END:STANDARD
BEGIN:DAYLIGHT
TZOFFSETFROM:-0500
TZOFFSETTO:-0400
TZNAME:EDT
DTSTART:20200308T070000
END:DAYLIGHT
BEGIN:STANDARD
TZOFFSETFROM:-0400
TZOFFSETTO:-0500
TZNAME:EST
DTSTART:20201101T060000
END:STANDARD
BEGIN:DAYLIGHT
TZOFFSETFROM:-0500
TZOFFSETTO:-0400
TZNAME:EDT
DTSTART:20210314T070000
END:DAYLIGHT
BEGIN:STANDARD
TZOFFSETFROM:-0400
TZOFFSETTO:-0500
TZNAME:EST
DTSTART:20211107T060000
END:STANDARD
END:VTIMEZONE
BEGIN:VEVENT
DTSTART;TZID=America/New_York:20200504T160000
DTEND;TZID=America/New_York:20200504T173000
DTSTAMP:20260421T175114
CREATED:20200204T184556Z
LAST-MODIFIED:20221003T200309Z
UID:10001810-1588608000-1588613400@futurefaculty.cornell.edu
SUMMARY:NextGen Professors: May Cohort Meeting
DESCRIPTION:This is invitation-only event for applicants who have been selected to participate in this year’s NextGen Professors cohort and a limited number of additional registrants \nNextGen Professors is a career-development program focused on preparing Cornell doctoral students and postdocs for faculty careers across institutional types. The primary audience for this program is doctoral students (in year 3 or beyond) and postdocs from backgrounds historically underrepresented in the professoriate\, and/or those with a demonstrated commitment to advancing diversity\, inclusion\, access and equity in the academy. Participants are members of a cohort who together engage in series of professional and career development activities including monthly NextGen Professors cohort meetings\, Power Mentoring Sessions with faculty\, and the Future Professors Institute. Participants also engage in the future faculty development program offerings of CIRTL at Cornell. \nMay Meeting Topic: Special Power Mentoring Session with Current Faculty \nLocation: Meets remotely by Zoom (link will be sent to registrants by email) \nWe strive to make our events accessible to all community members. Individuals who would like to request accessibility accommodations should contact cirtl@cornell.edu. We ask that requests be made at least one week in advance of an event to help ensure they can be met.
URL:https://futurefaculty.cornell.edu/event/nextgen-professors-may-cohort-meeting-2/
LOCATION:Zoom
CATEGORIES:Future Faculty and Academic Careers
ATTACH;FMTTYPE=image/jpeg:https://futurefaculty.cornell.edu/wp-content/uploads/2020/04/IMG_1375-scaled-0GTwsW.tmp_.jpg
END:VEVENT
BEGIN:VEVENT
DTSTART;TZID=America/New_York:20200505T100000
DTEND;TZID=America/New_York:20200505T110000
DTSTAMP:20260421T175114
CREATED:20200410T175247Z
LAST-MODIFIED:20221010T224603Z
UID:10002163-1588672800-1588676400@futurefaculty.cornell.edu
SUMMARY:Job Search Virtual Discussion Group
DESCRIPTION:Let’s face it\, finding a job can be a difficult process that is often full of stress.  Add that we are in the midst of a pandemic with many uncertainties\, and you may be experiencing even greater stress and worry.  The Job Search Virtual Discussion Group is designed to get job searchers together to talk about concerns that graduate students and postdocs share\, and strategize about how to move forward. \nEach session will begin with a brief introduction that includes tips\, perspectives\, and thoughts from staff who support career exploration.  After this information is shared\, participants will be assigned small-groups to be able to continue the facilitated discussion.  Come to any or all sessions.  Representatives of other offices such as Careers Beyond Academia and CIRTL at Cornell future faculty and academic careers program may also be present. \nFacilitators:  Christine Holmes\, Postdoctoral Studies Director\, Caleb Yu\, Graduate and International Student Career Advisor\, and Janna Lamey\, Assistant Dean for Graduate Student Life. \nRegister to receive the meeting link. \nAccommodations:  We strive to make our events accessible to all community members.  Individuals who would like to request accessibility accommodations should contact al546@cornell.edu.  We ask that requests be made at least one week in advance to help ensure they can be met.
URL:https://futurefaculty.cornell.edu/event/job-search-virtual-discussion-group-3/
LOCATION:Zoom
CATEGORIES:Careers Beyond Academia,Future Faculty and Academic Careers
ATTACH;FMTTYPE=image/png:https://futurefaculty.cornell.edu/wp-content/uploads/2020/05/Screen-Shot-2020-05-01-at-12.00.46-PM-copy-1-e8S1iy.tmp_.png
END:VEVENT
BEGIN:VEVENT
DTSTART;TZID=America/New_York:20200507T150000
DTEND;TZID=America/New_York:20200507T163000
DTSTAMP:20260421T175114
CREATED:20200328T174038Z
LAST-MODIFIED:20221003T200305Z
UID:10002160-1588863600-1588869000@futurefaculty.cornell.edu
SUMMARY:Getting a Faculty Position: Lessons Learned During the Academic Job Search
DESCRIPTION:Join us for a live online panel discussion featuring postdoctoral scholars and graduate students who were offered faculty positions this year! Bring your questions about the process and hear from the recent experiences of other Cornellians. \nMeets online via zoom – a link will be shared by email to participants. \nRegister to attend \nCo-sponsored by the Center for the Integration of Research\, Teaching\, and Learning (CIRTL at Cornell) and the Office of Postdoctoral Studies\, as part of the Graduate School’s Academic Job Search Series. \nAccommodations: We strive to make our events accessible to all community members. Individuals who would like to request accessibility accommodations should contact cirtl@cornell.edu. We ask that requests be made at least one week in advance to help ensure they can be met.
URL:https://futurefaculty.cornell.edu/event/getting-a-faculty-position-lessons-learned-during-the-academic-job-search-2/
LOCATION:Zoom
CATEGORIES:Future Faculty and Academic Careers
ATTACH;FMTTYPE=image/jpeg:https://futurefaculty.cornell.edu/wp-content/uploads/2020/03/UP_2018_0200_022-copy-e1532724122136-scaled-1.jpg
ORGANIZER;CN="CIRTL at Cornell":MAILTO:cirtl@cornell.edu
END:VEVENT
BEGIN:VEVENT
DTSTART;TZID=America/New_York:20200514T140000
DTEND;TZID=America/New_York:20200514T150000
DTSTAMP:20260421T175114
CREATED:20200503T230510Z
LAST-MODIFIED:20221003T200305Z
UID:10002164-1589464800-1589468400@futurefaculty.cornell.edu
SUMMARY:NCFDD: Every Summer Needs a Plan
DESCRIPTION:Do you often start the summer with high hopes for your writing projects\, but end disappointed by your actual productivity?\nDo you desperately want (or need) to write a lot this summer?\nDo you want to figure out how to be more productive AND enjoy your life this summer?\n\nJoin us for a hands-on planning webinar! We offer our planning webinar at the beginning of each term so that you can take time out of your schedule to identify your personal and professional goals for the summer\, create a strategic plan to accomplish them\, and identify the types of community\, support\, and accountability you need to make this your most productive and balanced summer ever! Get ready to create a work-plan for your summer that you can immediately share with your mentors. \n\nFree Individual Memberships for the National Center for Faculty Development & Diversity (NCFDD)\nAvailable to all Cornell students\, postdocs\, faculty\, and staff \n \nCornell is an institutional member of the National Center for Faculty Development & Diversity (NCFDD)\, a nationally recognized\, independent organization providing online career development and mentoring resources. The NCFDD provides members with access to tools to increase research and writing productivity and improve work-life balance. \nActivate your account by following the steps below: \n\nGo to the NCFDD website\nUnder “Select Your Institution\,” choose “Cornell University”\nSelect “Activate my Membership”\nComplete the registration form using your Cornell email address\nCheck your Cornell email account to find a confirmation/welcome email. Click “Activate Account” in the email
URL:https://futurefaculty.cornell.edu/event/ncfdd-every-summer-needs-a-plan/
LOCATION:Webinar
CATEGORIES:Future Faculty and Academic Careers
ATTACH;FMTTYPE=image/jpeg:https://futurefaculty.cornell.edu/wp-content/uploads/2020/02/ncfdd_200x.jpg
END:VEVENT
BEGIN:VEVENT
DTSTART;TZID=America/New_York:20200520T113000
DTEND;TZID=America/New_York:20200520T123000
DTSTAMP:20260421T175114
CREATED:20200512T193043Z
LAST-MODIFIED:20221010T224603Z
UID:10002166-1589974200-1589977800@futurefaculty.cornell.edu
SUMMARY:International Student / Postdoc Job Search Discussion
DESCRIPTION:Let’s face it\, finding a job can be a difficult process that is often full of stress. Add that we are in the midst of a pandemic with many uncertainties\, and you may be experiencing even greater stress and worry. Not to mention all the immigration related questions (visa status\, OPT\, CPT\, etc.) regarding your job search as an international student or postdoc.\n \nDuring the International Student/Postdoc Job Search Discussion Group\, we have created an opportunity for you to join us and learn about the resources you have to draw upon to help you through this journey. In addition\, we want to hear from you and what questions you have.\n \nCome join our group of experts to see what strategies and recommendations they have\, along with hearing questions from your peers.\n \nOur experts in careers and/or immigration include: \n\nChristine Holmes\, Director of Postdoctoral Studies\nCaleb Yu\, Graduate and International Student Career Advisor\nDenise DiRienzo\, Experiential Program Director for Careers Beyond Academia\nElizabeth Shedd\, Senior Immigration Advisor\, Office of Global Learning\nSusi Varvayanis\, Executive Director of Careers Beyond Academia\n\nAccommodations: Individuals who would like to request accessibility accommodations should contact ry274@cornell.edu\n \nMeets by Zoom (link to be sent when registered) – Register
URL:https://futurefaculty.cornell.edu/event/international-student-postdoc-job-search-discussion/
LOCATION:Zoom
CATEGORIES:Careers Beyond Academia,Future Faculty and Academic Careers
ATTACH;FMTTYPE=image/jpeg:https://futurefaculty.cornell.edu/wp-content/uploads/2020/05/0410_globe_TND-87jKzD.tmp_.jpg
END:VEVENT
BEGIN:VEVENT
DTSTART;TZID=America/New_York:20200529T093000
DTEND;TZID=America/New_York:20200529T133000
DTSTAMP:20260421T175114
CREATED:20200208T191019Z
LAST-MODIFIED:20221003T200309Z
UID:10002148-1590744600-1590759000@futurefaculty.cornell.edu
SUMMARY:Online Mini-Symposium on Connecting Research and Teaching
DESCRIPTION:This annual one-day conference highlights and supports the research of graduate students and postdocs\, faculty and staff into effective teaching and learning practices\, and the ways this work shapes professional and career development. Events will include an invited keynote presentation by a Cornell alumnus\, 8 research talks by graduate students and postdocs about teaching projects they have recently completed\, and opportunities for interactive discussion on how to use research skills to inform and improve teaching and professional development for early career scholars. \nCornell faculty\, staff\, graduate students and postdocs\, and those from interested other CIRTL Network institutions are encouraged to register to receive the Zoom link to attend as many sessions as they are able. \nThe 2020 event will be held online as a digital conference\, with speaker and break times throughout the 9:30-1:30 time block available on the conference web page. \nLearn more about the Connecting Research and Teaching Conference \nAccessibility: We strive to make our events accessible to all community members. Individuals who would like to request accessibility accommodations should contact futurefaculty@cornell.edu. We ask that requests be made at least one week in advance of an event to help ensure they can be met.
URL:https://futurefaculty.cornell.edu/event/connecting-research-and-teaching-conference-2/
LOCATION:Online
CATEGORIES:Future Faculty and Academic Careers
ATTACH;FMTTYPE=image/jpeg:https://futurefaculty.cornell.edu/wp-content/uploads/2020/02/CIRTL-20190519-Connecting-Research-and-Teaching-Conference-042_select.jpg
END:VEVENT
END:VCALENDAR