BEGIN:VCALENDAR
VERSION:2.0
PRODID:-//Future Faculty and Academic Careers - ECPv6.15.17.1//NONSGML v1.0//EN
CALSCALE:GREGORIAN
METHOD:PUBLISH
X-ORIGINAL-URL:https://futurefaculty.cornell.edu
X-WR-CALDESC:Events for Future Faculty and Academic Careers
REFRESH-INTERVAL;VALUE=DURATION:PT1H
X-Robots-Tag:noindex
X-PUBLISHED-TTL:PT1H
BEGIN:VTIMEZONE
TZID:America/New_York
BEGIN:DAYLIGHT
TZOFFSETFROM:-0500
TZOFFSETTO:-0400
TZNAME:EDT
DTSTART:20190310T070000
END:DAYLIGHT
BEGIN:STANDARD
TZOFFSETFROM:-0400
TZOFFSETTO:-0500
TZNAME:EST
DTSTART:20191103T060000
END:STANDARD
BEGIN:DAYLIGHT
TZOFFSETFROM:-0500
TZOFFSETTO:-0400
TZNAME:EDT
DTSTART:20200308T070000
END:DAYLIGHT
BEGIN:STANDARD
TZOFFSETFROM:-0400
TZOFFSETTO:-0500
TZNAME:EST
DTSTART:20201101T060000
END:STANDARD
BEGIN:DAYLIGHT
TZOFFSETFROM:-0500
TZOFFSETTO:-0400
TZNAME:EDT
DTSTART:20210314T070000
END:DAYLIGHT
BEGIN:STANDARD
TZOFFSETFROM:-0400
TZOFFSETTO:-0500
TZNAME:EST
DTSTART:20211107T060000
END:STANDARD
END:VTIMEZONE
BEGIN:VEVENT
DTSTART;TZID=America/New_York:20200708T123000
DTEND;TZID=America/New_York:20200708T133000
DTSTAMP:20260421T144253
CREATED:20200625T222523Z
LAST-MODIFIED:20221003T200302Z
UID:10002190-1594211400-1594215000@futurefaculty.cornell.edu
SUMMARY:Designing Your Research Statement Around Undergraduate Research
DESCRIPTION:Through an interactive online discussion\,  presenter Jeffrey Werner (Associate Professor of Chemistry at SUNY Cortland) will help job-seekers interested in seeking faculty positions at four-year colleges and universities (e.g.\, primarily undergraduate institutions or PUIs) outline a research statement that highlights plans to mentor undergraduate students in research. \nPre-registration is required in order to receive the link to participate via Zoom. \nCo-sponsored by the Office of Postdoctoral Studies and Future Faculty and Academic Careers\, as part of the Graduate School’s Academic Job Search Series. \nAccommodations: We strive to make our events accessible to all community members. Individuals who would like to request accessibility accommodations should contact  futurefaculty@cornell.edu. We ask that requests be made at least one week in advance to help ensure they can be met.
URL:https://futurefaculty.cornell.edu/event/designing-your-research-statement-around-undergraduate-research-2/
LOCATION:Zoom
CATEGORIES:Future Faculty and Academic Careers
ATTACH;FMTTYPE=image/jpeg:https://futurefaculty.cornell.edu/wp-content/uploads/2019/07/IMG_3327.jpg
ORGANIZER;CN="Future Faculty and Academic Careers":MAILTO:futurefaculty@cornell.edu
END:VEVENT
BEGIN:VEVENT
DTSTART;TZID=America/New_York:20200709T120000
DTEND;TZID=America/New_York:20200709T130000
DTSTAMP:20260421T144253
CREATED:20200611T213719Z
LAST-MODIFIED:20221003T200303Z
UID:10002176-1594296000-1594299600@futurefaculty.cornell.edu
SUMMARY:Beyond the Professoriate: Building Professional Relationships Online
DESCRIPTION:If you’ve been with Beyond Prof for a while\, you know that we often talk about how critical networking is to a post-academic job search. But given social distancing and our uncertain times\, how do you build a professional network from home? Join Beyond the Professoriate founder L. Maren Wood\, PhD in this webinar for a discussion on how to build professional relationships online\, grow your network\, and build a foundation for a post-academic job search.
URL:https://futurefaculty.cornell.edu/event/beyond-the-professoriate-building-professional-relationships-online/
LOCATION:Webinar
CATEGORIES:Future Faculty and Academic Careers
END:VEVENT
BEGIN:VEVENT
DTSTART;TZID=America/New_York:20200709T140000
DTEND;TZID=America/New_York:20200709T153000
DTSTAMP:20260421T144253
CREATED:20200611T214349Z
LAST-MODIFIED:20221003T200303Z
UID:10002178-1594303200-1594308600@futurefaculty.cornell.edu
SUMMARY:NCFDD: The Art of Saying No
DESCRIPTION:Are you confused about when to say “yes” and “no” to other people’s requests?\nDo you often say “yes” to requests without realizing the impact that response will have on your time and productivity?\nDo you find yourself feeling angry and resentful during the academic year because you’ve said “yes” too often?\n\nYou’re not alone! Many faculty (pre and post-tenure) find it incredibly difficult to sort out when\, why and how to say “NO.” \nIn this webinar\, you will learn: \n\nThe biggest mistakes faculty make in responding to requests\nHow to identify and disrupt problematic patterns\nOur favorite strategies that you can implement immediately so you can add “no” to your vocabulary\n\nFree Individual Memberships for the National Center for Faculty Development & Diversity (NCFDD)\nAvailable to all Cornell students\, postdocs\, faculty\, and staff \n \nCornell is an institutional member of the National Center for Faculty Development & Diversity (NCFDD)\, a nationally recognized\, independent organization providing online career development and mentoring resources. The NCFDD provides members with access to tools to increase research and writing productivity and improve work-life balance. \nActivate your account by following the steps below: \n\nGo to the NCFDD website\nUnder “Select Your Institution\,” choose “Cornell University”\nSelect “Activate my Membership”\nComplete the registration form using your Cornell email address\nCheck your Cornell email account to find a confirmation/welcome email. Click “Activate Account” in the email
URL:https://futurefaculty.cornell.edu/event/ncfdd-the-art-of-saying-no/
LOCATION:Webinar
CATEGORIES:Future Faculty and Academic Careers
ATTACH;FMTTYPE=image/jpeg:https://futurefaculty.cornell.edu/wp-content/uploads/2020/02/ncfdd_200x.jpg
END:VEVENT
BEGIN:VEVENT
DTSTART;TZID=America/New_York:20200713T110000
DTEND;TZID=America/New_York:20200713T120000
DTSTAMP:20260421T144253
CREATED:20200701T230044Z
LAST-MODIFIED:20221010T224602Z
UID:10001821-1594638000-1594641600@futurefaculty.cornell.edu
SUMMARY:International Student / Postdoc Job Search Discussion
DESCRIPTION:It’s been three months since we started working from home\, and the job market/outlook also has been changing. The International Student/Postdoc Job Search Virtual Monthly Chat is designed to get international students/postdocs who are seeking for jobs together to talk about concerns that all share\, and strategize about how to move forward.\n \nDuring this session\, we will have a brief introduction of all the career and immigration staff presented and hear tips from them regarding job search and immigration. After this information is shared\, it will open up for all participants to ask questions and have a facilitated discussion. Representatives from Future Faculty and Academic Careers will also be present to share their knowledge for people who would like to explore career in academia. \n \nDuring the International Student/Postdoc Job Search Discussion Group\, we have created an opportunity for you to join us and learn about the resources you have to draw upon to help you through this journey. In addition\, we want to hear from you and what questions you have.\n \nCome join our group of experts to see what strategies and recommendations they have\, along with hearing questions from your peers.\n \nOur experts in careers and/or immigration include: \n\nChristine Holmes\, Director of Postdoctoral Studies\nCaleb Yu\, Graduate and International Student Career Advisor\nDenise DiRienzo\, Experiential Program Director for Careers Beyond Academia\nMagee Barney\, Immigration Specialist\, Office of Global Learning\nSusi Varvayanis\, Executive Director of Careers Beyond Academia\n\nAccommodations: We strive to make our events accessible to all community members.  Individuals who would like to request accessibility accommodations should contact ry274@cornell.edu.  We ask that requests be made at least four days in advance to help ensure they can be met.\n \nMeets by Zoom (link to be sent when registered)
URL:https://futurefaculty.cornell.edu/event/international-student-postdoc-job-search-discussion-3/
LOCATION:Zoom
CATEGORIES:Careers Beyond Academia,Future Faculty and Academic Careers
ATTACH;FMTTYPE=image/jpeg:https://futurefaculty.cornell.edu/wp-content/uploads/2020/05/0410_globe_TND-87jKzD.tmp_.jpg
END:VEVENT
BEGIN:VEVENT
DTSTART;TZID=America/New_York:20200715T123000
DTEND;TZID=America/New_York:20200715T133000
DTSTAMP:20260421T144253
CREATED:20200701T230045Z
LAST-MODIFIED:20221003T200302Z
UID:10001823-1594816200-1594819800@futurefaculty.cornell.edu
SUMMARY:Research Statements for Research-Intensive Universities: A Panel Discussion
DESCRIPTION:This session features a panel of three early career researchers who recently successfully obtained tenure-track faculty positions\, talking about how they approached writing a successful research statement for a research-intensive (or R1) university job application. Through questions and discussion\, learn how to craft a focused and compelling research plan that will describe your areas of focus\, past contributions\, and plans for future work directions up to tenure. As time allows\, we will also touch on describing your research in interviews as well as application materials. \nPanelists: \n\nDr. Natasha Raheja\, Postdoctoral Associate and incoming Assistant Professor of Anthropology\, Cornell University\nDr. Terrence Bell\, Assistant Professor of Plant Pathology and Environmental Microbiology\, Penn State\nDr. Ana Maria Porras\, Presidential Postdoctoral Fellow\, Cornell University (and incoming Assistant Professor of Biomedical Engineering at University of Florida)\n\nPre-registration is required in order to receive the link to participate via Zoom. \nCo-sponsored by the Office of Postdoctoral Studies and Future Faculty and Academic Careers\, as part of the Graduate School’s Academic Job Search Series. \nAccommodations: We strive to make our events accessible to all community members. Individuals who would like to request accessibility accommodations should contact futurefaculty@cornell.edu. We ask that requests be made at least one week in advance to help ensure they can be met.
URL:https://futurefaculty.cornell.edu/event/research-statements-for-research-intensive-universities-a-panel-discussion/
LOCATION:Zoom
CATEGORIES:Future Faculty and Academic Careers
ATTACH;FMTTYPE=image/png:https://futurefaculty.cornell.edu/wp-content/uploads/2020/07/R1-Research-Statements-small-2-eUKUxa.tmp_.png
END:VEVENT
BEGIN:VEVENT
DTSTART;TZID=America/New_York:20200715T150000
DTEND;TZID=America/New_York:20200715T160000
DTSTAMP:20260421T144253
CREATED:20200605T213229Z
LAST-MODIFIED:20221003T200303Z
UID:10002170-1594825200-1594828800@futurefaculty.cornell.edu
SUMMARY:Writing and Publishing Workshop Series – Identifying Publishers\, Signing a Contract\, and Publishing Your Book
DESCRIPTION:Planning to revise your dissertation into a book manuscript and submitting it to a university or other press for publication? Want some advice (and encouragement) about finding a publisher\, signing a contract\, and whether you need an agent (the answer is “no\,” but we’ll discuss what an agent can help you do). Join us to discuss these topics and any other questions you have about working with editors and agents. \nRegister Here \nAccommodations: We strive to make our events accessible to all community members.  Individuals who would like to request accessibility accommodations should contact mrs32@cornell.edu.  We ask that requests be made at least one week in advance to help ensure they can be met. \n 
URL:https://futurefaculty.cornell.edu/event/nature-masterclass-identifying-publishers-signing-a-contract-and-publishing-your-book/
CATEGORIES:Future Faculty and Academic Careers
END:VEVENT
BEGIN:VEVENT
DTSTART;TZID=America/New_York:20200717T120000
DTEND;TZID=America/New_York:20200717T130000
DTSTAMP:20260421T144253
CREATED:20200611T214349Z
LAST-MODIFIED:20221003T200303Z
UID:10002180-1594987200-1594990800@futurefaculty.cornell.edu
SUMMARY:Beyond the Professoriate: Making the Most of Graduate School
DESCRIPTION:Are you just starting your PhD? Or are you in your first few years and Covid-19 has drastically chanced your graduate school experience? Are you trying to get back into a groove and continue your research now that things have changed? Join faculty and recent graduates in this panel on making the most of graduate school as we head into a new (and different) academic year. \nAfter attending this webinar\, you will be able to:\n-Develop a strategy to prevent feeling overwhelmed.\n-Develop effective project management strategies.\n-Create a plan for continuing professional development and planning for various career paths.
URL:https://futurefaculty.cornell.edu/event/beyond-the-professoriate-making-the-most-of-graduate-school/
LOCATION:Webinar
CATEGORIES:Future Faculty and Academic Careers
END:VEVENT
BEGIN:VEVENT
DTSTART;TZID=America/New_York:20200722T120000
DTEND;TZID=America/New_York:20200722T131500
DTSTAMP:20260421T144253
CREATED:20200713T233848Z
LAST-MODIFIED:20221003T200300Z
UID:10001835-1595419200-1595423700@futurefaculty.cornell.edu
SUMMARY:Developing a Narrative for Your Teaching Statement
DESCRIPTION:Through presentation and discussion\, we will explore essential elements of a teaching statement for an academic job application. You’ll leave prepared to start your first draft Teaching Statement or to revise an existing one to make sure it accurately reflects your beliefs and experience. Presenters: Dr. Derina Samuel\, Associate Director for Graduate Student Development\, Center for Teaching Innovation\, and Dr. Colleen McLinn\, Executive Director of Future Faculty and Academic Careers\, Cornell Graduate School. \n\nPlease note earlier start time this week. Pre-registration is required in order to receive the link to participate via Zoom.  \nCo-sponsored by the Center for Teaching Innovation\, Future Faculty and Academic Careers\, the Office of Postdoctoral Studies\, as part of the Graduate School’s Academic Job Search Series. \nAccommodations: We strive to make our events accessible to all Cornell community members. Individuals who have accessibility accommodations to request should contact futurefaculty@cornell.edu. We ask that requests be made at least one week in advance to help ensure they can be met.
URL:https://futurefaculty.cornell.edu/event/developing-a-narrative-for-your-teaching-statement/
LOCATION:Zoom
CATEGORIES:Future Faculty and Academic Careers
ATTACH;FMTTYPE=image/jpeg:https://futurefaculty.cornell.edu/wp-content/uploads/2019/06/IMG_1300.jpeg
ORGANIZER;CN="Future Faculty and Academic Careers":MAILTO:futurefaculty@cornell.edu
END:VEVENT
BEGIN:VEVENT
DTSTART;TZID=America/New_York:20200727T140000
DTEND;TZID=America/New_York:20200727T150000
DTSTAMP:20260421T144253
CREATED:20200629T224602Z
LAST-MODIFIED:20221010T224601Z
UID:10002191-1595858400-1595862000@futurefaculty.cornell.edu
SUMMARY:Job Search Virtual Monthly Chat
DESCRIPTION:We are entering month 5 of working remotely with some labs gradually reopening. Everything has changed a lot\, especially on the job front. The Job Search Virtual Monthly Chat is designed to get job seekers together to talk about concerns that graduate students and postdocs share\, and strategize about how to move forward. Each session will begin with a brief introduction that includes tips\, perspectives\, and thoughts from staff who support career exploration. After this information is shared\, participants will have the opportunity to ask questions they have and share best practices that work for them. We want to create a safe space for everyone to talk and listen. Please come join us and hear from each other! \nDate & Time: Monday\, July 27 from 2:00 pm – 3:00 pm ET\nLocation: Zoom link to be provided upon registration\nFacilitators: Christine Holmes\, Postdoctoral Studies Director\, Caleb Yu\, Graduate and International Student Career Advisor\, Colleen McLinn\, Executive Director of Future Faculty and Academic Careers\, Denise DiRienzo\, Experiential Program Director of Careers Beyond Academia\, Susi Varvayanis\, Executive Director of Careers Beyond Academia \nAccommodations: We strive to make our events accessible to all community members.  Individuals who would like to request accessibility accommodations should contact ry274@cornell.edu.  We ask that requests be made at least one week in advance to help ensure they can be met.
URL:https://futurefaculty.cornell.edu/event/job-search-virtual-monthly-chat-2/
LOCATION:Zoom
CATEGORIES:Careers Beyond Academia,Future Faculty and Academic Careers
ATTACH;FMTTYPE=image/png:https://futurefaculty.cornell.edu/wp-content/uploads/2020/05/Screen-Shot-2020-05-01-at-12.00.46-PM-copy-1-e8S1iy.tmp_.png
END:VEVENT
BEGIN:VEVENT
DTSTART;TZID=America/New_York:20200729T123000
DTEND;TZID=America/New_York:20200729T133000
DTSTAMP:20260421T144253
CREATED:20200714T234934Z
LAST-MODIFIED:20221003T200300Z
UID:10001837-1596025800-1596029400@futurefaculty.cornell.edu
SUMMARY:Approaches to Diversity Statements
DESCRIPTION:Come discuss how to approach writing the diversity statement sometimes requested as part of faculty or postdoctoral job applications. We will share examples and guidance from Cornell and other colleges and universities. \nDiscussion Moderators: Christine Holmes\, Director of Postdoctoral Studies\, and Colleen McLinn\, Executive Director\, Future Faculty and Academic Careers \nPre-registration is required in order to receive the link to participate via Zoom. Register at: https://bit.ly/DS2RSVP  \nCo-sponsored by the Office of Postdoctoral Studies and Future Faculty and Academic Careers\, as part of the Graduate School’s Academic Job Search Series. \nAccommodations: We strive to make our events accessible to all community members. Individuals who would like to request accessibility accommodations should contact  futurefaculty@cornell.edu. We ask that requests be made at least one week in advance to help ensure they can be met.
URL:https://futurefaculty.cornell.edu/event/approaches-to-diversity-statements/
LOCATION:Zoom
CATEGORIES:Future Faculty and Academic Careers
ATTACH;FMTTYPE=image/jpeg:https://futurefaculty.cornell.edu/wp-content/uploads/2020/07/Photo_2016_0831_012_select-BOZjEN.tmp_.jpg
END:VEVENT
BEGIN:VEVENT
DTSTART;TZID=America/New_York:20200730T160000
DTEND;TZID=America/New_York:20200730T170000
DTSTAMP:20260421T144253
CREATED:20200721T000442Z
LAST-MODIFIED:20221010T224601Z
UID:10001839-1596124800-1596128400@futurefaculty.cornell.edu
SUMMARY:How to Turn Your Research Into an Elevator Pitch (And What’s an Elevator Pitch?)
DESCRIPTION:Join this workshop to learn tips and discuss how to succinctly sum up your research for multiple audiences\, practice your pitch in small groups\, and capture phrasing for different audiences. 
URL:https://futurefaculty.cornell.edu/event/how-to-turn-your-research-into-an-elevator-pitch-and-whats-an-elevator-pitch/
LOCATION:Zoom
CATEGORIES:Careers Beyond Academia,Future Faculty and Academic Careers
END:VEVENT
END:VCALENDAR