BEGIN:VCALENDAR
VERSION:2.0
PRODID:-//Future Faculty and Academic Careers - ECPv6.15.17.1//NONSGML v1.0//EN
CALSCALE:GREGORIAN
METHOD:PUBLISH
X-WR-CALNAME:Future Faculty and Academic Careers
X-ORIGINAL-URL:https://futurefaculty.cornell.edu
X-WR-CALDESC:Events for Future Faculty and Academic Careers
REFRESH-INTERVAL;VALUE=DURATION:PT1H
X-Robots-Tag:noindex
X-PUBLISHED-TTL:PT1H
BEGIN:VTIMEZONE
TZID:America/New_York
BEGIN:DAYLIGHT
TZOFFSETFROM:-0500
TZOFFSETTO:-0400
TZNAME:EDT
DTSTART:20190310T070000
END:DAYLIGHT
BEGIN:STANDARD
TZOFFSETFROM:-0400
TZOFFSETTO:-0500
TZNAME:EST
DTSTART:20191103T060000
END:STANDARD
BEGIN:DAYLIGHT
TZOFFSETFROM:-0500
TZOFFSETTO:-0400
TZNAME:EDT
DTSTART:20200308T070000
END:DAYLIGHT
BEGIN:STANDARD
TZOFFSETFROM:-0400
TZOFFSETTO:-0500
TZNAME:EST
DTSTART:20201101T060000
END:STANDARD
BEGIN:DAYLIGHT
TZOFFSETFROM:-0500
TZOFFSETTO:-0400
TZNAME:EDT
DTSTART:20210314T070000
END:DAYLIGHT
BEGIN:STANDARD
TZOFFSETFROM:-0400
TZOFFSETTO:-0500
TZNAME:EST
DTSTART:20211107T060000
END:STANDARD
END:VTIMEZONE
BEGIN:VEVENT
DTSTART;TZID=America/New_York:20200810T160000
DTEND;TZID=America/New_York:20200810T170000
DTSTAMP:20260421T125708
CREATED:20200709T234939Z
LAST-MODIFIED:20221003T200301Z
UID:10001825-1597075200-1597078800@futurefaculty.cornell.edu
SUMMARY:Transitions Series: Get the Mentoring You Need and Want
DESCRIPTION:As part of a continued orientation experience for incoming graduate and professional students\, the Graduate School sponsors a special seminar series for first-year graduate and professional students. The purpose of Transitions is for students to gain valuable information and skills to make a successful transition into the role of a Cornell graduate or professional student.  \nGet the Mentoring You Need and Want\nMonday\, August 10 at 4:00 pm & Wednesday\, September 9 at 10:00 am\nMentoring is the most critical relationship for a graduate student. Mentoring begins with understanding what mentoring is and what you hope to get out of the relationship. Through interactive discussion and case studies\, we will discuss how to establish a positive relationship and communicate effectively with your mentors. \nPresenters: Colleen McLinn\, Executive Director for Future Faculty and Academic Careers\, and Sara Xayarath Hernández\, Associate Dean for Inclusion & Student Engagement\, Graduate School
URL:https://futurefaculty.cornell.edu/event/transitions-series-get-the-mentoring-you-need-and-want/
LOCATION:Zoom
CATEGORIES:Future Faculty and Academic Careers
END:VEVENT
BEGIN:VEVENT
DTSTART;TZID=America/New_York:20200813T110000
DTEND;TZID=America/New_York:20200813T120000
DTSTAMP:20260421T125708
CREATED:20200722T000811Z
LAST-MODIFIED:20221010T224601Z
UID:10002194-1597316400-1597320000@futurefaculty.cornell.edu
SUMMARY:International Student / Postdoc Job Search Discussion
DESCRIPTION:This is the last Job Search Virtual Monthly Chat specific to international student issues for the summer. Things are moving a lot on the job search side as well as the immigration side. The Job Search Virtual Monthly Chat is designed to get job seekers together to talk about concerns that graduate students and postdocs share\, and strategize about how to move forward.\n \nEach session will begin with a brief introduction that includes tips\, perspectives\, and thoughts from staff who support career exploration. After this information is shared\, participants will have the opportunity to ask questions they have and share best practices that work for them. We want to create a safe space for everyone to talk and listen. Please come join us and hear from each other!\n \nOur experts in careers and/or immigration include: \n\nCaleb Yu\, Graduate and International Student Career Advisor\nChristine Holmes\, Director of Postdoctoral Studies\nColleen McLinn\, Executive Director for Future Faculty and Academic Careers\nDenise DiRienzo\, Experiential Program Director for Careers Beyond Academia\nElizabeth Shedd\, Senior Immigration Advisor\, Office of Global Learning\nSusi Varvayanis\, Executive Director of Careers Beyond Academia\n\nAccommodations: We strive to make our events accessible to all community members. Individuals who would like to request accessibility accommodations should contact ry274@cornell.edu. We ask that requests be made at least one week in advance to help ensure they can be met.\n \nMeets by Zoom (link to be sent when registered)
URL:https://futurefaculty.cornell.edu/event/international-student-postdoc-job-search-discussion-4/
LOCATION:Zoom
CATEGORIES:Careers Beyond Academia,Future Faculty and Academic Careers
ATTACH;FMTTYPE=image/jpeg:https://futurefaculty.cornell.edu/wp-content/uploads/2020/05/0410_globe_TND-87jKzD.tmp_.jpg
END:VEVENT
BEGIN:VEVENT
DTSTART;TZID=America/New_York:20200813T140000
DTEND;TZID=America/New_York:20200813T153000
DTSTAMP:20260421T125708
CREATED:20200611T214350Z
LAST-MODIFIED:20221003T200303Z
UID:10002182-1597327200-1597332600@futurefaculty.cornell.edu
SUMMARY:NCFDD: Cultivating Your Network of Mentors\, Sponsors & Collaborators
DESCRIPTION:Do you have a reliable and strong network of mentors?\nAre you struggling to cultivate mentoring relationships?\nDo you know the difference between a mentor and a sponsor?\nAre you moving to a new stage of your career and wondering how to find new mentors and sponsors that are appropriate to the next level?\n\nIf so\, join us for a webinar that will help you: \n\nMap your current mentoring network\nIdentify your unmet needs\nPlan how to expand your existing network to meet your current needs\n\nFree Individual Memberships for the National Center for Faculty Development & Diversity (NCFDD)\nAvailable to all Cornell students\, postdocs\, faculty\, and staff \n \nCornell is an institutional member of the National Center for Faculty Development & Diversity (NCFDD)\, a nationally recognized\, independent organization providing online career development and mentoring resources. The NCFDD provides members with access to tools to increase research and writing productivity and improve work-life balance. \nActivate your account by following the steps below: \n\nGo to the NCFDD website\nUnder “Select Your Institution\,” choose “Cornell University”\nSelect “Activate my Membership”\nComplete the registration form using your Cornell email address\nCheck your Cornell email account to find a confirmation/welcome email. Click “Activate Account” in the email
URL:https://futurefaculty.cornell.edu/event/ncfdd-cultivating-your-network-of-mentors-sponsors-collaborators/
LOCATION:Webinar
CATEGORIES:Future Faculty and Academic Careers
ATTACH;FMTTYPE=image/jpeg:https://futurefaculty.cornell.edu/wp-content/uploads/2020/02/ncfdd_200x.jpg
END:VEVENT
BEGIN:VEVENT
DTSTART;TZID=America/New_York:20200817T110000
DTEND;TZID=America/New_York:20200817T120000
DTSTAMP:20260421T125708
CREATED:20200811T193539Z
LAST-MODIFIED:20221010T224601Z
UID:10002195-1597662000-1597665600@futurefaculty.cornell.edu
SUMMARY:Job Search Virtual Monthly Chat
DESCRIPTION:This is the last Job Search Virtual Monthly Chat in the summer. If you have more questions about the job search as graduate students or postdocs\, please do not hesitate to reach out to us. The Job Search Virtual Monthly Chat is designed to get job seekers together to talk about concerns that graduate students and postdocs share\, and strategize about how to move forward. Each session will begin with a brief introduction that includes tips\, perspectives\, and thoughts from staff who support career exploration. After this information is shared\, participants will have the opportunity to ask questions they have and share best practices that work for them. We want to create a safe space for everyone to talk and listen. Please come join us and hear from each other! \nDate & Time: Monday\, August 17 from 11:00 am – 12:00 pm ET\nLocation: Zoom link to be provided upon registration\nFacilitators: Christine Holmes\, Postdoctoral Studies Director\, Caleb Yu\, Graduate and International Student Career Advisor\, Colleen McLinn\, Executive Director of Future Faculty and Academic Careers\, Denise DiRienzo\, Experiential Program Director of Careers Beyond Academia\, Susi Varvayanis\, Executive Director of Careers Beyond Academia \nAccommodations: We strive to make our events accessible to all community members.  Individuals who would like to request accessibility accommodations should contact ry274@cornell.edu.  We ask that requests be made at least one week in advance to help ensure they can be met.
URL:https://futurefaculty.cornell.edu/event/job-search-virtual-monthly-chat-3/
LOCATION:Zoom
CATEGORIES:Careers Beyond Academia,Future Faculty and Academic Careers
ATTACH;FMTTYPE=image/png:https://futurefaculty.cornell.edu/wp-content/uploads/2020/08/Screen-Shot-2020-05-01-at-12.00.46-PM-copy-1-822x313-1-e1597171616620-QPtlV2.tmp_.png
END:VEVENT
BEGIN:VEVENT
DTSTART;TZID=America/New_York:20200818T123000
DTEND;TZID=America/New_York:20200818T140000
DTSTAMP:20260421T125708
CREATED:20200709T235001Z
LAST-MODIFIED:20221003T200301Z
UID:10001827-1597753800-1597759200@futurefaculty.cornell.edu
SUMMARY:Summer Success Symposium: Activate your Network – Developing Professional Mentor Relationships
DESCRIPTION:The Summer Success Symposium is a professional and community development event for new and continuing M.S./Ph.D. and Ph.D. students from across all graduate fields who identify as belonging to groups historically underrepresented in graduate education. The symposium has a particular focus on bringing together recipients of graduate fellowships in support of diversity as well as all other doctoral scholars who identify as BIPOC (Black\, Indigenous\, and other People of Color)\, first generation college (FGC) students\, and/or who identify with other historically underrepresented groups such as LGBTQQ+ identified students\, Veterans\, students with disabilities\, women in STEM\, students with DACA status\,and others. Research master’s degree students and other master’s degree students interested in pursuing doctoral studies are also welcome to this event. \nThrough this symposium\, participants have the opportunity to form connections and establish community. This symposium also provides participants with the opportunity to engage with successful Cornell alumni\, faculty\, and professionals with shared experiences as diverse scholars. Summer Success Symposium keynote and workshop content focuses on providing participants with access to knowledge and insights that will help them navigate their successful transition to and progression in their graduate studies. \nActivate your Network: Developing Professional Mentor Relationships\nHaving a network of people you can reach out to is important. But ensuring that you have the right people whose experiences and wisdom can guide you on your path to success is even more important.  Mentors can not only help to take your career to the next level\, but are also helpful when it comes to navigating difficult decisions. \nPresenter: Malika Grayson\, ’14 M.S.\, ’16 Ph.D.\, Mechanical Engineering \nEvent Sponsors\nGraduate School Office of Inclusion & Student Engagement\, Diversity Programs in Engineering\, and the Cornell Chapter of the Bouchet Graduate Honor Society \nThis event is also supported by the National Science Foundation under Grant No.1647094 (AGEP CIRTL) and a subcontract under Grant No. 1231286 (Cornell AGEP). Any opinions\, findings\, and conclusions or recommendations expressed in this material are those of the authors and do not necessarily reflect the views of the National Science Foundation. \nThis program was modeled in part after PROMISE: Maryland’s AGEP Summer Success Institute.
URL:https://futurefaculty.cornell.edu/event/summer-success-series-activate-your-network-developing-professional-mentor-relationships/
CATEGORIES:Future Faculty and Academic Careers
ATTACH;FMTTYPE=image/jpeg:https://futurefaculty.cornell.edu/wp-content/uploads/2020/08/Malika-scaled-CvP0pu.tmp_.jpg
END:VEVENT
BEGIN:VEVENT
DTSTART;TZID=America/New_York:20200818T140000
DTEND;TZID=America/New_York:20200818T150000
DTSTAMP:20260421T125708
CREATED:20200811T194837Z
LAST-MODIFIED:20221003T200259Z
UID:10002196-1597759200-1597762800@futurefaculty.cornell.edu
SUMMARY:NCFDD: Developing Anti-Oppressive Communities: Supporting Black Students and Mentees
DESCRIPTION:In this Guest Expert Webinar by Wanda Swan\, Founder of Swan Center for Advocacy and Research\, participants will learn strategies for identifying and combatting anti-black racism in classrooms\, how to most effectively support black students and colleagues\, and how to proactively contribute to diverse and inclusive campus communities. \nFree Individual Memberships for the National Center for Faculty Development & Diversity (NCFDD)\nAvailable to all Cornell students\, postdocs\, faculty\, and staff \n \nCornell is an institutional member of the National Center for Faculty Development & Diversity (NCFDD)\, a nationally recognized\, independent organization providing online career development and mentoring resources. The NCFDD provides members with access to tools to increase research and writing productivity and improve work-life balance. \nActivate your account by following the steps below: \n\nGo to the NCFDD website\nUnder “Select Your Institution\,” choose “Cornell University”\nSelect “Activate my Membership”\nComplete the registration form using your Cornell email address\nCheck your Cornell email account to find a confirmation/welcome email. Click “Activate Account” in the email
URL:https://futurefaculty.cornell.edu/event/ncfdd-developing-anti-oppressive-communities-supporting-black-students-and-mentees/
LOCATION:Webinar
CATEGORIES:Future Faculty and Academic Careers
ATTACH;FMTTYPE=image/jpeg:https://futurefaculty.cornell.edu/wp-content/uploads/2020/02/ncfdd_200x.jpg
END:VEVENT
BEGIN:VEVENT
DTSTART;TZID=America/New_York:20200819T123000
DTEND;TZID=America/New_York:20200819T140000
DTSTAMP:20260421T125708
CREATED:20200709T235001Z
LAST-MODIFIED:20221003T200301Z
UID:10001829-1597840200-1597845600@futurefaculty.cornell.edu
SUMMARY:Summer Success Symposium: Long Term Negotiations For (Professional) Relationships
DESCRIPTION:The Summer Success Symposium is a professional and community development event for new and continuing M.S./Ph.D. and Ph.D. students from across all graduate fields who identify as belonging to groups historically underrepresented in graduate education. The symposium has a particular focus on bringing together recipients of graduate fellowships in support of diversity as well as all other doctoral scholars who identify as BIPOC (Black\, Indigenous\, and other People of Color)\, first generation college (FGC) students\, and/or who identify with other historically underrepresented groups such as LGBTQQ+ identified students\, Veterans\, students with disabilities\, women in STEM\, students with DACA status\,and others. Research master’s degree students and other master’s degree students interested in pursuing doctoral studies are also welcome to this event. \nThrough this symposium\, participants have the opportunity to form connections and establish community. This symposium also provides participants with the opportunity to engage with successful Cornell alumni\, faculty\, and professionals with shared experiences as diverse scholars. Summer Success Symposium keynote and workshop content focuses on providing participants with access to knowledge and insights that will help them navigate their successful transition to and progression in their graduate studies. \n  \nLong Term Negotiations For (Professional) Relationships\nThis workshop will focus on negotiating with colleagues\, as well as those responsible for your current & future career trajectory.  We will use a case study approach and practice at least two different negotiating scenarios.  We will discuss best practices as well as discuss our hesitancies in negotiating.  Further we will point out our lack of ability to identify and engage in a negotiating opportunities. \nPresenter: Marcus Brooks\, M.B.A.\n \n\nEvent Sponsors\nGraduate School Office of Inclusion & Student Engagement\, Diversity Programs in Engineering\, and the Cornell Chapter of the Bouchet Graduate Honor Society \nThis event is also supported by the National Science Foundation under Grant No.1647094 (AGEP CIRTL) and a subcontract under Grant No. 1231286 (Cornell AGEP). Any opinions\, findings\, and conclusions or recommendations expressed in this material are those of the authors and do not necessarily reflect the views of the National Science Foundation. \nThis program was modeled in part after PROMISE: Maryland’s AGEP Summer Success Institute.
URL:https://futurefaculty.cornell.edu/event/summer-success-series-long-term-negotiations-for-professional-relationships/
LOCATION:Zoom
CATEGORIES:Future Faculty and Academic Careers
ATTACH;FMTTYPE=image/jpeg:https://futurefaculty.cornell.edu/wp-content/uploads/2020/08/Marcus-Opening-e1594759469804-drUVDd.tmp_.jpg
END:VEVENT
BEGIN:VEVENT
DTSTART;TZID=America/New_York:20200820T123000
DTEND;TZID=America/New_York:20200820T140000
DTSTAMP:20260421T125708
CREATED:20200709T235115Z
LAST-MODIFIED:20221003T200301Z
UID:10001831-1597926600-1597932000@futurefaculty.cornell.edu
SUMMARY:Summer Success Symposium: Mastering Your Transition Into and Progression Through Graduate School
DESCRIPTION:The Summer Success Symposium is a professional and community development event for new and continuing M.S./Ph.D. and Ph.D. students from across all graduate fields who identify as belonging to groups historically underrepresented in graduate education. The symposium has a particular focus on bringing together recipients of graduate fellowships in support of diversity as well as all other doctoral scholars who identify as BIPOC (Black\, Indigenous\, and other People of Color)\, first generation college (FGC) students\, and/or who identify with other historically underrepresented groups such as LGBTQQ+ identified students\, Veterans\, students with disabilities\, women in STEM\, students with DACA status\,and others. Research master’s degree students and other master’s degree students interested in pursuing doctoral studies are also welcome to this event. \nThrough this symposium\, participants have the opportunity to form connections and establish community. This symposium also provides participants with the opportunity to engage with successful Cornell alumni\, faculty\, and professionals with shared experiences as diverse scholars. Summer Success Symposium keynote and workshop content focuses on providing participants with access to knowledge and insights that will help them navigate their successful transition to and progression in their graduate studies. \n  \nMastering Your Transition Into and Progression Through Graduate School \nContinuing PhD students will discuss their strategies for making a successful transition to graduate school\, and their experiences navigating their ongoing progression\n \n\nPanelists:  \n\nMikaela Spruill- PhD Student\, Psychology (moderator)\nChristopher Berardino- PhD Candidate\, English\nAndrea Darby- PhD Student\, Entomology\nKelly Murray- PhD Candidate\, Biochemistry\, Molecular & Cell Biology\nMarguerite Pacheco- PhD Student\, Biomedical Engineering\n\n\n \n\nEvent Sponsors\nGraduate School Office of Inclusion & Student Engagement\, Diversity Programs in Engineering\, and the Cornell Chapter of the Bouchet Graduate Honor Society \nThis event is also supported by the National Science Foundation under Grant No.1647094 (AGEP CIRTL) and a subcontract under Grant No. 1231286 (Cornell AGEP). Any opinions\, findings\, and conclusions or recommendations expressed in this material are those of the authors and do not necessarily reflect the views of the National Science Foundation. \nThis program was modeled in part after PROMISE: Maryland’s AGEP Summer Success Institute.
URL:https://futurefaculty.cornell.edu/event/summer-success-series-mastering-your-transition-into-and-profession-through-graduate-school/
LOCATION:Zoom
CATEGORIES:Future Faculty and Academic Careers
END:VEVENT
BEGIN:VEVENT
DTSTART;TZID=America/New_York:20200825T140000
DTEND;TZID=America/New_York:20200825T150000
DTSTAMP:20260421T125708
CREATED:20200811T194839Z
LAST-MODIFIED:20221003T200259Z
UID:10002197-1598364000-1598367600@futurefaculty.cornell.edu
SUMMARY:NCFDD: Creating an Inclusive Classroom: Students with Disabilities
DESCRIPTION:In this Guest Expert Webinar by Dr. Sara Schley\, Professor at Rochester Institute of Technology\, participants will learn high impact plus-one strategies to make courses more inclusive without redesigning them entirely. \nFree Individual Memberships for the National Center for Faculty Development & Diversity (NCFDD)\nAvailable to all Cornell students\, postdocs\, faculty\, and staff \n \nCornell is an institutional member of the National Center for Faculty Development & Diversity (NCFDD)\, a nationally recognized\, independent organization providing online career development and mentoring resources. The NCFDD provides members with access to tools to increase research and writing productivity and improve work-life balance. \nActivate your account by following the steps below: \n\nGo to the NCFDD website\nUnder “Select Your Institution\,” choose “Cornell University”\nSelect “Activate my Membership”\nComplete the registration form using your Cornell email address\nCheck your Cornell email account to find a confirmation/welcome email. Click “Activate Account” in the email
URL:https://futurefaculty.cornell.edu/event/ncfdd-creating-an-inclusive-classroom-students-with-disabilities/
LOCATION:Webinar
CATEGORIES:Future Faculty and Academic Careers
ATTACH;FMTTYPE=image/jpeg:https://futurefaculty.cornell.edu/wp-content/uploads/2020/02/ncfdd_200x.jpg
END:VEVENT
END:VCALENDAR