BEGIN:VCALENDAR
VERSION:2.0
PRODID:-//Future Faculty and Academic Careers - ECPv6.15.17.1//NONSGML v1.0//EN
CALSCALE:GREGORIAN
METHOD:PUBLISH
X-WR-CALNAME:Future Faculty and Academic Careers
X-ORIGINAL-URL:https://futurefaculty.cornell.edu
X-WR-CALDESC:Events for Future Faculty and Academic Careers
REFRESH-INTERVAL;VALUE=DURATION:PT1H
X-Robots-Tag:noindex
X-PUBLISHED-TTL:PT1H
BEGIN:VTIMEZONE
TZID:America/New_York
BEGIN:DAYLIGHT
TZOFFSETFROM:-0500
TZOFFSETTO:-0400
TZNAME:EDT
DTSTART:20200308T070000
END:DAYLIGHT
BEGIN:STANDARD
TZOFFSETFROM:-0400
TZOFFSETTO:-0500
TZNAME:EST
DTSTART:20201101T060000
END:STANDARD
BEGIN:DAYLIGHT
TZOFFSETFROM:-0500
TZOFFSETTO:-0400
TZNAME:EDT
DTSTART:20210314T070000
END:DAYLIGHT
BEGIN:STANDARD
TZOFFSETFROM:-0400
TZOFFSETTO:-0500
TZNAME:EST
DTSTART:20211107T060000
END:STANDARD
BEGIN:DAYLIGHT
TZOFFSETFROM:-0500
TZOFFSETTO:-0400
TZNAME:EDT
DTSTART:20220313T070000
END:DAYLIGHT
BEGIN:STANDARD
TZOFFSETFROM:-0400
TZOFFSETTO:-0500
TZNAME:EST
DTSTART:20221106T060000
END:STANDARD
END:VTIMEZONE
BEGIN:VEVENT
DTSTART;TZID=America/New_York:20211207T160000
DTEND;TZID=America/New_York:20211207T173000
DTSTAMP:20260420T085322
CREATED:20211201T215422Z
LAST-MODIFIED:20221003T200233Z
UID:10002281-1638892800-1638898200@futurefaculty.cornell.edu
SUMMARY:NextGen Professors: December Workshop
DESCRIPTION:NextGen Professors is a career-development program focused on preparing Cornell doctoral students and postdocs for faculty careers across institutional types. The primary audience for this program is doctoral students (in year 3 or beyond) and postdocs from backgrounds historically underrepresented in the professoriate\, and/or those with a demonstrated commitment to advancing diversity\, inclusion\, access and equity in the academy. Participants accepted to this selective\, application-based program are members of a cohort who together engage in series of professional and career development activities including monthly NextGen Professors cohort meetings\, Power Mentoring Sessions with faculty\, and the biennial Future Professors Institute. Participants also engage in the future faculty development programming from the Graduate School’s Future Faculty and Academic Careers office. \nDecember Workshop Topic: Creating Community Across Difference (with Intergroup Dialogue Project facilitators) \nLocation: TBA to program participants \nThis is an invitation-only event for applicants who have been accepted to participate in this year’s NextGen Professors cohort. \nPlease contact Graduate School Associate Dean for Inclusion & Student Engagement Sara Xayarath Hernández (sh267@cornell.edu) or Future Faculty and Academic Careers Executive Director Colleen McLinn (cmm252@cornell.edu) with questions about this opportunity.
URL:https://futurefaculty.cornell.edu/event/nextgen-professors-december-workshop/
LOCATION:Zoom
CATEGORIES:Future Faculty and Academic Careers
ATTACH;FMTTYPE=image/jpeg:https://futurefaculty.cornell.edu/wp-content/uploads/2019/01/IMG_1044_select.jpeg
END:VEVENT
BEGIN:VEVENT
DTSTART;TZID=America/New_York:20211213T120000
DTEND;TZID=America/New_York:20211213T170000
DTSTAMP:20260420T085322
CREATED:20211203T191433Z
LAST-MODIFIED:20221003T200233Z
UID:10002284-1639396800-1639414800@futurefaculty.cornell.edu
SUMMARY:CIRTL Network: Registration for Spring Courses and Workshops
DESCRIPTION:Pre-registration opens for Spring 2022 CIRTL Network courses and workshops on Monday\, December 13 at noon ET\, including Research Mentor Training\, a postdoc teaching practicum\, and workshops on disrupting bullying and teaching statements. Register as early as possible for the best chance of getting into space-limited programs. Spring 2022 programming preview \nEvents and massive open online courses (MOOCs) have greater capacity and will stay open for registration longer.
URL:https://futurefaculty.cornell.edu/event/registration-for-spring-cirtl-network-courses/
LOCATION:Online
CATEGORIES:Future Faculty and Academic Careers
ATTACH;FMTTYPE=image/png:https://futurefaculty.cornell.edu/wp-content/uploads/2018/12/MOOC-2-Images-Module-3.png
ORGANIZER;CN="CIRTL Network":MAILTO:info@cirtl.net
END:VEVENT
BEGIN:VEVENT
DTSTART;TZID=America/New_York:20211217T130000
DTEND;TZID=America/New_York:20211217T143000
DTSTAMP:20260420T085322
CREATED:20211203T192024Z
LAST-MODIFIED:20221003T200233Z
UID:10002285-1639746000-1639751400@futurefaculty.cornell.edu
SUMMARY:CIRTL Network: Information Session for Postdoc Practicum
DESCRIPTION:Considering taking the CIRTL Network’s Postdoc Practicum in the spring? Come to this information session to learn more about what the practicum entails\, what’s expected of participants\, and how to find a mentor to help support your work throughout the term. Register through CIRTL website
URL:https://futurefaculty.cornell.edu/event/cirtl-network-information-session-for-postdoc-practicum/
LOCATION:Zoom
CATEGORIES:Future Faculty and Academic Careers
ATTACH;FMTTYPE=image/jpeg:https://futurefaculty.cornell.edu/wp-content/uploads/2019/05/IMG_1756.jpg
ORGANIZER;CN="CIRTL Network":MAILTO:info@cirtl.net
END:VEVENT
END:VCALENDAR