BEGIN:VCALENDAR
VERSION:2.0
PRODID:-//Future Faculty and Academic Careers - ECPv6.15.20//NONSGML v1.0//EN
CALSCALE:GREGORIAN
METHOD:PUBLISH
X-ORIGINAL-URL:https://futurefaculty.cornell.edu
X-WR-CALDESC:Events for Future Faculty and Academic Careers
REFRESH-INTERVAL;VALUE=DURATION:PT1H
X-Robots-Tag:noindex
X-PUBLISHED-TTL:PT1H
BEGIN:VTIMEZONE
TZID:America/New_York
BEGIN:DAYLIGHT
TZOFFSETFROM:-0500
TZOFFSETTO:-0400
TZNAME:EDT
DTSTART:20170312T070000
END:DAYLIGHT
BEGIN:STANDARD
TZOFFSETFROM:-0400
TZOFFSETTO:-0500
TZNAME:EST
DTSTART:20171105T060000
END:STANDARD
BEGIN:DAYLIGHT
TZOFFSETFROM:-0500
TZOFFSETTO:-0400
TZNAME:EDT
DTSTART:20180311T070000
END:DAYLIGHT
BEGIN:STANDARD
TZOFFSETFROM:-0400
TZOFFSETTO:-0500
TZNAME:EST
DTSTART:20181104T060000
END:STANDARD
BEGIN:DAYLIGHT
TZOFFSETFROM:-0500
TZOFFSETTO:-0400
TZNAME:EDT
DTSTART:20190310T070000
END:DAYLIGHT
BEGIN:STANDARD
TZOFFSETFROM:-0400
TZOFFSETTO:-0500
TZNAME:EST
DTSTART:20191103T060000
END:STANDARD
END:VTIMEZONE
BEGIN:VEVENT
DTSTART;TZID=America/New_York:20180917T170000
DTEND;TZID=America/New_York:20180917T190000
DTSTAMP:20260423T064612
CREATED:20180913T193403Z
LAST-MODIFIED:20221003T200316Z
UID:10002021-1537203600-1537210800@futurefaculty.cornell.edu
SUMMARY:Postdoc Pizza Party and Awards Reception
DESCRIPTION:Featuring official announcement of the Postdoc Achievement Award winners!\nTo kick off National Postdoc Appreciation Week\, please join us for a relaxed social event and award ceremony honoring the winners of the Inaugural Postdoc Achievement Awards. We will serve pizza\, cake\, and other refreshments in a kid-friendly setting. Cornell postdocs and their families are especially invited\, whether new or returning\, and award nominators and other well-wishers are encouraged to attend this gathering. \nMonday\, September 17\, 2018 from 5:00-7:00 pm \nThe Big Red Barn \nRSVP to Christine Holmes\, Director of Postdoctoral Studies at: postdocs@cornell.edu
URL:https://futurefaculty.cornell.edu/event/postdoc-pizza-party-and-awards-reception/
LOCATION:The Big Red Barn\, Big Red Barn\, Sciences Drive\, Ithaca\, NY\, 14853\, United States
CATEGORIES:Future Faculty and Academic Careers
ATTACH;FMTTYPE=image/jpeg:https://futurefaculty.cornell.edu/wp-content/uploads/2018/09/BRB-year-end-BBQ-line.jpg
GEO:42.4484227;-76.4810282
X-APPLE-STRUCTURED-LOCATION;VALUE=URI;X-ADDRESS=The Big Red Barn Big Red Barn Sciences Drive Ithaca NY 14853 United States;X-APPLE-RADIUS=500;X-TITLE=Big Red Barn\, Sciences Drive:geo:-76.4810282,42.4484227
END:VEVENT
BEGIN:VEVENT
DTSTART;TZID=America/New_York:20180921T120000
DTEND;TZID=America/New_York:20180921T133000
DTSTAMP:20260423T064612
CREATED:20180808T105836Z
LAST-MODIFIED:20221003T200317Z
UID:10001713-1537531200-1537536600@futurefaculty.cornell.edu
SUMMARY:Job Search Discussion
DESCRIPTION:Are you a postdoc or graduate student going on the academic job market? Come join a monthly lunch discussion with others in the same boat\, facilitated by the Office of Postdoctoral Studies and CIRTL at Cornell. We’re gathering a community of peers to help find advice\, support\, and feedback. Lunch served! RSVP required. Location: B50 Warren Hall. \nPart of the Academic Job Search Series sponsored by CIRTL at Cornell and the Office of Postdoctoral Studies.
URL:https://futurefaculty.cornell.edu/event/job-search-discussion/
LOCATION:Warren Hall\, 137 Reservoir Ave\, Ithaca\, NY\, 14850\, United States
CATEGORIES:Future Faculty and Academic Careers
ATTACH;FMTTYPE=image/jpeg:https://futurefaculty.cornell.edu/wp-content/uploads/2018/08/IMG_9868-1000x400-2.jpg
GEO:42.4491983;-76.4771093
X-APPLE-STRUCTURED-LOCATION;VALUE=URI;X-ADDRESS=Warren Hall 137 Reservoir Ave Ithaca NY 14850 United States;X-APPLE-RADIUS=500;X-TITLE=137 Reservoir Ave:geo:-76.4771093,42.4491983
END:VEVENT
END:VCALENDAR